Workbook

Sheet 情報入力シート
B2: 事業名 | K2: 札幌市農業経営安定強化 | W2: 事業
B3: 年度 | K3: 令和 | M3: 〇 | N3: 年度
B4: 所在地 | K4: 札幌市〇〇区〇〇条〇〇丁目〇〇〇〇
B5: 事業実施主体 | K5: 株式会社〇〇〇〇
B6: 代表者の役職及び氏名 | K6: 代表取締役 〇〇 〇〇

Sheet 様式第１号
A1: 様式第１号
A2: 事業計画書
Y4: =情報入力シート!$K$3 -> 令和 | AA4: 〇 | AB4: 年 | AC4: 〇 | AD4: 月 | AE4: 〇 | AF4: 日 | AJ4: ※初めに「情報入力シート」タブに必要事項を記載してください。
A6: 札幌市長 様
K8: 所 在 地 | T8: =情報入力シート!$K$4 -> 札幌市〇〇区〇〇条〇〇丁目〇〇〇〇
K10: 事 業 実 施 主 体 | T10: =情報入力シート!$K$5 -> 株式会社〇〇〇〇
K11: 代表者の役職及び氏名 | T11: =情報入力シート!$K$6 -> 代表取締役 〇〇 〇〇
A13: =" "&情報入力シート!$K$3&情報入力シート!$M$3&"年度"&情報入力シート!$K$2&"事業の補助金の交付を受けたいので、下記の書類を添えて提出します。" -> 令和〇年度札幌市農業経営安定強化事業の補助金の交付を受けたいので、下記の書類を添えて提出します。
A16: 記
A18: １ 事業内容（目的）
A24: ２ 事業概要
B26: 事 業 実 施 場 所
B28: 事 業 面 積 | N28: a
B30: 機 械 ・ 施 設 等
B32: 構造・規格・能力等
B34: 事 業 対 象 経 費 | P34: 円
B36: 事 業 目 標 | K36: （例）農業所得を20%増加させる。労働時間を10%減少させる。
P37: を | S37: ％ | V37: させる。
B38: 添付 書類
D39: 提出必要書類 （全員） | K39: ・ | L39: 位置図
K40: ・ | L40: 設計図（作成している場合）
K41: ・ | L41: 見積書（明細含む）
K42: ・ | L42: 誓約書（様式第１-１号）
K43: ・ | L43: 前年度の確定申告書（決算書）の写し
D46: 参考書類 （該当者は✓） | L46: 有機JAS認証事業者 | AE46: 証明書類の 写しを添付
L47: GAP認証事業者
L48: （GLOBAL G.A.P/ASIAGAP/JGAP）
L49: その他農業経営に有用であると見込まれる資格等
L50: 農業士 | AE50: 証明書類の 添付は不要
L51: 指導農業士
B53: ※免税事業者又は簡易課税制度適用者は事業費に消費税を含める。
B57: 備考 この様式により難いときは、この様式に準じた別の様式を用いることができる。

Sheet 様式第１-１号
A1: 様式第１-１号
A2: 誓約書
A5: =" "&"私は、"&情報入力シート!$K$3&情報入力シート!$M$3&"年度"&情報入力シート!$K$2&"事業に関して下記のとおり誓約します。" -> 私は、令和〇年度札幌市農業経営安定強化事業に関して下記のとおり誓約します。
A8: 記
A10: １ 私は、札幌市に対して市税の滞納はありません。札幌市より市税の滞納について調査が入る場合、
A12: これに同意します。
A14: ２ 私は、暴力団又は暴力団員並びに暴力団関係事業者ではありません。
A16: ３ 補助事業の実施に関し、農地法、農振法、都市計画法その他各種法令に違反していません。
A18: ４ 国・道の補助事業において、目標年度を過ぎて達成していない事業はありません。
A20: ５ 事業計画、補助金申請、実績報告等の書類及び誓約書の内容に虚偽が判明した場合は、補助金の
A22: 返還等に応じます。
A24: ６ 本事業で導入した農業用機械・施設等の破損があった場合には全額自己負担にて修繕を行い、
A26: 処分制限期間中は適切な維持管理を行います。（各種保険制度の活用含む。）
A28: ７ 補助事業によらず、廃棄物の処理及び清掃に関する法律等の法令を遵守し、農業用廃プラスチック
A30: 等を適正に処理いたします。
Y33: =情報入力シート!$K$3 -> 令和 | AA33: =様式第１号!AA4 -> 〇 | AB33: 年 | AC33: =様式第１号!AC4 -> 〇 | AD33: 月 | AE33: =様式第１号!AE4 -> 〇 | AF33: 日
B36: （宛先）札幌市長
M39: 事 業 実 施 主 体
M40: 氏名押印 又は 署名
B58: 備考 この様式により難いときは、この様式に準じた別の様式を用いることができる。

Sheet 様式第２号
A1: 様式第２号
A2: 補助金採択通知書
Y4: 札 農 支 第 | AD4: 〇〇 | AF4: 号
Y5: =情報入力シート!$K$3 -> 令和 | AA5: 〇 | AB5: 年 | AC5: 〇 | AD5: 月 | AE5: 〇 | AF5: 日
A7: 〇〇 〇〇 様
Y9: 札幌市長
A11: =" "&情報入力シート!$K$3&情報入力シート!$M$3&"年度"&情報入力シート!$K$2&"事業について、事業計画を採択することに決定しましたので、通知します。 また、次のとおり割当内示をしますので、期限までに補助金交付申請書（様式第３号）に必要書類を添付して提出してください。" -> 令和〇年度札幌市農業経営安定強化事業について、事業計画を採択することに決定しましたので、通知します。 また、次のとおり割当内示をしますので、期限までに補助金交付申請書（様式第３号）に必要書類を添付して提出してください。
A16: 記
A18: １ 割当内示額
A20: 金 | H20: 円
A22: ２ 添付書類
B24: 提出必須書類
B25: (１)補助金交付申請書（様式第３号）
B26: (２)収支予算書（様式第３-１号）
B28: 該当者のみ提出するもの
B29: (３)免税事業者申出書（様式第３-２号）
B30: (４)図面（平面図等、設計が必要な施設等を導入する場合）
A32: ３ 提出期限
A34: =様式第３号!Y20&様式第３号!AA20 | B34: =情報入力シート!$K$3 -> 令和 | D34: 〇 | E34: 年 | F34: 〇 | G34: 月 | H34: 〇 | I34: 日
B56: 備考 この様式により難いときは、この様式に準じた別の様式を用いることができる。

Sheet 様式第３号
A1: 様式第３号
A2: 補助金交付申請書
Y4: =情報入力シート!$K$3 -> 令和 | AA4: 〇 | AB4: 年 | AC4: 〇 | AD4: 月 | AE4: 〇 | AF4: 日
A6: 札幌市長 様
K8: 所 在 地 | T8: =情報入力シート!$K$4 -> 札幌市〇〇区〇〇条〇〇丁目〇〇〇〇
K10: 事 業 実 施 主 体 | T10: =情報入力シート!$K$5 -> 株式会社〇〇〇〇
K11: 代表者の役職及び氏名 | T11: =情報入力シート!$K$6 -> 代表取締役 〇〇 〇〇
A13: =" "&情報入力シート!$K$3&情報入力シート!$M$3&"年度"&情報入力シート!$K$2&"事業の補助金の交付を受けたいので、下記の書類を添えて申請します。" -> 令和〇年度札幌市農業経営安定強化事業の補助金の交付を受けたいので、下記の書類を添えて申請します。
A16: 記
A18: １ 事業内容
A24: ２ 事業概要
B26: 事業内容 | I26: 着手 （予定） 年月日 | M26: 完了 （予定） 年月日 | Q26: 補助対象経費 | V26: （経費の内訳） | AD26: 備考
V27: 補助金 | Z27: 自己資金 | AD27: 含税額
B28: 工種、施設区分 | Q28: (A)+(B) | V28: (A) | Z28: (B)
B29: 構造、規格、能力等 | Q29: 円 | V29: 円 | Z29: 円 | AD29: 等
I30: =情報入力シート!$K$3 -> 令和 | K30: 〇 | L30: 年 | M30: =情報入力シート!$K$3 -> 令和 | O30: 〇 | P30: 年 | Q30: =SUM(V30:AC31) -> 0
I31: 〇 | J31: 月 | K31: 〇 | L31: 日 | M31: 〇 | N31: 月 | O31: 〇 | P31: 日
I32: =情報入力シート!$K$3 -> 令和 | K32: 〇 | L32: 年 | M32: =情報入力シート!$K$3 -> 令和 | O32: 〇 | P32: 年
I33: 〇 | J33: 月 | K33: 〇 | L33: 日 | M33: 〇 | N33: 月 | O33: 〇 | P33: 日
B34: 計 | Q34: =SUM(Q30:U33) -> 0 | V34: =SUM(V30:Y33) -> 0 | Z34: =SUM(Z30:AC33) -> 0
B35: ※免税事業者又は簡易課税制度適用者は事業費に消費税を含め、備考欄に「含税額」と記載する。
A37: ３ 添付書類
B39: 提出必須書類
B40: ・ | C40: 収支予算書（様式第３号-１）
B42: 該当の場合は✓
C43: 免税事業者申出書（様式第３-２号）
C44: 図面（平面図等、設計が必要な施設を導入する場合）
B56: 備考 この様式により難いときは、この様式に準じた別の様式を用いることができる。

Sheet 様式第３-１号
A1: 様式第３-１号
A2: 収支予算書
A4: １ 収入の部
N6: 単位：円
B7: 区分 | E7: 予算額
E8: 当初 | J8: 変更後
B10: 札幌市 補助金
B12: 自己 負担金
B14: 計 | E14: =SUM(E10:I13) -> 0 | J14: =SUM(J10:N13) -> 0
A17: ２ 支出の部
N19: 単位：円
B20: 区分 | E20: 予算額
E21: 当初 | J21: 変更後
B23: 札幌市 補助金
B25: 自己 負担金
B27: 計 | E27: =SUM(E23:I26) -> 0 | J27: =SUM(J23:N26) -> 0
B54: 備考 この様式により難いときは、この様式に準じた別の様式を用いることができる。

Sheet 様式第３-２号
A1: 様式第３-２号
A2: 消費税及び地方消費税免税事業者申出書
Y4: =情報入力シート!$K$3 -> 令和 | AA4: =様式第３号!AA4 -> 〇 | AB4: 年 | AC4: =様式第３号!AC4 -> 〇 | AD4: 月 | AE4: =様式第３号!AE4 -> 〇 | AF4: 日
A6: 札幌市長 様
K8: 所 在 地 | T8: =情報入力シート!$K$4 -> 札幌市〇〇区〇〇条〇〇丁目〇〇〇〇
K10: 事 業 実 施 主 体 | T10: =情報入力シート!$K$5 -> 株式会社〇〇〇〇
K11: 代表者の役職及び氏名 | T11: =情報入力シート!$K$6 -> 代表取締役 〇〇 〇〇
A13: 私は、消費税法（昭和63年法律第108号）に基づく消費税及び地方税法（昭和25年法律第226号）に基づく地方消費税に関し、免税事業者であることを、ここに申し出ます。
B53: 備考 この様式により難いときは、この様式に準じた別の様式を用いることができる。

Sheet 様式第４号
A1: 様式第４号
A2: 補助金交付決定通知書
Y4: 札 農 支 第 | AD4: 〇〇 | AF4: 号
Y5: =情報入力シート!$K$3 -> 令和 | AA5: 〇 | AB5: 年 | AC5: 〇 | AD5: 月 | AE5: 〇 | AF5: 日
A7: 〇〇 〇〇 様
Y9: 札幌市長
A11: =" "&情報入力シート!$K$3&情報入力シート!$M$3&"年度"&情報入力シート!$K$2&"事業の補助金については、下記のとおり交付することに決定しましたので、通知します。" -> 令和〇年度札幌市農業経営安定強化事業の補助金については、下記のとおり交付することに決定しましたので、通知します。
A14: 記
A16: １ 補助金の対象となる事業の名称、内容及び実施期間
A18: =様式第３号!Y4&様式第３号!AA4 -> 令和〇 | E18: 年 | F18: =様式第３号!AC4 -> 〇 | G18: 月 | H18: =様式第３号!AE4 -> 〇 | I18: 日付け申請書のとおり
A20: ２ 補助対象事業費及び補助金交付決定額
B22: 補助対象事業費 | I22: 金 | P22: 円
B23: 補助金交付決定額 | I23: 金 | P23: 円
A29: （注）
A30: (１) | C30: 補助金は事業終了後、確定した額を交付する。 ただし、事業遂行上、概算払を受けたい時は、市長あてに補助金概算払請求書（様式第７号）及び必要な添付書類を提出し、市長の承認を受けること。
A33: (２) | C33: 事業内容を変更しようとするときは、市長あてに補助事業変更等申請書（様式第５号）及び必要な添付書類を提出し、あらかじめ市長の承認を受けること。
A35: (３) | C35: この補助金に係る要綱を遵守すること。
A36: (４) | C36: 補助金は、目的以外に使用しないこと。
A37: (５) | C37: 事業が完了したときは、市長あてに実績報告書（様式第９号）及び必要な添付書類を提出すること。
A38: (６) | C38: 事業の効果を評価するため、事業完了後は、事業評価書（様式第11号）及び必要な添付書類を提出すること。
A39: (７) | C39: 整備した農業用機械・施設（以下、「機械等」という。）について、処分制限期間中までは適切に管理すること。
A41: (８) | C41: 市長が必要と認めたときは、本補助事業の完了年度の翌年度から起算して３カ年間、本事業により取得した機械等の利用状況実績等について報告すること。
A43: (９) | C43: 市長は、補助対象者が、次のいずれかに該当すると認めるときは、交付決定の全部又は一部を取消すことができる。
C45: ア 偽りその他不正の手段により補助金の交付を受けたとき。
C46: イ 補助金を他の用途に使用したとき。
C47: ウ 補助対象者が誓約書様式（第１-１号）１～６のいずれかに該当しなくなったとき。
C48: エ 交付決定の内容又はこれに付した条件に違反したとき。
C49: オ 実支出額が補助対象経費に比べて減少したとき。
C50: カ その他法令等又はこれに基づく市長の処分に違反したとき。
A51: (10) | C51: ※農用地区域内が対象区域の場合
C52: 受益地の全部又は一部が事業完了の属する年度の翌年度から起算して５年以内に農用地でなくなった場合には、当該事業の補助金の額に、転用に係る土地の面積の当該事業の施行に係る土地の面積に対する割合を乗じて得た額を市長へ返還しなければならない。ただし、市長が必要ないと認めた場合は、この限りではない。
B56: 備考 この様式により難いときは、この様式に準じた別の様式を用いることができる。

Sheet 様式第５号
A1: 様式第５号
A2: 補助事業変更等申請書
Y4: =情報入力シート!$K$3 -> 令和 | AA4: 〇 | AB4: 年 | AC4: 〇 | AD4: 月 | AE4: 〇 | AF4: 日
A6: 札幌市長 様
K8: 所 在 地 | T8: =情報入力シート!$K$4 -> 札幌市〇〇区〇〇条〇〇丁目〇〇〇〇
K10: 事 業 実 施 主 体 | T10: =情報入力シート!$K$5 -> 株式会社〇〇〇〇
K11: 代表者の役職及び氏名 | T11: =情報入力シート!$K$6 -> 代表取締役 〇〇 〇〇
A13: =" "&情報入力シート!K3&様式第４号!AA5&"年"&様式第４号!AC5&"月"&様式第４号!AE5&"日付け"&データ入力用リスト!G3&様式第４号!AD4&"号をもって交付決定のあった"&情報入力シート!$K$3&情報入力シート!$M$3&"年度"&情報入力シート!$K$2&"事業について、下記の書類を添えて変更申請します。" -> 令和〇年〇月〇日付け札農支第〇〇号をもって交付決定のあった令和〇年度札幌市農業経営安定強化事業について、下記の書類を添えて変更申請します。
A16: 記
A18: １ 変更の理由
A24: ２ 変更内容
B26: （変更前）
B27: 事業内容 | I27: 着手 （予定） 年月日 | M27: 完了 （予定） 年月日 | Q27: 補助対象経費 | V27: （経費の内訳） | AD27: 備考
V28: 補助金 | Z28: 自己資金 | AD28: 含税額
B29: 工種、施設区分 | Q29: (A)+(B) | V29: (A) | Z29: (B)
B30: 構造、規格、能力等 | Q30: 円 | V30: 円 | Z30: 円 | AD30: 等
I31: =情報入力シート!$K$3 -> 令和 | K31: 〇 | L31: 年 | M31: =情報入力シート!$K$3 -> 令和 | O31: 〇 | P31: 年 | Q31: =SUM(V31:AC32) -> 0
I32: 〇 | J32: 月 | K32: 〇 | L32: 日 | M32: 〇 | N32: 月 | O32: 〇 | P32: 日
B33: 計 | Q33: =SUM(Q31:U32) -> 0 | V33: =SUM(V31:Y32) -> 0 | Z33: =SUM(Z31:AC32) -> 0
B34: ※免税事業者又は簡易課税制度適用者は事業費に消費税を含め、備考欄に「含税額」と記載する。
B36: （変更後）
B37: 事業内容 | I37: 着手 （予定） 年月日 | M37: 完了 （予定） 年月日 | Q37: 補助対象経費 | V37: （経費の内訳） | AD37: 備考
V38: 補助金 | Z38: 自己資金 | AD38: 含税額
B39: 工種、施設区分 | Q39: (A)+(B) | V39: (A) | Z39: (B)
B40: 構造、規格、能力等 | Q40: 円 | V40: 円 | Z40: 円 | AD40: 等
I41: =情報入力シート!$K$3 -> 令和 | K41: 〇 | L41: 年 | M41: =情報入力シート!$K$3 -> 令和 | O41: 〇 | P41: 年 | Q41: =SUM(V41:AC42) -> 0
I42: 〇 | J42: 月 | K42: 〇 | L42: 日 | M42: 〇 | N42: 月 | O42: 〇 | P42: 日
B43: 計 | Q43: =SUM(Q41:U42) -> 0 | V43: =SUM(V41:Y42) -> 0 | Z43: =SUM(Z41:AC42) -> 0
B44: ※免税事業者又は簡易課税制度適用者は事業費に消費税を含め、備考欄に「含税額」と記載する。
A46: ３ 添付書類
B48: ・
B49: ・
B56: 備考 この様式により難いときは、この様式に準じた別の様式を用いることができる。

Sheet 様式第６号
A1: 様式第６号
A2: 補助事業変更等決定通知書
Y4: 札 農 支 第 | AD4: 〇〇 | AF4: 号
Y5: =情報入力シート!$K$3 -> 令和 | AA5: 〇 | AB5: 年 | AC5: 〇 | AD5: 月 | AE5: 〇 | AF5: 日
A7: 〇〇 〇〇 様
Y9: 札幌市長
A11: =" "&情報入力シート!$K$3&情報入力シート!$M$3&"年度"&情報入力シート!$K$2&"事業について、下記のとおり変更等をすることに決定しましたので、通知します。" -> 令和〇年度札幌市農業経営安定強化事業について、下記のとおり変更等をすることに決定しましたので、通知します。
A14: 記
A16: １ 補助金の対象となる事業の名称、内容及び実施期間
A18: =様式第５号!Y4&様式第５号!AA4 -> 令和〇 | E18: 年 | F18: =様式第５号!AC4 -> 〇 | G18: 月 | H18: =様式第５号!AE4 -> 〇 | I18: 日付け補助事業変更等申請書のとおり
A20: ２ 補助対象事業費、変更前の補助金交付決定額及び変更後の補助金交付決定額
B22: 補助対象事業費 | N22: 金 | U22: 円
B23: （変更前）補助金交付決定額 | N23: 金 | U23: 円
B24: （変更後）補助金交付決定額 | N24: 金 | U24: 円
B60: 備考 この様式により難いときは、この様式に準じた別の様式を用いることができる。

Sheet 様式第７号
A1: 様式第７号
A2: 補助金概算払請求書
Y4: =情報入力シート!$K$3 -> 令和 | AA4: 〇 | AB4: 年 | AC4: 〇 | AD4: 月 | AE4: 〇 | AF4: 日
A6: 札幌市長 様
K8: 所 在 地 | T8: =情報入力シート!$K$4 -> 札幌市〇〇区〇〇条〇〇丁目〇〇〇〇
K10: 事 業 実 施 主 体 | T10: =情報入力シート!$K$5 -> 株式会社〇〇〇〇
K11: 代表者の役職及び氏名 | T11: =情報入力シート!$K$6 -> 代表取締役 〇〇 〇〇
A13: =" "&情報入力シート!$K$3&情報入力シート!$M$3&"年度"&情報入力シート!$K$2&"事業について、補助金の概算払を下記のとおり請求します。" -> 令和〇年度札幌市農業経営安定強化事業について、補助金の概算払を下記のとおり請求します。
A16: 記
A18: １ 概算払が必要な理由
A24: ２ 交付決定（変更交付決定）額
B26: 金 | I26: 円
A28: ３ 添付書類
B30: ・ | C30: 振込口座届出書（様式第９-２号）
B31: ・ | C31: 通帳の写しなど、銀行名・口座番号・口座名義人がわかる書類
B56: 備考 この様式により難いときは、この様式に準じた別の様式を用いることができる。

Sheet 様式第８号
A1: 様式第８号
A2: 補助金概算払決定通知書
Y4: 札 農 支 第 | AD4: 〇〇 | AF4: 号
Y5: =情報入力シート!$K$3 -> 令和 | AA5: 〇 | AB5: 年 | AC5: 〇 | AD5: 月 | AE5: 〇 | AF5: 日
A7: 〇〇 〇〇 様
Y9: 札幌市長
A11: =" "&情報入力シート!$K$3&情報入力シート!$M$3&"年度"&情報入力シート!$K$2&"事業の補助金については、下記のとおり概算払することを決定しましたので通知します。" -> 令和〇年度札幌市農業経営安定強化事業の補助金については、下記のとおり概算払することを決定しましたので通知します。
A14: 記
A16: １ 補助対象事業費及び概算払決定金額
B18: 補助対象事業費 | I18: 金 | P18: 円
B19: 概算払決定金額 | I19: 金 | P19: 円
B53: 備考 この様式により難いときは、この様式に準じた別の様式を用いることができる。

Sheet 様式第９号
A1: 様式第９号
A2: 実績報告書
Y4: =情報入力シート!$K$3 -> 令和 | AA4: 〇 | AB4: 年 | AC4: 〇 | AD4: 月 | AE4: 〇 | AF4: 日
A6: 札幌市長 様
K8: 所 在 地 | T8: =情報入力シート!$K$4 -> 札幌市〇〇区〇〇条〇〇丁目〇〇〇〇
K10: 事 業 実 施 主 体 | T10: =情報入力シート!$K$5 -> 株式会社〇〇〇〇
K11: 代表者の役職及び氏名 | T11: =情報入力シート!$K$6 -> 代表取締役 〇〇 〇〇
A13: =" "&情報入力シート!$K$3&情報入力シート!$M$3&"年度"&情報入力シート!$K$2&"事業が完了しましたので、下記の書類を添えて報告します。" -> 令和〇年度札幌市農業経営安定強化事業が完了しましたので、下記の書類を添えて報告します。
A16: 記
A18: １ 事業の成果
A24: ２ 事業実施実績
B26: 事業内容 | I26: 着手 年月日 | M26: 完了 年月日 | Q26: 補助対象経費 | V26: （経費の内訳） | AD26: 備考
V27: 補助金 | Z27: 自己資金 | AD27: 含税額
B28: 工種、施設区分 | Q28: (A)+(B) | V28: (A) | Z28: (B)
B29: 構造、規格、能力等 | Q29: 円 | V29: 円 | Z29: 円 | AD29: 等
I30: =情報入力シート!$K$3 -> 令和 | K30: 〇 | L30: 年 | M30: =情報入力シート!$K$3 -> 令和 | O30: 〇 | P30: 年 | Q30: =SUM(V30:AC31) -> 0
I31: 〇 | J31: 月 | K31: 〇 | L31: 日 | M31: 〇 | N31: 月 | O31: 〇 | P31: 日
I32: =情報入力シート!$K$3 -> 令和 | K32: 〇 | L32: 年 | M32: =情報入力シート!$K$3 -> 令和 | O32: 〇 | P32: 年
I33: 〇 | J33: 月 | K33: 〇 | L33: 日 | M33: 〇 | N33: 月 | O33: 〇 | P33: 日
B34: 計 | Q34: =SUM(Q30:U33) -> 0 | V34: =SUM(V30:Y33) -> 0 | Z34: =SUM(Z30:AC33) -> 0
B35: ※免税事業者又は簡易課税制度適用者は事業費に消費税を含め、備考欄に「含税額」と記載する。
A37: ３ 添付書類
B39: ・ | C39: 収支決算書（様式第９-１号）
B40: ・ | C40: 領収書（写し）
B41: ・ | C41: 請求書（写し）
B42: ・ | C42: 売買契約書（写し）
B43: ・ | C43: 納品書（写し）
B44: ・ | C44: 見積書（写し）
B45: ・ | C45: 振込口座届出書（様式第９-２号）
B46: ・ | C46: 通帳の写しなど、銀行名・口座番号・口座名義人がわかる書類
B47: ・ | C47: 事業評価書（様式第11号） ※１
B49: ※１ 事業効果が既に得られている場合のみ添付。実績報告時に事業効果がまだ得られていない
B50: 場合、事業実施年度の翌年度末までに報告する。
B56: 備考 この様式により難いときは、この様式に準じた別の様式を用いることができる。

Sheet 様式第９-１号
A1: 様式第９-１号
A2: 収支決算書
A4: １ 収入の部
AC6: 単位：円
B7: 区分 | E7: 予算額 | O7: 決算額
E8: 当初 | J8: 変更後 （最終） | O8: 収入済額 | T8: 未収入額 | Y8: 計
B10: 札幌市 補助金 | Y10: =SUM(O10:X11) -> 0
B12: 自己 負担金 | Y12: =SUM(O12:X13) -> 0
B14: 計 | E14: =SUM(E10:I13) -> 0 | J14: =SUM(J10:N13) -> 0 | O14: =SUM(O10:S13) -> 0 | T14: =SUM(T10:X13) -> 0 | Y14: =SUM(O14:X15) -> 0
A17: ２ 支出の部
AH19: 単位：円
B20: 区分 | E20: 予算額 | O20: 決算額 | AD20: 不用額
E21: 当初 | J21: 変更後 （最終） | O21: 支出済額 | T21: 未支出額 | Y21: 計
B23: 札幌市 補助金 | Y23: =SUM(O23:X24) -> 0
B25: 自己 負担金 | Y25: =SUM(O25:X26) -> 0
B27: 計 | E27: =SUM(E23:I26) -> 0 | J27: =SUM(J23:N26) -> 0 | O27: =SUM(O23:S26) -> 0 | T27: =SUM(T23:X26) -> 0 | Y27: =SUM(O27:X28) -> 0
B54: 備考 この様式により難いときは、この様式に準じた別の様式を用いることができる。

Sheet 様式第９-２号
A1: 様式第９-２号
A2: 振込口座届出書
Y4: =情報入力シート!$K$3 -> 令和 | AA4: 〇 | AB4: 年 | AC4: 〇 | AD4: 月 | AE4: 〇 | AF4: 日
A6: 札幌市長 様
A8: 札幌市から支払われる補助金については、下記の口座に振込んでください。
A10: 記
A12: 銀行名
A14: 本店・支店名
A16: 預金種目 | AI16: （選択）
A18: 口座番号
A20: 口座カナ
A22: 口座名
A24: 住所 | H24: 〒
A27: 氏名
A29: 電話番号
B53: 備考 この様式により難いときは、この様式に準じた別の様式を用いることができる。

Sheet 様式第10号
A1: 様式第10号
A2: 消費税仕入控除税額報告書
Y4: =情報入力シート!$K$3 -> 令和 | AA4: 〇 | AB4: 年 | AC4: 〇 | AD4: 月 | AE4: 〇 | AF4: 日
A6: 札幌市長 様
K8: 所 在 地 | T8: =情報入力シート!$K$4 -> 札幌市〇〇区〇〇条〇〇丁目〇〇〇〇
K10: 事 業 実 施 主 体 | T10: =情報入力シート!$K$5 -> 株式会社〇〇〇〇
K11: 代表者の役職及び氏名 | T11: =情報入力シート!$K$6 -> 代表取締役 〇〇 〇〇
A13: =" "&情報入力シート!K3&様式第４号!AA5&"年"&様式第４号!AC5&"月"&様式第４号!AE5&"日付け"&データ入力用リスト!G3&様式第４号!AD4&"号をもって交付決定のあった"&情報入力シート!$K$3&情報入力シート!$M$3&"年度"&情報入力シート!$K$2&"事業について、下記のとおり報告します。" -> 令和〇年〇月〇日付け札農支第〇〇号をもって交付決定のあった令和〇年度札幌市農業経営安定強化事業について、下記のとおり報告します。
A16: 記
A18: １ 補助金確定額
B20: 金 | I20: 円
A22: ２ 補助金の確定時に減額した消費税仕入控除税額
B24: 金 | I24: 円
A26: ３ 消費税の申告により確定した消費税仕入控除税額
B28: 金 | I28: 円
A30: ４ 補助金返還相当額（３－２）
B32: 金 | I32: 円
A34: (注) 記載内容の確認のため、以下の資料を添付すること。
A35: なお、補助対象者が法人格を有しない組合等の場合は、すべての構成員分を添付すること。
A36: ・消費税確定申告書の写（税務署の収受印等のあるもの）
A37: ・「課税売上割合・控除対象仕入税額等の計算表」の写し
A38: ・３の金額の積算の内訳（人件費に通勤手当を含む場合は、その内訳を確認できる資料も併せて提
A39: 出すること）
A40: ・補助対象者が消費税法第60条第４項に定める法人等である場合、同項に規定する特定収入の割合
A41: を確認できる資料
A43: ５ 当該補助金に係る消費税仕入控除税額が明らかにならない場合、その状況を記載
A45: (注) 消費税及び地方消費税の確定申告が完了していない場合にあっては、申告予定時期も記載すること。
A50: ６ 当該補助金に係る消費税仕入控除税額がない場合、その理由を記載
B57: (注) 記載内容の確認のため、以下の資料を添付すること。
B58: なお、補助対象者が法人格を有しない組合等の場合は、すべての構成員分を添付すること。
B59: ・免税事業者の場合は、補助事業実施年度の前々年度に係る法人税（個人事業者の場合は所得税）
B60: 確定申告書の写し（税務署の収受印等のあるもの）及び損益計算書等、売上高を確認できる資料
B61: ・新たに設立された法人であって、かつ免税事業者の場合は、設立日、事業年度、事業開始日、事
B62: 業開始日における資本金の金額が証明できる書類など、免税事業者であることが確認できる資料
B63: ・簡易課税制度の適用を受ける事業者の場合は、補助事業実施年度における消費税確定申告書（簡
B64: 易課税用）の写し（税務署の収受印等のあるもの）
B65: 割合を確認できる資料
B109: 備考 この様式により難いときは、この様式に準じた別の様式を用いることができる。

Sheet 様式第11号
A1: 様式第11号
A2: 事業評価書
Y4: =情報入力シート!$K$3 -> 令和 | AA4: 〇 | AB4: 年 | AC4: 〇 | AD4: 月 | AE4: 〇 | AF4: 日
A6: 札幌市長 様
K8: 所 在 地 | T8: =情報入力シート!$K$4 -> 札幌市〇〇区〇〇条〇〇丁目〇〇〇〇
K10: 事 業 実 施 主 体 | T10: =情報入力シート!$K$5 -> 株式会社〇〇〇〇
K11: 代表者の役職及び氏名 | T11: =情報入力シート!$K$6 -> 代表取締役 〇〇 〇〇
A13: =" "&情報入力シート!$K$3&情報入力シート!$M$3&"年度"&情報入力シート!$K$2&"事業で得られた事業効果について、下記のとおり報告します。" -> 令和〇年度札幌市農業経営安定強化事業で得られた事業効果について、下記のとおり報告します。
A16: 記
A18: １ 事業内容
A24: ２ 事業概要
B26: 事 業 実 施 場 所
B28: 事 業 面 積 | N28: a
B30: 機 械 ・ 施 設 等
B32: 構造・規格・能力等
B34: 事 業 対 象 経 費 | P34: 円
B36: 事 業 目 標 | K36: （例）農業所得を20%増加させる。労働時間を10%減少させる。
P37: を | S37: ％ | V37: させる。
A39: ３ 目標達成状況
B41: 目 標 達 成 年 度 | K41: =情報入力シート!$K$3 -> 令和 | M41: 〇 | N41: 年度
B43: 事 業 評 価 | P43: が | S43: ％ | V43: した。
A46: ４ 添付書類
B48: ・ | C48: 事業評価の達成状況を確認できる書類
B56: 備考 この様式により難いときは、この様式に準じた別の様式を用いることができる。

Sheet 様式第12号
A1: 様式第12号
A2: 補助金確定通知書
Y4: 札 農 支 第 | AD4: 〇〇 | AF4: 号
Y5: =情報入力シート!$K$3 -> 令和 | AA5: 〇 | AB5: 年 | AC5: 〇 | AD5: 月 | AE5: 〇 | AF5: 日
A7: 〇〇 〇〇 様
Y9: 札幌市長
A11: =" "&情報入力シート!$K$3&情報入力シート!$M$3&"年度"&情報入力シート!$K$2&"事業の補助金については、下記のとおり補助金額を確定しましたので通知します。" -> 令和〇年度札幌市農業経営安定強化事業の補助金については、下記のとおり補助金額を確定しましたので通知します。
A14: 記
A16: １ 補助対象事業費及び補助金確定額
B18: 補助対象事業費 | I18: 金 | P18: 円
B19: 補助金確定額 | I19: 金 | P19: 円
B53: 備考 この様式により難いときは、この様式に準じた別の様式を用いることができる。

Sheet 様式第13号
A1: 様式第13号
A3: 財 産 管 理 台 帳
AF5: 所 在 地 | AR5: =情報入力シート!$K$4 -> 札幌市〇〇区〇〇条〇〇丁目〇〇〇〇
AF7: 事 業 実 施 主 体 | AR7: =情報入力シート!$K$5 -> 株式会社〇〇〇〇
AF8: 代表者の役職及び氏名 | AR8: =情報入力シート!$K$6 -> 代表取締役 〇〇 〇〇
A10: 事業実施年度 | G10: =情報入力シート!K3&情報入力シート!M3 -> 令和〇 | K10: 年度 | O10: 事 業 名 | W10: =情報入力シート!K3&情報入力シート!M3&"年度" -> 令和〇年度 | AB10: =情報入力シート!K2&情報入力シート!W2 -> 札幌市農業経営安定強化事業
A12: 事業の内容 | O12: 事業実施期間 | W12: 経費の配分 | AQ12: 処分制限期間 | AW12: 処分の状況 | BF12: 備 考
A14: 施設・機械名 | G14: 型式等 | J14: 設置場所 施工場所 | O14: 着 工 年 月 日 | S14: 完 了 年 月 日 | W14: 事業対象 経費(円) | AB14: 負 担 区 分（円） | AQ14: 耐用 年数 | AS14: 処分制限 年 月 日 | AW14: 承 認 年月日 | BA14: 処分の 内 容
AB15: 補 助 金 | AG15: 自己資金 | AL15: その他
O16: =情報入力シート!$K$3 -> 令和 | Q16: 〇 | R16: 年 | S16: =情報入力シート!$K$3 -> 令和 | U16: 〇 | V16: 年 | W16: =SUM(AB16:AP17) -> 0 | AR16: 年 | AS16: =情報入力シート!$K$3 -> 令和 | AU16: 〇 | AV16: 年 | AW16: =情報入力シート!$K$3 -> 令和 | AY16: 〇 | AZ16: 年
O17: 〇 | P17: 月 | Q17: 〇 | R17: 日 | S17: 〇 | T17: 月 | U17: 〇 | V17: 日 | AS17: 〇 | AT17: 月 | AU17: 〇 | AV17: 日 | AW17: 〇 | AX17: 月 | AY17: 〇 | AZ17: 日
O18: =情報入力シート!$K$3 -> 令和 | Q18: 〇 | R18: 年 | S18: =情報入力シート!$K$3 -> 令和 | U18: 〇 | V18: 年 | AR18: 年 | AS18: =情報入力シート!$K$3 -> 令和 | AU18: 〇 | AV18: 年 | AW18: =情報入力シート!$K$3 -> 令和 | AY18: 〇 | AZ18: 年
O19: 〇 | P19: 月 | Q19: 〇 | R19: 日 | S19: 〇 | T19: 月 | U19: 〇 | V19: 日 | AS19: 〇 | AT19: 月 | AU19: 〇 | AV19: 日 | AW19: 〇 | AX19: 月 | AY19: 〇 | AZ19: 日
O20: =情報入力シート!$K$3 -> 令和 | Q20: 〇 | R20: 年 | S20: =情報入力シート!$K$3 -> 令和 | U20: 〇 | V20: 年 | AR20: 年 | AS20: =情報入力シート!$K$3 -> 令和 | AU20: 〇 | AV20: 年 | AW20: =情報入力シート!$K$3 -> 令和 | AY20: 〇 | AZ20: 年
O21: 〇 | P21: 月 | Q21: 〇 | R21: 日 | S21: 〇 | T21: 月 | U21: 〇 | V21: 日 | AS21: 〇 | AT21: 月 | AU21: 〇 | AV21: 日 | AW21: 〇 | AX21: 月 | AY21: 〇 | AZ21: 日
B23: ※ | C23: １ 処分制限年月日欄は、処分制限の終期を記入すること。
C24: ２ 処分の内容欄には、譲渡、交換、貸付、担保提供等別に記入すること。
C25: ３ 備考欄には、譲渡先、貸付先、抵当権の設定権者の名称又は補助金の返還額を記入すること。
C26: ４ この様式により難い場合には、処分制限期間欄及び処分の状況欄を含む他の様式をもって代えることができる。
C27: ５ 本台帳は、処分制限期間（処分した施設・機械については承認年月日）を経過するまでは保存管理すること。
B38: 備考 この様式により難いときは、この様式に準じた別の様式を用いることができる。

Sheet 様式第14号
A1: 様式第14号
A2: 財産処分承認申請書
Y4: =情報入力シート!$K$3 -> 令和 | AA4: 〇 | AB4: 年 | AC4: 〇 | AD4: 月 | AE4: 〇 | AF4: 日
A6: 札幌市長 様
K8: 所 在 地 | T8: =情報入力シート!$K$4 -> 札幌市〇〇区〇〇条〇〇丁目〇〇〇〇
K10: 事 業 実 施 主 体 | T10: =情報入力シート!$K$5 -> 株式会社〇〇〇〇
K11: 代表者の役職及び氏名 | T11: =情報入力シート!$K$6 -> 代表取締役 〇〇 〇〇
A13: =" "&情報入力シート!$K$3&情報入力シート!$M$3&"年度"&情報入力シート!$K$2&"事業により取得し、又は効用の増加した財産について、下記のとおり処分（目的外使用、譲渡、交換、貸付、担保）する必要が生じましたので、下記のとおり申請します。" -> 令和〇年度札幌市農業経営安定強化事業により取得し、又は効用の増加した財産について、下記のとおり処分（目的外使用、譲渡、交換、貸付、担保）する必要が生じましたので、下記のとおり申請します。
A17: 記
A19: １ 承認申請の理由
A26: ２ 承認申請に係る施設等の概要
B28: （１）地区名
F30: 区
B32: （２）施設等の所在地
B36: （３）施設等の構造、規格、規模等
B40: （４）事業費
D42: ア 補助金
J44: 円
D46: イ その他の負担金
J48: 円
B50: （５）取得年月日（耐用年数及び経過年数）
D52: =情報入力シート!$K$3 -> 令和 | F52: 〇 | G52: 年 | H52: 〇 | I52: 月 | J52: 〇 | K52: 日 | N52: 耐用年数 | T52: 年
N53: 経過年数 | T53: 年
A55: ３ 承認申請に係る事項
B57: （１）処分予定時期
D59: =情報入力シート!$K$3 -> 令和 | F59: 〇 | G59: 年 | H59: 〇 | I59: 月 | J59: 〇 | K59: 日
B61: （２）処分（目的外使用、譲渡、交換、貸付、担保）の概要
D63: ア 施設等の処分方法及び処分後の利用（稼働）計画
D70: イ 処分に伴う条件等
E72: （例）処分に伴う助成金相当額について返納します。
D75: ウ 処分額または処分するために必要とする改造等の内容及び所要事業費
E77: 処分額
J79: 円
E81: 内容
E87: 所要事業費
J89: 円
B91: （３）その他
A98: ４ 添付書類
B100: ・ | C100: 財産管理台帳（様式第13号）の写し
B101: ・
...

Sheet 様式第15号
A1: 様式第15号
A2: 財産処分承認通知書
Y4: 札 農 支 第 | AD4: 〇〇 | AF4: 号
Y5: =情報入力シート!$K$3 -> 令和 | AA5: 〇 | AB5: 年 | AC5: 〇 | AD5: 月 | AE5: 〇 | AF5: 日
A7: 〇〇 〇〇 様
Y9: 札幌市長
A11: =" "&情報入力シート!K3&様式第14号!AA4&"年"&様式第14号!AC4&"月"&様式第14号!AE4&"日付けで処分の承認申請のあった"&情報入力シート!$K$3&情報入力シート!$M$3&"年度"&情報入力シート!$K$2&"事業により取得した補助財産について、下記のとおり処分（目的外使用、譲渡、交換、貸付、担保）することを承認しましたので通知します。" -> 令和〇年〇月〇日付けで処分の承認申請のあった令和〇年度札幌市農業経営安定強化事業により取得した補助財産について、下記のとおり処分（目的外使用、譲渡、交換、貸付、担保）することを承認しましたので通知します。
A15: 記
A17: １ 承認申請の理由
A24: ２ 承認申請に係る施設等の概要
B26: （１）地区名
F28: 区
B30: （２）施設等の所在地
B34: （３）施設等の構造、規格、規模等
B38: （４）事業費
D40: ア 補助金
J42: 円
D44: イ その他の負担金
J46: 円
B48: （５）取得年月日（耐用年数及び経過年数）
D50: =情報入力シート!$K$3 -> 令和 | F50: 〇 | G50: 年 | H50: 〇 | I50: 月 | J50: 〇 | K50: 日 | N50: 耐用年数 | T50: 年
N51: 経過年数 | T51: 年
A53: ３ 承認申請に係る事項
B55: （１）処分予定時期
D57: =情報入力シート!$K$3 -> 令和 | F57: 〇 | G57: 年 | H57: 〇 | I57: 月 | J57: 〇 | K57: 日
B59: （２）処分（目的外使用、譲渡、交換、貸付、担保）の概要
D61: ア 施設等の処分方法及び処分後の利用（稼働）計画
D68: イ 処分に伴う条件等
E70: （例）処分に伴う助成金相当額について返納します。
D73: ウ 処分額または処分するために必要とする改造等の内容及び所要事業費
E75: 処分額
J77: 円
E79: 内容
E85: 所要事業費
J87: 円
B89: （３）その他
A98: （注）交換の場合にあっては、３の（３）を（４）とし、（２）の次に以下の事項を追加する。
B100: （３）交換の対象施設等の概要
D102: ア 施設等の処分方法及び処分後の利用（稼働）計画
D109: イ 処分に伴う条件等
...

Sheet データ入力用リスト
B2: １ | C2: １ | D2: 工事請負 | E2: あり | F2: 普通預金 | G2: 札 農 支 第 | H2: 秋元 克広 | I2: 中央 | J2: 販売金額 | K2: ５ | L2: 増加 | M2: 普通預金
B3: ２ | C3: ２ | D3: 物品・役務 | E3: なし | F3: 当座預金 | G3: 札農支第 | I3: 北 | J3: 農業所得 | K3: 10 | L3: 減少 | M3: 総合口座
B4: ３ | C4: ３ | I4: 東 | J4: 経営面積 | K4: 15 | M4: 当座預金
B5: ４ | C5: ４ | I5: 白石 | J5: 取引事業者 | K5: 20
B6: ５ | C6: ５ | I6: 豊平 | J6: 労働時間 | K6: 25
B7: ６ | C7: ６ | I7: 南 | J7: 農業経営費 | K7: 30
B8: ７ | C8: ７ | I8: 西 | J8: 正雇用者数 | K8: 35
B9: ８ | C9: ８ | I9: 厚別 | K9: 40
B10: ９ | C10: ９ | I10: 手稲 | K10: 45
B11: 10 | C11: 10 | I11: 清田 | K11: 50
B12: 11 | C12: 11
B13: 12 | C13: 12
B14: 〇 | C14: 13
C15: 14
C16: 15
C17: 16
C18: 17
C19: 18
C20: 19
C21: 20
C22: 21
C23: 22
C24: 23
C25: 24
C26: 25
... C33: 〇
