Workbook
Name チェックボックス名: #REF!
Name チェックボックス名: #REF!
Name 科目名: #REF!
Name 科目名: #REF!
Name 決定前科目名: #REF!
Name 決定前科目名: #REF!
Name 決定前項目名: #REF!
Name 決定前項目名: #REF!
Name 分野名: #REF!
Name 分野名: #REF!

Sheet 様式1
A1: 様式１
E2: =IF(OR(C2="年 月 日",C2=""),"申請年月日を入力してください","入力済") -> 申請年月日を入力してください | G2: 助成の種類 | I2: 概算額交付の申出 | J2: 札幌市の他の助成等 | K2: 預金種別
A3: （あて先）南区長 | G3: 単発事業助成 | I3: 概算額交付を希望します（事業終了前に助成金の交付をお願いします） | J3: A) 札幌市の他の助成等は受けません（申請予定はありません） | K3: 普通
G4: 継続事業助成 | I4: 概算額交付を希望しません（事業終了後に助成金を受け取ります） | J4: B) 札幌市の他の助成等を申請中/申請予定です | K4: 当座
A5: みなみ区魅力発信事業助成金交付申請書 | K5: 別段
A7: =IF(OR(様式1!C2="年 月 日",様式1!C2="")," 年度みなみ区魅力発信事業助成金の交付を受けたいので、「みなみ区魅力発信事業助成金交付要綱」の規定に基づき、関係書類を添えて下記のとおり申請します。"," 令和"&YEAR(様式1!C2)-(MONTH(様式1!C2)<4)-2018+1&"年度("&YEAR(様式1!C2)-(MONTH(様式1!C2)<4)+1&"年度)"&"みなみ区魅力発信事業助成金の交付を受けたいので、「みなみ区魅力発信事業助成金交付要綱」の規定に基づき、関係書類を添えて下記のとおり申請します。") -> 年度みなみ区魅力発信事業助成金の交付を受けたいので、「みなみ区魅力発信事業助成金交付要綱」の規定に基づき、関係書類を添えて下記のとおり申請します。
A9: 記
A10: ▼団体情報
A11: 団体名 | E11: =IF(C11="","必須","入力済") -> 必須
A12: 代表者職名・氏名 | E12: =IF(C12="","必須","入力済") -> 必須
A13: 郵便番号 | E13: =IF(C13="","必須","入力済") -> 必須
A14: 住所 | E14: =IF(C14="","必須","入力済") -> 必須
A15: 担当者名 | E15: =IF(C15="","必須","入力済") -> 必須
A16: 電話番号 | E16: =IF(C16="","必須","入力済") -> 必須
A17: メールアドレス | E17: =IF(C17="","必須","入力済") -> 必須
A19: ▼申請内容
A20: 助成の種類 | E20: =IF(C20="","必須","入力済") -> 必須
A21: 事業名 | E21: =IF(C21="","必須",IF(LEN(CLEAN(C21))<=50,"入力済","事業名は50文字以内としてください")) -> 必須
A22: 助成金申請額 | C22: =IF(様式3!R6="","（申請額は様式３に入力してください。）",様式3!R6) -> （申請額は様式３に入力してください。） | E22: =IF(様式3!R6="","申請額は様式３に入力してください","入力済") -> 申請額は様式３に入力してください
A23: 概算額交付の申出 | E23: =IF(C23="","必須","入力済") -> 必須
A24: （希望する場合：理由） | E24: =IF(C23="", "", IF(ISNUMBER(SEARCH("希望します", C23)), IF(C24<>"", "入力済", "必須"),"入力済"))
A26: ▼助成金申請状況 ※札幌市の他の助成等と重複して受けることはできません。
A27: 申請事業について | E27: =IF(C27="","必須","入力済") -> 必須
A28: （Bの場合） | B28: 補助金名 | E28: {=_xlfn.IFS($C$27="","",ISNUMBER(SEARCH("ません",$C$27)),IF(C28="","入力済","入力不要です"),ISNUMBER(SEARCH("申請中",$C$27)),"必須")}
B29: 担当部局 | E29: {=_xlfn.IFS($C$27="","",ISNUMBER(SEARCH("ません",$C$27)),IF(C29="","入力済","入力不要です"),ISNUMBER(SEARCH("申請中",$C$27)),"必須")}
A31: ▼振込先口座
A32: 金融機関名 | E32: =IF(C32="","必須","入力済") -> 必須
A33: 本・支店名 | E33: =IF(C33="","必須","入力済") -> 必須
A34: 預金種別 | E34: =IF(C34="","必須","入力済") -> 必須
A35: 口座番号 | E35: =IF(C35="","必須","入力済") -> 必須
A36: （フリガナ） | E36: =IF(C36="","必須","入力済") -> 必須
A37: 口座名義 | E37: =IF(C37="","必須","入力済") -> 必須
A38: ※通帳の名義人・預金種目・口座番号が分かるページの写しを添付してください。

Sheet 様式2
A1: 様式２ | C1: =様式1!C11 -> 0 | G1: 周知方法 | H1: 減額交付決定の場合 | I1: さぽーとほっと基金により助成を受けた回数
G2: チラシ・ポスター等の印刷物 | H2: A) 事業を実施しません（減額される場合は、不交付決定となっても構いません） | I2: 0回
A3: =IF(OR(様式1!C2="年 月 日",様式1!C2=""),"事業計画書（ 年度）","事業計画書（令和"&YEAR(様式1!C2)-(MONTH(様式1!C2)<4)-2018+1&"年度("&YEAR(様式1!C2)-(MONTH(様式1!C2)<4)+1&"年度))") -> 事業計画書（ 年度） | G3: ホームページ | H3: B) 下記の金額以上の助成金があれば、計画内容を変更せずに事業を実施します。 | I3: 1回
G4: ＳＮＳ | H4: C) 自己資金等により、計画内容を変更せずに事業を実施します。 | I4: 2回
A5: ▼助成事業 | G5: その他 | I5: 3回以上
A6: 事業名 | C6: =IF(ISBLANK(様式1!C21),"（様式１に入力してください。）",様式1!C21) -> （様式１に入力してください。） | E6: =IF(様式1!C21="","申請額は様式１に入力してください","入力済") -> 申請額は様式１に入力してください
A7: 事業の目的 地域資源の活用による南区の魅力発信や賑わいの創出の観点を意識して記入してください。 | E7: =IF(C7="","必須",LEN(CLEAN(C7))&"文字") -> 必須
A8: 事業期間 | E8: =IF(C8="","必須","入力済") -> 必須
A9: 事業内容 | B9: 日時 | E9: =IF(C9="","必須","入力済") -> 必須
B10: 場所 | E10: =IF(C10="","必須","入力済") -> 必須
B11: 対象者 | E11: =IF(C11="","必須","入力済") -> 必須
B12: 参加人数 | E12: =IF(C12="","必須","入力済") -> 必須
B13: 参加費 | E13: =IF(C13="","必須","入力済") -> 必須
B14: 周知方法 | E14: =IF(C14="","必須","入力済") -> 必須
B18: （その他の場合：方法） | E18: =IF(ISNUMBER(SEARCH("その他",CONCATENATE(C14,C15,C16,C17))),"必須","")
B19: 詳細 地域団体・住民との連携や、実施体制の観点も意識して記入ください。 | E19: =IF(C19="","必須",LEN(CLEAN(C19))&"文字") -> 必須
A20: 事業の効果 地域経済や観光業にポジティブな印象や南区への来訪増など。 | E20: =IF(C20="","必須",LEN(CLEAN(C20))&"文字") -> 必須

Sheet 様式3
A1: 様式３ | S1: =様式1!C11 -> 0
A3: 収支計画書 | X3: 助成の種類 | Y3: 助成上限額 | Z3: 単位
A4: ▼収入の部 | X4: ①スタートアップ助成 | Y4: 100000 | Z4: 人
A5: 項目 | D5: 摘要 | R5: 金額 | S5: 小計 | X5: ③テーマ指定助成 | Y5: 2000000 | Z5: 回
A6: 収入 | B6: みなみ区魅力発信事業助成金 | S6: =R6 -> 0 | U6: =IF(様式1!C20="","助成金の種類を選択してください。",IF(R6<>0,IF(S6<=MIN($S$89*3/4,_xlfn.IFS(様式1!$C$20="単発事業助成",50000,様式1!$C$20="継続事業助成",100000)),"入力済み","【収入の部】助成金申請額が助成金上限額"&TEXT(MIN($S$89*3/4,_xlfn.IFS(様式1!$C$20="単発事業助成",50000,様式1!$C$20="継続事業助成",100000)),"（###,#円）")&"を超過しています"),"助成金額を入力してください")) -> 助成金の種類を選択してください。 | X6: ④団体指定助成 | Y6: 99999999 | Z6: 時間
B7: 自己負担額 | C7: 自己資金 | S7: =SUM(R7:R11) -> 0 | Z7: 週
Z8: 月
Z9: 年
Z10: 個
Z11: セット
C12: 他の 補助金・助成金 | S12: =SUM(R12:R16) -> 0 | Z12: 式
Z13: 枚
Z14: 台
Z15: 本
Z16: 冊
C17: 寄附金・協賛金 | S17: =SUM(R17:R21) -> 0 | Z17: 通
Z18: 部
C22: その他 | S22: =SUM(R22:R26) -> 0
C27: 自己負担額計 | S27: =SUM(S7:S26) -> 0
B28: 収入合計 | S28: =SUM(S6,S27) -> 0 | U28: =IF(S28=S99,"","収入合計と支出合計を一致させてください")
A30: ▼支出の部
A31: 項目 | D31: 摘要 | F31: 内訳 | R31: 金額 | S31: 小計
G32: 単価 | J32: 数量 | K32: 単位 | M32: 数量 | N32: 単位 | P32: 数量 | Q32: 単位
A33: 支出 | B33: 助成対象経費 | C33: 報償費 | F33: @ | H33: 円 | I33: × | L33: × | O33: × | R33: =IF(G33="",0,PRODUCT(G33,J33,M33,P33)) -> 0 | S33: =SUM(R33:R40) -> 0
F34: @ | H34: 円 | I34: × | L34: × | O34: × | R34: =IF(G34="",0,PRODUCT(G34,J34,M34,P34)) -> 0
F35: @ | H35: 円 | I35: × | L35: × | O35: × | R35: =IF(G35="",0,PRODUCT(G35,J35,M35,P35)) -> 0
F36: @ | H36: 円 | I36: × | L36: × | O36: × | R36: =IF(G36="",0,PRODUCT(G36,J36,M36,P36)) -> 0
F37: @ | H37: 円 | I37: × | L37: × | O37: × | R37: =IF(G37="",0,PRODUCT(G37,J37,M37,P37)) -> 0
F38: @ | H38: 円 | I38: × | L38: × | O38: × | R38: =IF(G38="",0,PRODUCT(G38,J38,M38,P38)) -> 0
F39: @ | H39: 円 | I39: × | L39: × | O39: × | R39: =IF(G39="",0,PRODUCT(G39,J39,M39,P39)) -> 0
F40: @ | H40: 円 | I40: × | L40: × | O40: × | R40: =IF(G40="",0,PRODUCT(G40,J40,M40,P40)) -> 0
C41: 消耗品費 | F41: @ | H41: 円 | I41: × | L41: × | O41: × | R41: =IF(G41="",0,PRODUCT(G41,J41,M41,P41)) -> 0 | S41: =SUM(R41:R48) -> 0
F42: @ | H42: 円 | I42: × | L42: × | O42: × | R42: =IF(G42="",0,PRODUCT(G42,J42,M42,P42)) -> 0
F43: @ | H43: 円 | I43: × | L43: × | O43: × | R43: =IF(G43="",0,PRODUCT(G43,J43,M43,P43)) -> 0
F44: @ | H44: 円 | I44: × | L44: × | O44: × | R44: =IF(G44="",0,PRODUCT(G44,J44,M44,P44)) -> 0
F45: @ | H45: 円 | I45: × | L45: × | O45: × | R45: =IF(G45="",0,PRODUCT(G45,J45,M45,P45)) -> 0
F46: @ | H46: 円 | I46: × | L46: × | O46: × | R46: =IF(G46="",0,PRODUCT(G46,J46,M46,P46)) -> 0
F47: @ | H47: 円 | I47: × | L47: × | O47: × | R47: =IF(G47="",0,PRODUCT(G47,J47,M47,P47)) -> 0
F48: @ | H48: 円 | I48: × | L48: × | O48: × | R48: =IF(G48="",0,PRODUCT(G48,J48,M48,P48)) -> 0
C49: 印刷費 | F49: @ | H49: 円 | I49: × | L49: × | O49: × | R49: =IF(G49="",0,PRODUCT(G49,J49,M49,P49)) -> 0 | S49: =SUM(R49:R56) -> 0
F50: @ | H50: 円 | I50: × | L50: × | O50: × | R50: =IF(G50="",0,PRODUCT(G50,J50,M50,P50)) -> 0
F51: @ | H51: 円 | I51: × | L51: × | O51: × | R51: =IF(G51="",0,PRODUCT(G51,J51,M51,P51)) -> 0
F52: @ | H52: 円 | I52: × | L52: × | O52: × | R52: =IF(G52="",0,PRODUCT(G52,J52,M52,P52)) -> 0
F53: @ | H53: 円 | I53: × | L53: × | O53: × | R53: =IF(G53="",0,PRODUCT(G53,J53,M53,P53)) -> 0
F54: @ | H54: 円 | I54: × | L54: × | O54: × | R54: =IF(G54="",0,PRODUCT(G54,J54,M54,P54)) -> 0
F55: @ | H55: 円 | I55: × | L55: × | O55: × | R55: =IF(G55="",0,PRODUCT(G55,J55,M55,P55)) -> 0
F56: @ | H56: 円 | I56: × | L56: × | O56: × | R56: =IF(G56="",0,PRODUCT(G56,J56,M56,P56)) -> 0
A57: 支出 | B57: 助成対象経費 | C57: 光熱水 ・ 燃料費 | F57: @ | H57: 円 | I57: × | L57: × | O57: × | R57: =IF(G57="",0,PRODUCT(G57,J57,M57,P57)) -> 0 | S57: =SUM(R57:R64) -> 0
F58: @ | H58: 円 | I58: × | L58: × | O58: × | R58: =IF(G58="",0,PRODUCT(G58,J58,M58,P58)) -> 0
F59: @ | H59: 円 | I59: × | L59: × | O59: × | R59: =IF(G59="",0,PRODUCT(G59,J59,M59,P59)) -> 0
F60: @ | H60: 円 | I60: × | L60: × | O60: × | R60: =IF(G60="",0,PRODUCT(G60,J60,M60,P60)) -> 0
F61: @ | H61: 円 | I61: × | L61: × | O61: × | R61: =IF(G61="",0,PRODUCT(G61,J61,M61,P61)) -> 0
F62: @ | H62: 円 | I62: × | L62: × | O62: × | R62: =IF(G62="",0,PRODUCT(G62,J62,M62,P62)) -> 0
F63: @ | H63: 円 | I63: × | L63: × | O63: × | R63: =IF(G63="",0,PRODUCT(G63,J63,M63,P63)) -> 0
F64: @ | H64: 円 | I64: × | L64: × | O64: × | R64: =IF(G64="",0,PRODUCT(G64,J64,M64,P64)) -> 0
C65: 役務費 | F65: @ | H65: 円 | I65: × | L65: × | O65: × | R65: =IF(G65="",0,PRODUCT(G65,J65,M65,P65)) -> 0 | S65: =SUM(R65:R72) -> 0
F66: @ | H66: 円 | I66: × | L66: × | O66: × | R66: =IF(G66="",0,PRODUCT(G66,J66,M66,P66)) -> 0
F67: @ | H67: 円 | I67: × | L67: × | O67: × | R67: =IF(G67="",0,PRODUCT(G67,J67,M67,P67)) -> 0
F68: @ | H68: 円 | I68: × | L68: × | O68: × | R68: =IF(G68="",0,PRODUCT(G68,J68,M68,P68)) -> 0
F69: @ | H69: 円 | I69: × | L69: × | O69: × | R69: =IF(G69="",0,PRODUCT(G69,J69,M69,P69)) -> 0
F70: @ | H70: 円 | I70: × | L70: × | O70: × | R70: =IF(G70="",0,PRODUCT(G70,J70,M70,P70)) -> 0
F71: @ | H71: 円 | I71: × | L71: × | O71: × | R71: =IF(G71="",0,PRODUCT(G71,J71,M71,P71)) -> 0
F72: @ | H72: 円 | I72: × | L72: × | O72: × | R72: =IF(G72="",0,PRODUCT(G72,J72,M72,P72)) -> 0
C73: 使用料 ・ 賃借料 | F73: @ | H73: 円 | I73: × | L73: × | O73: × | R73: =IF(G73="",0,PRODUCT(G73,J73,M73,P73)) -> 0 | S73: =SUM(R73:R80) -> 0
F74: @ | H74: 円 | I74: × | L74: × | O74: × | R74: =IF(G74="",0,PRODUCT(G74,J74,M74,P74)) -> 0
F75: @ | H75: 円 | I75: × | L75: × | O75: × | R75: =IF(G75="",0,PRODUCT(G75,J75,M75,P75)) -> 0
F76: @ | H76: 円 | I76: × | L76: × | O76: × | R76: =IF(G76="",0,PRODUCT(G76,J76,M76,P76)) -> 0
F77: @ | H77: 円 | I77: × | L77: × | O77: × | R77: =IF(G77="",0,PRODUCT(G77,J77,M77,P77)) -> 0
F78: @ | H78: 円 | I78: × | L78: × | O78: × | R78: =IF(G78="",0,PRODUCT(G78,J78,M78,P78)) -> 0
F79: @ | H79: 円 | I79: × | L79: × | O79: × | R79: =IF(G79="",0,PRODUCT(G79,J79,M79,P79)) -> 0
F80: @ | H80: 円 | I80: × | L80: × | O80: × | R80: =IF(G80="",0,PRODUCT(G80,J80,M80,P80)) -> 0
C81: 備品費 | F81: @ | H81: 円 | I81: × | L81: × | O81: × | R81: =IF(G81="",0,PRODUCT(G81,J81,M81,P81)) -> 0 | S81: =SUM(R81:R88) -> 0
F82: @ | H82: 円 | I82: × | L82: × | O82: × | R82: =IF(G82="",0,PRODUCT(G82,J82,M82,P82)) -> 0
F83: @ | H83: 円 | I83: × | L83: × | O83: × | R83: =IF(G83="",0,PRODUCT(G83,J83,M83,P83)) -> 0
F84: @ | H84: 円 | I84: × | L84: × | O84: × | R84: =IF(G84="",0,PRODUCT(G84,J84,M84,P84)) -> 0
F85: @ | H85: 円 | I85: × | L85: × | O85: × | R85: =IF(G85="",0,PRODUCT(G85,J85,M85,P85)) -> 0
F86: @ | H86: 円 | I86: × | L86: × | O86: × | R86: =IF(G86="",0,PRODUCT(G86,J86,M86,P86)) -> 0
F87: @ | H87: 円 | I87: × | L87: × | O87: × | R87: =IF(G87="",0,PRODUCT(G87,J87,M87,P87)) -> 0
F88: @ | H88: 円 | I88: × | L88: × | O88: × | R88: =IF(G88="",0,PRODUCT(G88,J88,M88,P88)) -> 0
C89: 助成対象経費計 | S89: =SUM(S33:S88) -> 0 | U89: ="助成対象経費×3/4 ＝ "& TEXT(ROUNDDOWN(S89*3/4,-3),"###,#円") -> 助成対象経費×3/4 ＝ 円
B90: 助成対象外経費 | C90: 助成対象外経費 | F90: @ | H90: 円 | I90: × | L90: × | O90: × | R90: =IF(G90="",0,PRODUCT(G90,J90,M90,P90)) -> 0 | S90: =SUM(R90:R97) -> 0 | U90: =IFERROR("助成金上限額 = "& TEXT(MIN($S$89*3/4,_xlfn.IFS(様式1!$C$20="単発事業助成",50000,様式1!$C$20="継続事業助成",100000)),"###,#円"),"")
F91: @ | H91: 円 | I91: × | L91: × | O91: × | R91: =IF(G91="",0,PRODUCT(G91,J91,M91,P91)) -> 0
F92: @ | H92: 円 | I92: × | L92: × | O92: × | R92: =IF(G92="",0,PRODUCT(G92,J92,M92,P92)) -> 0
F93: @ | H93: 円 | I93: × | L93: × | O93: × | R93: =IF(G93="",0,PRODUCT(G93,J93,M93,P93)) -> 0
F94: @ | H94: 円 | I94: × | L94: × | O94: × | R94: =IF(G94="",0,PRODUCT(G94,J94,M94,P94)) -> 0
F95: @ | H95: 円 | I95: × | L95: × | O95: × | R95: =IF(G95="",0,PRODUCT(G95,J95,M95,P95)) -> 0
F96: @ | H96: 円 | I96: × | L96: × | O96: × | R96: =IF(G96="",0,PRODUCT(G96,J96,M96,P96)) -> 0
F97: @ | H97: 円 | I97: × | L97: × | O97: × | R97: =IF(G97="",0,PRODUCT(G97,J97,M97,P97)) -> 0
C98: 助成対象外経費計 | S98: =S90 -> 0
B99: 支出合計 | S99: =SUM(S89,S98) -> 0 | U99: =IF(S28=S99,"","収入合計と支出合計を一致させてください")

Sheet 様式４
A1: 様式４
A3: 団体概要書
A7: （フリガナ） | D7: =IF(B7="","必須","入力済") -> 必須
A8: 団体名 | B8: =IF(ISBLANK(様式1!C11),"（様式１に入力してください。）",様式1!C11) -> （様式１に入力してください。） | D8: =IF(様式1!C11=0,"様式１に入力してください","入力済") -> 様式１に入力してください
A9: 代表者役職・氏名 | B9: =IF(ISBLANK(様式1!C12),"（様式１に入力してください。）",様式1!C12) -> （様式１に入力してください。） | D9: =IF(様式1!C12=0,"様式１に入力してください","入力済") -> 様式１に入力してください
A10: 団体所在区 | D10: =IF(B10="","必須","入力済") -> 必須
A11: 主な活動場所 | D11: =IF(B11="","必須","入力済") -> 必須
A12: 電話番号 | B12: =IF(ISBLANK(様式1!C16),"（様式１に入力してください。）",様式1!C16) -> （様式１に入力してください。） | D12: =IF(様式1!C16=0,"様式１に入力してください","入力済") -> 様式１に入力してください
A13: メールアドレス | B13: =IF(ISBLANK(様式1!C17),"（様式１に入力してください。）",様式1!C17) -> （様式１に入力してください。） | D13: =IF(様式1!C17=0,"様式１に入力してください","入力済") -> 様式１に入力してください
A14: HPアドレス | D14: =IF(B14="","任意","入力済") -> 任意
A15: 活動開始年月 | D15: =IF(B15="","必須","入力済") -> 必須
A16: 設立年月 | D16: =IF(B16="","必須","入力済") -> 必須
A17: 構成員の人数 | D17: =IF(B17="","必須","入力済") -> 必須
A18: 設立目的 | D18: =IF(B18="","必須","入力済") -> 必須
A19: 活動内容 | D19: =IF(B19="","必須","入力済") -> 必須
A20: 活動実績 | D20: =IF(B20="","必須","入力済") -> 必須

Sheet 構成員名簿
C1: =様式1!C11 -> 0
A3: 構成員名簿
A8: No. | B8: 氏名 | C8: 住所
A9: 1 | E9: =IF(OR(B9="",C9=""),"必須","入力済") -> 必須
A10: 2 | E10: =IF(OR(B10="",C10=""),"任意","入力済") -> 任意
A11: 3 | E11: =IF(OR(B11="",C11=""),"任意","入力済") -> 任意
A12: 4 | E12: =IF(OR(B12="",C12=""),"任意","入力済") -> 任意
A13: 5 | E13: =IF(OR(B13="",C13=""),"任意","入力済") -> 任意
A14: 6 | E14: =IF(OR(B14="",C14=""),"任意","入力済") -> 任意
A15: 7 | E15: =IF(OR(B15="",C15=""),"任意","入力済") -> 任意
A16: 8 | E16: =IF(OR(B16="",C16=""),"任意","入力済") -> 任意
A17: 9 | E17: =IF(OR(B17="",C17=""),"任意","入力済") -> 任意
A18: 10 | E18: =IF(OR(B18="",C18=""),"任意","入力済") -> 任意
A20: 他 | C20: 人
A22: ※10名以上の人数を、他〇人と記載してください
