Workbook
Name チェックボックス名: #REF!
Name チェックボックス名: #REF!
Name 科目名: #REF!
Name 科目名: #REF!
Name 決定前科目名: #REF!
Name 決定前科目名: #REF!
Name 決定前項目名: #REF!
Name 決定前項目名: #REF!
Name 分野名: #REF!
Name 分野名: #REF!

Sheet 様式1
A1: 様式１
E2: =IF(OR(C2="年 月 日",C2=""),"申請年月日を入力してください","入力済") -> 申請年月日を入力してください | G2: 助成の種類 | I2: 概算額交付の申出 | J2: 札幌市の他の助成等 | K2: 預金種別
A3: （あて先）南区長 | G3: 単発事業助成 | I3: 概算額交付を希望します（事業終了前に助成金の交付をお願いします） | J3: A) 札幌市の他の助成等は受けません（申請予定はありません） | K3: 普通
G4: 継続事業助成 | I4: 概算額交付を希望しません（事業終了後に助成金を受け取ります） | J4: B) 札幌市の他の助成等を申請中/申請予定です | K4: 当座
A5: みなみ区魅力発信事業助成金交付申請書 | K5: 別段
A7: =IF(OR(様式1!C2="年 月 日",様式1!C2="")," 年度みなみ区魅力発信事業助成金の交付を受けたいので、「みなみ区魅力発信事業助成金交付要綱」の規定に基づき、関係書類を添えて下記のとおり申請します。"," 令和"&YEAR(様式1!C2)-(MONTH(様式1!C2)<4)-2018+1&"年度("&YEAR(様式1!C2)-(MONTH(様式1!C2)<4)+1&"年度)"&"みなみ区魅力発信事業助成金の交付を受けたいので、「みなみ区魅力発信事業助成金交付要綱」の規定に基づき、関係書類を添えて下記のとおり申請します。") -> 年度みなみ区魅力発信事業助成金の交付を受けたいので、「みなみ区魅力発信事業助成金交付要綱」の規定に基づき、関係書類を添えて下記のとおり申請します。
A9: 記
A10: ▼団体情報
A11: 団体名 | E11: =IF(C11="","必須","入力済") -> 必須
A12: 代表者職名・氏名 | E12: =IF(C12="","必須","入力済") -> 必須
A13: 郵便番号 | E13: =IF(C13="","必須","入力済") -> 必須
A14: 住所 | E14: =IF(C14="","必須","入力済") -> 必須
A15: 担当者名 | E15: =IF(C15="","必須","入力済") -> 必須
A16: 電話番号 | E16: =IF(C16="","必須","入力済") -> 必須
A17: メールアドレス | E17: =IF(C17="","必須","入力済") -> 必須
A19: ▼申請内容
A20: 助成の種類 | E20: =IF(C20="","必須","入力済") -> 必須
A21: 事業名 | E21: =IF(C21="","必須",IF(LEN(CLEAN(C21))<=50,"入力済","事業名は50文字以内としてください")) -> 必須
A22: 助成金申請額 | C22: =IF(様式3!R6="","（申請額は様式３に入力してください。）",様式3!R6) -> （申請額は様式３に入力してください。） | E22: =IF(様式3!R6="","申請額は様式３に入力してください","入力済") -> 申請額は様式３に入力してください
A23: 概算額交付の申出 | E23: =IF(C23="","必須","入力済") -> 必須
A24: （希望する場合：理由） | E24: =IF(C23="", "", IF(ISNUMBER(SEARCH("希望します", C23)), IF(C24<>"", "入力済", "必須"),"入力済"))
A26: ▼助成金申請状況 ※札幌市の他の助成等と重複して受けることはできません。
A27: 申請事業について | E27: =IF(C27="","必須","入力済") -> 必須
A28: （Bの場合） | B28: 補助金名 | E28: {=_xlfn.IFS($C$27="","",ISNUMBER(SEARCH("ません",$C$27)),IF(C28="","入力済","入力不要です"),ISNUMBER(SEARCH("申請中",$C$27)),"必須")}
B29: 担当部局 | E29: {=_xlfn.IFS($C$27="","",ISNUMBER(SEARCH("ません",$C$27)),IF(C29="","入力済","入力不要です"),ISNUMBER(SEARCH("申請中",$C$27)),"必須")}
A31: ▼振込先口座
A32: 金融機関名 | E32: =IF(C32="","必須","入力済") -> 必須
A33: 本・支店名 | E33: =IF(C33="","必須","入力済") -> 必須
A34: 預金種別 | E34: =IF(C34="","必須","入力済") -> 必須
A35: 口座番号 | E35: =IF(C35="","必須","入力済") -> 必須
A36: （フリガナ） | E36: =IF(C36="","必須","入力済") -> 必須
A37: 口座名義 | E37: =IF(C37="","必須","入力済") -> 必須
A38: ※通帳の名義人・預金種目・口座番号が分かるページの写しを添付してください。

Sheet 様式2
A1: 様式２ | C1: =様式1!C11 -> 0 | G1: 周知方法 | H1: 減額交付決定の場合 | I1: さぽーとほっと基金により助成を受けた回数
G2: チラシ・ポスター等の印刷物 | H2: A) 事業を実施しません（減額される場合は、不交付決定となっても構いません） | I2: 0回
A3: =IF(OR(様式1!C2="年 月 日",様式1!C2=""),"事業計画書（ 年度）","事業計画書（令和"&YEAR(様式1!C2)-(MONTH(様式1!C2)<4)-2018+1&"年度("&YEAR(様式1!C2)-(MONTH(様式1!C2)<4)+1&"年度))") -> 事業計画書（ 年度） | G3: ホームページ | H3: B) 下記の金額以上の助成金があれば、計画内容を変更せずに事業を実施します。 | I3: 1回
G4: ＳＮＳ | H4: C) 自己資金等により、計画内容を変更せずに事業を実施します。 | I4: 2回
A5: ▼助成事業 | G5: その他 | I5: 3回以上
A6: 事業名 | C6: =IF(ISBLANK(様式1!C21),"（様式１に入力してください。）",様式1!C21) -> （様式１に入力してください。） | E6: =IF(様式1!C21="","申請額は様式１に入力してください","入力済") -> 申請額は様式１に入力してください
A7: 事業の目的 地域資源の活用による南区の魅力発信や賑わいの創出の観点を意識して記入してください。 | E7: =IF(C7="","必須",LEN(CLEAN(C7))&"文字") -> 必須
A8: 事業期間 | E8: =IF(C8="","必須","入力済") -> 必須
A9: 事業内容 | B9: 日時 | E9: =IF(C9="","必須","入力済") -> 必須
B10: 場所 | E10: =IF(C10="","必須","入力済") -> 必須
B11: 対象者 | E11: =IF(C11="","必須","入力済") -> 必須
B12: 参加人数 | E12: =IF(C12="","必須","入力済") -> 必須
B13: 参加費 | E13: =IF(C13="","必須","入力済") -> 必須
B14: 周知方法 | E14: =IF(C14="","必須","入力済") -> 必須
B18: （その他の場合：方法） | E18: =IF(ISNUMBER(SEARCH("その他",CONCATENATE(C14,C15,C16,C17))),"必須","")
B19: 詳細 地域団体・住民との連携や、実施体制の観点も意識して記入ください。 | E19: =IF(C19="","必須",LEN(CLEAN(C19))&"文字") -> 必須
A20: 事業の効果 地域経済や観光業にポジティブな印象や南区への来訪増など。 | E20: =IF(C20="","必須",LEN(CLEAN(C20))&"文字") -> 必須

Sheet 様式3
A1: 様式３ | S1: =様式1!C11 -> 0
A3: 収支計画書 | X3: 助成の種類 | Y3: 助成上限額 | Z3: 単位
A4: ▼収入の部 | X4: ①スタートアップ助成 | Y4: 100000 | Z4: 人
A5: 項目 | D5: 摘要 | R5: 金額 | S5: 小計 | X5: ③テーマ指定助成 | Y5: 2000000 | Z5: 回
A6: 収入 | B6: みなみ区魅力発信事業助成金 | S6: =R6 -> 0 | U6: =IF(様式1!C20="","助成金の種類を選択してください。",IF(R6<>0,IF(S6<=MIN($S$89*3/4,_xlfn.IFS(様式1!$C$20="単発事業助成",50000,様式1!$C$20="継続事業助成",100000)),"入力済み","【収入の部】助成金申請額が助成金上限額"&TEXT(MIN($S$89*3/4,_xlfn.IFS(様式1!$C$20="単発事業助成",50000,様式1!$C$20="継続事業助成",100000)),"（###,#円）")&"を超過しています"),"助成金額を入力してください")) -> 助成金の種類を選択してください。 | X6: ④団体指定助成 | Y6: 99999999 | Z6: 時間
B7: 自己負担額 | C7: 自己資金 | S7: =SUM(R7:R11) -> 0 | Z7: 週
Z8: 月
Z9: 年
Z10: 個
Z11: セット
C12: 他の 補助金・助成金 | S12: =SUM(R12:R16) -> 0 | Z12: 式
Z13: 枚
Z14: 台
Z15: 本
Z16: 冊
C17: 寄附金・協賛金 | S17: =SUM(R17:R21) -> 0 | Z17: 通
Z18: 部
C22: その他 | S22: =SUM(R22:R26) -> 0
C27: 自己負担額計 | S27: =SUM(S7:S26) -> 0
B28: 収入合計 | S28: =SUM(S6,S27) -> 0 | U28: =IF(S28=S99,"","収入合計と支出合計を一致させてください")
A30: ▼支出の部
A31: 項目 | D31: 摘要 | F31: 内訳 | R31: 金額 | S31: 小計
G32: 単価 | J32: 数量 | K32: 単位 | M32: 数量 | N32: 単位 | P32: 数量 | Q32: 単位
A33: 支出 | B33: 助成対象経費 | C33: 報償費 | F33: @ | H33: 円 | I33: × | L33: × | O33: × | R33: =IF(G33="",0,PRODUCT(G33,J33,M33,P33)) -> 0 | S33: =SUM(R33:R40) -> 0
F34: @ | H34: 円 | I34: × | L34: × | O34: × | R34: =IF(G34="",0,PRODUCT(G34,J34,M34,P34)) -> 0
F35: @ | H35: 円 | I35: × | L35: × | O35: × | R35: =IF(G35="",0,PRODUCT(G35,J35,M35,P35)) -> 0
F36: @ | H36: 円 | I36: × | L36: × | O36: × | R36: =IF(G36="",0,PRODUCT(G36,J36,M36,P36)) -> 0
F37: @ | H37: 円 | I37: × | L37: × | O37: × | R37: =IF(G37="",0,PRODUCT(G37,J37,M37,P37)) -> 0
F38: @ | H38: 円 | I38: × | L38: × | O38: × | R38: =IF(G38="",0,PRODUCT(G38,J38,M38,P38)) -> 0
F39: @ | H39: 円 | I39: × | L39: × | O39: × | R39: =IF(G39="",0,PRODUCT(G39,J39,M39,P39)) -> 0
F40: @ | H40: 円 | I40: × | L40: × | O40: × | R40: =IF(G40="",0,PRODUCT(G40,J40,M40,P40)) -> 0
C41: 消耗品費 | F41: @ | H41: 円 | I41: × | L41: × | O41: × | R41: =IF(G41="",0,PRODUCT(G41,J41,M41,P41)) -> 0 | S41: =SUM(R41:R48) -> 0
F42: @ | H42: 円 | I42: × | L42: × | O42: × | R42: =IF(G42="",0,PRODUCT(G42,J42,M42,P42)) -> 0
F43: @ | H43: 円 | I43: × | L43: × | O43: × | R43: =IF(G43="",0,PRODUCT(G43,J43,M43,P43)) -> 0
F44: @ | H44: 円 | I44: × | L44: × | O44: × | R44: =IF(G44="",0,PRODUCT(G44,J44,M44,P44)) -> 0
F45: @ | H45: 円 | I45: × | L45: × | O45: × | R45: =IF(G45="",0,PRODUCT(G45,J45,M45,P45)) -> 0
F46: @ | H46: 円 | I46: × | L46: × | O46: × | R46: =IF(G46="",0,PRODUCT(G46,J46,M46,P46)) -> 0
F47: @ | H47: 円 | I47: × | L47: × | O47: × | R47: =IF(G47="",0,PRODUCT(G47,J47,M47,P47)) -> 0
F48: @ | H48: 円 | I48: × | L48: × | O48: × | R48: =IF(G48="",0,PRODUCT(G48,J48,M48,P48)) -> 0
C49: 印刷費 | F49: @ | H49: 円 | I49: × | L49: × | O49: × | R49: =IF(G49="",0,PRODUCT(G49,J49,M49,P49)) -> 0 | S49: =SUM(R49:R56) -> 0
...

Sheet 様式４
A1: 様式４
A3: 団体概要書
A7: （フリガナ） | D7: =IF(B7="","必須","入力済") -> 必須
A8: 団体名 | B8: =IF(ISBLANK(様式1!C11),"（様式１に入力してください。）",様式1!C11) -> （様式１に入力してください。） | D8: =IF(様式1!C11=0,"様式１に入力してください","入力済") -> 様式１に入力してください
A9: 代表者役職・氏名 | B9: =IF(ISBLANK(様式1!C12),"（様式１に入力してください。）",様式1!C12) -> （様式１に入力してください。） | D9: =IF(様式1!C12=0,"様式１に入力してください","入力済") -> 様式１に入力してください
A10: 団体所在区 | D10: =IF(B10="","必須","入力済") -> 必須
A11: 主な活動場所 | D11: =IF(B11="","必須","入力済") -> 必須
A12: 電話番号 | B12: =IF(ISBLANK(様式1!C16),"（様式１に入力してください。）",様式1!C16) -> （様式１に入力してください。） | D12: =IF(様式1!C16=0,"様式１に入力してください","入力済") -> 様式１に入力してください
A13: メールアドレス | B13: =IF(ISBLANK(様式1!C17),"（様式１に入力してください。）",様式1!C17) -> （様式１に入力してください。） | D13: =IF(様式1!C17=0,"様式１に入力してください","入力済") -> 様式１に入力してください
A14: HPアドレス | D14: =IF(B14="","任意","入力済") -> 任意
A15: 活動開始年月 | D15: =IF(B15="","必須","入力済") -> 必須
A16: 設立年月 | D16: =IF(B16="","必須","入力済") -> 必須
A17: 構成員の人数 | D17: =IF(B17="","必須","入力済") -> 必須
A18: 設立目的 | D18: =IF(B18="","必須","入力済") -> 必須
A19: 活動内容 | D19: =IF(B19="","必須","入力済") -> 必須
A20: 活動実績 | D20: =IF(B20="","必須","入力済") -> 必須

Sheet 構成員名簿
C1: =様式1!C11 -> 0
A3: 構成員名簿
A8: No. | B8: 氏名 | C8: 住所
A9: 1 | E9: =IF(OR(B9="",C9=""),"必須","入力済") -> 必須
A10: 2 | E10: =IF(OR(B10="",C10=""),"任意","入力済") -> 任意
A11: 3 | E11: =IF(OR(B11="",C11=""),"任意","入力済") -> 任意
A12: 4 | E12: =IF(OR(B12="",C12=""),"任意","入力済") -> 任意
A13: 5 | E13: =IF(OR(B13="",C13=""),"任意","入力済") -> 任意
A14: 6 | E14: =IF(OR(B14="",C14=""),"任意","入力済") -> 任意
A15: 7 | E15: =IF(OR(B15="",C15=""),"任意","入力済") -> 任意
A16: 8 | E16: =IF(OR(B16="",C16=""),"任意","入力済") -> 任意
A17: 9 | E17: =IF(OR(B17="",C17=""),"任意","入力済") -> 任意
A18: 10 | E18: =IF(OR(B18="",C18=""),"任意","入力済") -> 任意
A20: 他 | C20: 人
A22: ※10名以上の人数を、他〇人と記載してください
