Workbook

Sheet 施設訪問記録（札幌市様式）
B2: 《札幌市様式》
N3: 令和 | P3: 年 | R3: 月 | T3: 日
D5: 令和 | G5: 年度第 | J5: 回地域連携推進会議 施設訪問記録
B7: １．実施状況
B9: 事業所番号
B10: 共同生活住居名/ 障害者支援施設名
B11: 施設訪問日時 | F11: 令和 | H11: 年 | J11: 月 | L11: 日 | N11: 曜日 | P11: ： | R11: ～ | S11: ：
B12: 住居/施設住所
B13: 出欠状況 ※利用者・利用者家族・地域の関係者は必須参加者です。 ※福祉に知見のある人・経営に知見のある人はどちらか1名の参加が必須です。 | F13: 構成員種別 | J13: 出席 | L13: 欠席 | N13: 備考（欠席理由等）
F14: 利用者 | K14: 名 | M14: 名
F15: 利用者家族 | K15: 名 | M15: 名
F16: 地域の関係者 | K16: 名 | M16: 名
F17: 福祉に知見のある人 | K17: 名 | M17: 名
F18: 経営に知見のある人 | K18: 名 | M18: 名
F19: 事務局（施設職員） | K19: 名 | M19: 名
B21: ２．構成員からの質問、意見、感想等
B25: ※ 複数の共同生活住居を設置している場合、共同生活住居ごとに１ファイルとして作成してください。
B26: ※ 施設訪問を複数回に分散して実施した場合、訪問日ごとに１ファイルとして作成してください。
B27: ※ 取りまとめの都合上、行や列の追加・削除等の変更は行わないでください。

Sheet 記載例
B2: 《札幌市様式》
N3: 令和 | O3: 7 | P3: 年 | Q3: 9 | R3: 月 | S3: 30 | T3: 日
D5: 令和 | F5: 7 | G5: 年度第 | I5: 1 | J5: 回地域連携推進会議 施設訪問記録
B7: １．実施状況
B9: 事業所番号 | F9: 0123456789
B10: 共同生活住居名/ 障害者支援施設名 | F10: Ａ共同生活住居
B11: 施設訪問日時 | F11: 令和 | G11: 7 | H11: 年 | I11: 9 | J11: 月 | K11: 29 | L11: 日 | M11: 月 | N11: 曜日 | P11: 0.61805556 | R11: ～ | S11: 0.63888889
B12: 住居/施設住所 | F12: 札幌市中央区北１条西２丁目１－２
B13: 出欠状況 | F13: 構成員種別 | J13: 出席 | L13: 欠席 | N13: 備考（欠席理由等）
F14: 利用者 | J14: 1 | K14: 名 | L14: 0 | M14: 名
F15: 利用者家族 | J15: 1 | K15: 名 | L15: 0 | M15: 名
F16: 地域の関係者 | J16: 1 | K16: 名 | L16: 0 | M16: 名 | N16: 近隣住民１
F17: 福祉に知見のある人 | J17: 1 | K17: 名 | L17: 0 | M17: 名 | N17: 介護グループホーム管理者１
F18: 経営に知見のある人 | J18: 1 | K18: 名 | L18: 0 | M18: 名 | N18: 社会福祉法人（経理担当者）１
F19: 事務局（施設職員） | J19: 2 | K19: 名 | L19: 0 | M19: 名 | N19: 管理者1、サビ管1
B21: ２．構成員からの質問、意見、感想等
B23: ※利用者の中に環境の変化に弱い障がい者がいるため、玄関及び玄関横の食堂のみを見学し、その他、廊下他の共用スペースや各個室は見学しなかった。 【利用者】 ・Ａ共同生活住居利用者：５月に、みんなで使う食堂にエアコンを入れてもらえたので、夏の暑い日は自然とみんなが集まるようになって嬉しい。 【利用者家族】 ・自分は北海道外に住んでいるためなかなか来ることができず、初めて建物内部を見学できて、嬉しい。 【地域の関係者】 ・質問：食事は利用者が自炊しているのか？ →施設から回答：昼食以外は、土日祝日を含め、食事提供している。
B25: ※ 複数の共同生活住居を設置している場合、共同生活住居ごとに１ファイルとして作成してください。
B26: ※ 施設訪問を複数回に分散して実施した場合、訪問日ごとに１ファイルとして作成してください。
B27: ※ 取りまとめの都合上、行や列の追加・削除等の変更は行わないでください。

Sheet 転記用※削除や編集しないでください
A1: 作成年月日 | H1: 訪問日時 | O1: 利用者 | R1: 家族 | U1: 地域 | X1: 福祉 | AA1: 経営 | AD1: 事務
A2: 年 | B2: 月 | C2: 日 | D2: 年度 | E2: 回 | F2: 事業所番号 | G2: 住居名 | H2: 年 | I2: 月 | J2: 日 | K2: 曜日 | L2: 開始 | M2: 終了 | N2: 住居住所 | O2: 出席 | P2: 欠席 | Q2: 備考 | R2: 出席 | S2: 欠席 | T2: 備考 | U2: 出席 | V2: 欠席 | W2: 備考 | X2: 出席 | Y2: 欠席 | Z2: 備考 | AA2: 出席 | AB2: 欠席 | AC2: 備考 | AD2: 出席 | AE2: 欠席 | AF2: 備考 | AG2: 質問等
A3: ='施設訪問記録（札幌市様式）'!O3 -> 0 | B3: ='施設訪問記録（札幌市様式）'!Q3 -> 0 | C3: ='施設訪問記録（札幌市様式）'!S3 -> 0 | D3: ='施設訪問記録（札幌市様式）'!F5 -> 0 | E3: ='施設訪問記録（札幌市様式）'!I5 -> 0 | F3: ='施設訪問記録（札幌市様式）'!F9 -> 0 | G3: ='施設訪問記録（札幌市様式）'!F10 -> 0 | H3: ='施設訪問記録（札幌市様式）'!G11 -> 0 | I3: ='施設訪問記録（札幌市様式）'!I11 -> 0 | J3: ='施設訪問記録（札幌市様式）'!K11 -> 0 | K3: ='施設訪問記録（札幌市様式）'!M11 -> 0 | L3: ='施設訪問記録（札幌市様式）'!P11 -> ： | M3: ='施設訪問記録（札幌市様式）'!S11 -> ： | N3: ='施設訪問記録（札幌市様式）'!F12 -> 0 | O3: ='施設訪問記録（札幌市様式）'!J14 -> 0 | P3: ='施設訪問記録（札幌市様式）'!L14 -> 0 | Q3: ='施設訪問記録（札幌市様式）'!N14 -> 0 | R3: ='施設訪問記録（札幌市様式）'!J15 -> 0 | S3: ='施設訪問記録（札幌市様式）'!L15 -> 0 | T3: ='施設訪問記録（札幌市様式）'!N15 -> 0 | U3: ='施設訪問記録（札幌市様式）'!J16 -> 0 | V3: ='施設訪問記録（札幌市様式）'!L16 -> 0 | W3: ='施設訪問記録（札幌市様式）'!N16 -> 0 | X3: ='施設訪問記録（札幌市様式）'!J17 -> 0 | Y3: ='施設訪問記録（札幌市様式）'!L17 -> 0 | Z3: ='施設訪問記録（札幌市様式）'!N17 -> 0 | AA3: ='施設訪問記録（札幌市様式）'!J18 -> 0 | AB3: ='施設訪問記録（札幌市様式）'!L18 -> 0 | AC3: ='施設訪問記録（札幌市様式）'!N18 -> 0 | AD3: ='施設訪問記録（札幌市様式）'!J19 -> 0 | AE3: ='施設訪問記録（札幌市様式）'!L19 -> 0 | AF3: ='施設訪問記録（札幌市様式）'!N19 -> 0 | AG3: ='施設訪問記録（札幌市様式）'!B23 -> 0
