Workbook

Sheet 【目次】
B2: 請求書類一式 目次
C3: 書類名 | D3: 注意事項等
B4: 1 | C4: 請求書 | D4: 毎月提出
B5: 2 | C5: 請求書（記載例）
B6: 3 | C6: 明細書 | D6: 毎月提出
B7: 4 | C7: 明細書（記載例）
B8: 5 | C8: サービス提供実績記録票（様式10 ) | D8: 毎月提出
B9: 6 | C9: サービス提供実績記録票（様式10 )手書き用 | D9: 毎月提出（手書きの場合）
B10: 7 | C10: サービス提供実績記録票（様式10 )【記載例】
B11: 8 | C11: 利用者負担上限管理結果票 | D11: 対象事業者は毎月提出
B12: 9 | C12: 利用者負担上限管理結果票【記載例】
B13: 10 | C13: 振込口座指定・変更届 | D13: 初回は必須、都度変更があるごとに提出
B14: 11 | C14: 振込口座指定・変更届【記載例】
B15: 12 | C15: 委任状 | D15: 初回は必須、都度変更があるごとに提出
B16: 13 | C16: 委任状【記載例】
B17: 14 | C17: 契約内容報告書 | D17: 初回は必須、都度変更があるごとに提出
B18: 15 | C18: 契約内容報告書【記載例】

Sheet 請求書
A2: 札幌市重度障がい者等就労支援給付費請求書
U5: 年 月 日
B6: （あて先）札幌市長
L7: 請求事業者 | M7: 指定事業所番号
M8: 住 所 | P8: 〒
M12: 電話番号 | Z12: 請求印
M13: 名 称
M15: フリガナ
B16: 下記のとおり請求します。 | M16: 職・氏名
M17: フリガナ
F19: 年 | J19: 月分 | W19: 請求番号
B22: 請求金額 | I22: 百万 | O22: 千 | U22: 円
B25: 区 分 | L25: 時間 | O25: 単価 | R25: 費用合計 | U25: 給付費 請求額 | X25: 利用者 負担額
O26: =IFERROR(VLOOKUP(B26,Sheet3!$A$26:$B$29,2,FALSE),"") | R26: =IFERROR(L26*O26,"") | U26: =IFERROR(R26-X26,"")
O27: =IFERROR(VLOOKUP(B27,Sheet3!$A$26:$B$29,2,FALSE),"") | R27: =IFERROR(L27*O27,"") | U27: =IFERROR(R27-X27,"")
O28: =IFERROR(VLOOKUP(B28,Sheet3!$A$26:$B$29,2,FALSE),"") | R28: =IFERROR(L28*O28,"") | U28: =IFERROR(R28-X28,"")
O29: =IFERROR(VLOOKUP(B29,Sheet3!$A$26:$B$29,2,FALSE),"") | R29: =IFERROR(L29*O29,"") | U29: =IFERROR(R29-X29,"")
O30: =IFERROR(VLOOKUP(B30,Sheet3!$A$26:$B$29,2,FALSE),"") | R30: =IFERROR(L30*O30,"") | U30: =IFERROR(R30-X30,"")
O31: =IFERROR(VLOOKUP(B31,Sheet3!$A$26:$B$29,2,FALSE),"") | R31: =IFERROR(L31*O31,"") | U31: =IFERROR(R31-X31,"")
O32: =IFERROR(VLOOKUP(B32,Sheet3!$A$26:$B$29,2,FALSE),"") | R32: =IFERROR(L32*O32,"") | U32: =IFERROR(R32-X32,"")
B33: 計 | R33: =SUM(R26:T32) -> 0 | U33: =SUM(U26:W32) -> 0 | X33: =SUM(X26:Z32) -> 0
C37: 下記の口座に振り込んでください。
C38: 振込先金融機関 | M38: 預金種目
M39: １ 普 通 | S39: 口座番号
F40: 銀行 | K40: 本店 | M40: ２ 当 座
F41: 信金 | K41: 支店 | M41: ９ 納準 別段

Sheet 請求書 【記載例】
A2: 札幌市重度障がい者等就労支援給付費請求書
U5: 44875
B6: （あて先）札幌市長
L7: 請求事業者 | M7: 指定事業所番号 | P7: 0 | Q7: 1 | R7: 1 | S7: 1 | T7: 2 | U7: 3 | V7: 4 | W7: 5 | X7: 6 | Y7: 7
M8: 住 所 | P8: 〒 | Q8: 060-8611
P9: 札幌市中央区北1条2丁目1-1
M12: 電話番号 | P12: 011-211-2936 | Z12: 請求印
M13: 名 称 | P13: 特定非営利活動法人○○
M15: フリガナ | P15: ﾄｸﾃｲﾋｴｲﾘｶﾂﾄﾞｳﾎｳｼﾞﾝ〇〇
B16: 下記のとおり請求します。 | M16: 職・氏名 | P16: 理事長 札幌 太郎
M17: フリガナ | P17: ﾘｼﾞﾁｮｳ ｻｯﾎﾟﾛ ﾀﾛｳ
B19: 令和４ | F19: 年 | H19: 10 | J19: 月分 | W19: 請求番号 | Z19: 1 | AA19: 2 | AB19: 3 | AC19: 4
B22: 請求金額 | I22: 百万 | O22: 千 | U22: 円
K23: 5 | M23: 5 | O23: 3 | Q23: 7 | S23: 5 | U23: 0
B25: 区 分 | L25: 時間 | O25: 単価 | R25: 費用合計 | U25: 給付費 請求額 | X25: 利用者 負担額
B26: 就労支援給付費（重度訪問介護） | L26: 70 | O26: =IFERROR(VLOOKUP(B26,Sheet3!$A$26:$B$29,2,FALSE),"") -> 3200 | R26: =IFERROR(L26*O26,"") -> 224000 | U26: =IFERROR(R26-X26,"") -> 214700 | X26: 9300
B27: 就労支援給付費（同行援護） | L27: 48.5 | O27: =IFERROR(VLOOKUP(B27,Sheet3!$A$26:$B$29,2,FALSE),"") -> 3300 | R27: =IFERROR(L27*O27,"") -> 160050 | U27: =IFERROR(R27-X27,"") -> 160050 | X27: 0
B28: 就労支援給付費（行動援護） | L28: 35.5 | O28: =IFERROR(VLOOKUP(B28,Sheet3!$A$26:$B$29,2,FALSE),"") -> 5000 | R28: =IFERROR(L28*O28,"") -> 177500 | U28: =IFERROR(R28-X28,"") -> 177500 | X28: 0
B29: 就労支援給付費（上限額管理加算） | L29: 1 | O29: =IFERROR(VLOOKUP(B29,Sheet3!$A$26:$B$29,2,FALSE),"") -> 1500 | R29: =IFERROR(L29*O29,"") -> 1500 | U29: =IFERROR(R29-X29,"") -> 1500 | X29: 0
O30: =IFERROR(VLOOKUP(B30,Sheet3!$A$26:$B$29,2,FALSE),"") | R30: =IFERROR(L30*O30,"") | U30: =IFERROR(R30-X30,"")
O31: =IFERROR(VLOOKUP(B31,Sheet3!$A$26:$B$29,2,FALSE),"") | R31: =IFERROR(L31*O31,"") | U31: =IFERROR(R31-X31,"")
O32: =IFERROR(VLOOKUP(B32,Sheet3!$A$26:$B$29,2,FALSE),"") | R32: =IFERROR(L32*O32,"") | U32: =IFERROR(R32-X32,"")
B33: 計 | R33: =SUM(R26:T32) -> 563050 | U33: =SUM(U26:W32) -> 553750 | X33: =SUM(X26:Z32) -> 9300
C37: 下記の口座に振り込んでください。
C38: 振込先金融機関 | M38: 預金種目
M39: １ 普 通 | S39: 口座番号
C40: □□ | F40: 銀行 | H40: △△ | K40: 本店 | M40: ２ 当 座 | S40: 1 | T40: 2 | U40: 3 | V40: 4 | W40: 5 | X40: 6 | Y40: 7
F41: 信金 | K41: 支店 | M41: ９ 納準 別段

Sheet 明細書
A2: 札幌市重度障がい者等就労支援給付費明細書
A4: サービス提供年月 | J4: 年 | M4: 月 | P4: 利用者負担上限月額① | AG4: 円
A5: 重度訪問介護等の 受給者証番号 | P5: フ リ ガ ナ
P6: 支給決定障がい者氏名
A7: 指定事業所番号
A8: 事業者及び その事業所の名称
A9: サービスの種類 | H9: □ | I9: 重度訪問介護 | O9: □ | P9: 同行援護 | U9: □ | V9: 行動援護
A11: 番号 | C11: 日付 | E11: 曜日 | G11: サービス提供時間 | S11: 費用
G12: （ 時間 分）
A13: 1
A14: 2
A15: 3
A16: 4
A17: 5
A18: 6
A19: 7
A20: 8
A21: 9
A22: 10
A23: 11
A24: 12
... A27: 15
A28: 総費用額 | S28: =SUM(S13:AH27)+SUM(S46:AH70)+SUM(S81:AH105) -> 0 | AI28: ←自動計算
A29: 1割相当額 | S29: =S28*0.1 -> 0 | AI29: ←自動計算
A30: 利用者負担額② | S30: =S29 -> 0 | AI30: ←自動計算
A31: 上限月額調整（①②の内少ない数） | S31: =MIN(X4,S30) -> 0 | AI31: ←自動計算
A32: 調整後利用者負担額
A33: 上限額管理後利用者負担額
A34: 決定利用者負担額
A35: 給付費請求額
A37: サービス提供年月 | G37: =G4 -> 0 | J37: 年 | K37: =K4 -> 0 | M37: 月 | P37: 利用者負担上限月額① | X37: =X4 -> 0 | AG37: 円 | AI37: ←１枚目を入力後、自動入力されます
A38: 重度訪問介護等の 受給者証番号 | G38: =G5 -> 0 | P38: フ リ ガ ナ | X38: =X5 -> 0 | AI38: ←１枚目を入力後、自動入力されます
P39: 支給決定障がい者氏名 | X39: =X6 -> 0 | AI39: ←１枚目を入力後、自動入力されます
A40: 指定事業所番号 | G40: =G7 -> 0 | AI40: ←１枚目を入力後、自動入力されます
A41: 事業者及び その事業所の名称 | G41: =G8 -> 0 | AI41: ←１枚目を入力後、自動入力されます
A42: サービスの種類 | H42: =$H$9 -> □ | I42: =$I$9 -> 重度訪問介護 | O42: =$O$9 -> □ | P42: =$P$9 -> 同行援護 | U42: =$U$9 -> □ | V42: =$V$9 -> 行動援護 | AI42: ←１枚目を入力後、自動入力されます
A44: 番号 | C44: 日付 | E44: 曜日 | G44: サービス提供時間 | S44: 費用
G45: （ 時間 分）
A46: 16
A47: 17
A48: 18
A49: 19
A50: 20
A51: 21
A52: 22
A53: 23
A54: 24
A55: 25
A56: 26
A57: 27
... A70: 40
A72: サービス提供年月 | G72: =G4 -> 0 | J72: 年 | K72: =K4 -> 0 | M72: 月 | P72: 利用者負担上限月額① | X72: =X4 -> 0 | AG72: 円 | AI72: ←１枚目を入力後、自動入力されます
A73: 重度訪問介護等の 受給者証番号 | G73: =G5 -> 0 | P73: フ リ ガ ナ | X73: =X5 -> 0 | AI73: ←１枚目を入力後、自動入力されます
P74: 支給決定障がい者氏名 | X74: =X6 -> 0 | AI74: ←１枚目を入力後、自動入力されます
A75: 指定事業所番号 | G75: =G7 -> 0 | AI75: ←１枚目を入力後、自動入力されます
A76: 事業者及び その事業所の名称 | G76: =G8 -> 0 | AI76: ←１枚目を入力後、自動入力されます
A77: サービスの種類 | H77: =$H$9 -> □ | I77: =$I$9 -> 重度訪問介護 | O77: =$O$9 -> □ | P77: =$P$9 -> 同行援護 | U77: =$U$9 -> □ | V77: =$V$9 -> 行動援護 | AI77: ←１枚目を入力後、自動入力されます
A79: 番号 | C79: 日付 | E79: 曜日 | G79: サービス提供時間 | S79: 費用
G80: （ 時間 分）
A81: 41
A82: 42
A83: 43
A84: 44
A85: 45
A86: 46
A87: 47
A88: 48
A89: 49
A90: 50
A91: 51
A92: 52
... A105: 65

Sheet 明細書 【記載例】
A2: 札幌市重度障がい者等就労支援給付費明細書
A4: サービス提供年月 | G4: 令和4 | J4: 年 | K4: 10 | M4: 月 | P4: 利用者負担上限月額① | X4: 9300 | AG4: 円
A5: 重度訪問介護等の 受給者証番号 | G5: 1234567890 | P5: フ リ ガ ナ | X5: ﾁｭｳｵｳ ﾊﾅｺ
P6: 支給決定障がい者氏名 | X6: 中央 花子
A7: 指定事業所番号 | G7: 0111234567
A8: 事業者及び その事業所の名称 | G8: 特定非営利活動法人○○ 重度訪問介護事業所 さっぽろ
A9: サービスの種類 | H9: ☑ | I9: 重度訪問介護 | O9: □ | P9: 同行援護 | U9: □ | V9: 行動援護
A11: 番号 | C11: 日付 | E11: 曜日 | G11: サービス提供時間 | S11: 費用
G12: （ 時間 分）
A13: 1 | C13: 10/3 | E13: 月 | G13: 4時間 | S13: =3200*4 -> 12800
A14: 2 | C14: 10/4 | E14: 火 | G14: 3時間 | S14: =3200*3 -> 9600
A15: 3 | C15: 10/5 | E15: 水 | G15: 3時間30分 | S15: =3200*3.5 -> 11200
A16: 4 | C16: 10/6 | E16: 木 | G16: 4時間 | S16: =3200*4 -> 12800
A17: 5 | C17: 10/7 | E17: 金 | G17: 3時間 | S17: =3200*3 -> 9600
A18: 6 | C18: 10/11 | E18: 火 | G18: 3時間 | S18: =3200*3 -> 9600
A19: 7 | C19: 10/12 | E19: 水 | G19: 3時間30分 | S19: =3200*3.5 -> 11200
A20: 8 | C20: 10/13 | E20: 木 | G20: 4時間 | S20: =3200*4 -> 12800
A21: 9 | C21: 10/14 | E21: 金 | G21: 3時間 | S21: =3200*3 -> 9600
A22: 10 | C22: 10/17 | E22: 月 | G22: 4時間 | S22: =3200*4 -> 12800
A23: 11 | C23: 10/18 | E23: 火 | G23: 3時間 | S23: =3200*3 -> 9600
A24: 12 | C24: 10/19 | E24: 水 | G24: 3時間30分 | S24: =3200*3.5 -> 11200
A25: 13 | C25: 10/20 | E25: 木 | G25: 4時間 | S25: =3200*4 -> 12800
A26: 14 | C26: 10/21 | E26: 金 | G26: 3時間 | S26: =3200*3 -> 9600
A27: 15 | C27: 10/24 | E27: 月 | G27: 4時間 | S27: 12800
A28: 総費用額 | S28: =SUM(S13:AH27)+SUM(S46:AH70)+SUM(S81:AH105) -> 224000 | AI28: ←自動計算
A29: 1割相当額 | S29: =S28*0.1 -> 22400 | AI29: ←自動計算
A30: 利用者負担額② | S30: =S29 -> 22400 | AI30: ←自動計算
A31: 上限月額調整（①②の内少ない数） | S31: =MIN(X4,S30) -> 9300 | AI31: ←自動計算
A32: 調整後利用者負担額 | S32: 9300
A33: 上限額管理後利用者負担額 | S33: 9300
A34: 決定利用者負担額 | S34: 9300
A35: 給付費請求額 | S35: =S28-S34 -> 214700
A37: サービス提供年月 | G37: =G4 -> 令和4 | J37: 年 | K37: =K4 -> 10 | M37: 月 | P37: 利用者負担上限月額① | X37: =X4 -> 9300 | AG37: 円 | AI37: ←１枚目を入力後、自動入力されます
A38: 重度訪問介護等の 受給者証番号 | G38: =G5 -> 1234567890 | P38: フ リ ガ ナ | X38: =X5 -> ﾁｭｳｵｳ ﾊﾅｺ | AI38: ←１枚目を入力後、自動入力されます
P39: 支給決定障がい者氏名 | X39: =X6 -> 中央 花子 | AI39: ←１枚目を入力後、自動入力されます
A40: 指定事業所番号 | G40: =G7 -> 0111234567 | AI40: ←１枚目を入力後、自動入力されます
A41: 事業者及び その事業所の名称 | G41: =G8 -> 特定非営利活動法人○○ 重度訪問介護事業所 さっぽろ | AI41: ←１枚目を入力後、自動入力されます
A42: サービスの種類 | H42: =$H$9 -> ☑ | I42: =$I$9 -> 重度訪問介護 | O42: =$O$9 -> □ | P42: =$P$9 -> 同行援護 | U42: =$U$9 -> □ | V42: =$V$9 -> 行動援護 | AI42: ←１枚目を入力後、自動入力されます
A44: 番号 | C44: 日付 | E44: 曜日 | G44: サービス提供時間 | S44: 費用
G45: （ 時間 分）
A46: 16 | C46: 10/25 | E46: 火 | G46: 3時間 | S46: =3200*3 -> 9600
A47: 17 | C47: 10/26 | E47: 水 | G47: 3時間30分 | S47: =3200*3.5 -> 11200
A48: 18 | C48: 10/27 | E48: 木 | G48: 4時間 | S48: =3200*4 -> 12800
A49: 19 | C49: 10/28 | E49: 金 | G49: 3時間 | S49: =3200*3 -> 9600
A50: 20 | C50: 10/31 | E50: 月 | G50: 4時間 | S50: 12800
A51: 21
A52: 22
A53: 23
A54: 24
A55: 25
A56: 26
A57: 27
A58: 28
A59: 29
A60: 30
A61: 31
A62: 32
... A70: 40
A72: サービス提供年月 | G72: =G4 -> 令和4 | J72: 年 | K72: =K4 -> 10 | M72: 月 | P72: 利用者負担上限月額① | X72: =X4 -> 9300 | AG72: 円 | AI72: ←１枚目を入力後、自動入力されます
A73: 重度訪問介護等の 受給者証番号 | G73: =G5 -> 1234567890 | P73: フ リ ガ ナ | X73: =X5 -> ﾁｭｳｵｳ ﾊﾅｺ | AI73: ←１枚目を入力後、自動入力されます
P74: 支給決定障がい者氏名 | X74: =X6 -> 中央 花子 | AI74: ←１枚目を入力後、自動入力されます
A75: 指定事業所番号 | G75: =G7 -> 0111234567 | AI75: ←１枚目を入力後、自動入力されます
A76: 事業者及び その事業所の名称 | G76: =G8 -> 特定非営利活動法人○○ 重度訪問介護事業所 さっぽろ | AI76: ←１枚目を入力後、自動入力されます
A77: サービスの種類 | H77: =$H$9 -> ☑ | I77: =$I$9 -> 重度訪問介護 | O77: =$O$9 -> □ | P77: =$P$9 -> 同行援護 | U77: =$U$9 -> □ | V77: =$V$9 -> 行動援護 | AI77: ←１枚目を入力後、自動入力されます
A79: 番号 | C79: 日付 | E79: 曜日 | G79: サービス提供時間 | S79: 費用
G80: （ 時間 分）
A81: 41
A82: 42
A83: 43
A84: 44
A85: 45
A86: 46
A87: 47
A88: 48
A89: 49
A90: 50
A91: 51
A92: 52
... A105: 65

Sheet サービス提供実績記録票（様式10）（R7.1改正）
A2: 札幌市重度障がい者等就労支援事業 サービス提供実績記録票
A4: サービスの種類 | H4: □ | J4: 重度訪問介護 | R4: □ | T4: 同行援護 | AA4: □ | AC4: 行動援護
A5: サービス提供年月 | K5: 年 | N5: 月 | T5: 提出年月 | AD5: 年 | AG5: 月
A6: 支援対象範囲 | H6: 通勤 支援 | N6: 職場 介助 | T6: 支給決定時間 | AA6: 通勤 支援 | AE6: 時間/月 | AG6: 職場 介助 | AK6: 時間/月
A7: フ リ ガ ナ | T7: 障害福祉サービス 受給者証番号
A8: 支給決定障がい者氏名
A9: 事業所名 | T9: 事業所番号
A11: 算定 | C11: 札幌市分 算定 | I11: 支援区分 | N11: 支援回数 | V11: 算定時間数 | AE11: 合計算定時間数
I12: 通勤支援 | N12: =COUNTIF($G$17:$H251,"○") -> 0 | T12: 回 | V12: =SUMIF(G17:H216,"○",U17:V216)*24 -> 0 | AB12: 時間 | AE12: =V12+V13 -> 0 | AK12: 時間
I13: 職場介助 | N13: =COUNTIF($I$17:$J251,"○") -> 0 | T13: 回 | V13: =SUMIF(I17:J216,"○",U17:V216)*24 -> 0 | AB13: 時間
A15: 番号 | C15: 日付 | E15: 曜日 | G15: 支援内容 | K15: サービス提供時間 | U15: 算定 時間 | W15: 確認欄 | AA15: 支援内容/備考
G16: 通勤支援 | I16: 職場介助 | K16: 開始時間 | M16: 終了時間 | O16: 合計 時間 | Q16: 除外時間 | S16: 実支援 時間 | W16: 提供者 | Y16: 利用者
A17: 1 | O17: =(M17-K17) -> 0 | S17: =O17-Q17 -> 0
A18: 2 | O18: =(M18-K18) -> 0 | S18: =O18-Q18 -> 0
A19: 3 | O19: =(M19-K19) -> 0 | S19: =O19-Q19 -> 0
A20: 4 | O20: =(M20-K20) -> 0 | S20: =O20-Q20 -> 0
A21: 5 | O21: =(M21-K21) -> 0 | S21: =O21-Q21 -> 0
A22: 6 | O22: =(M22-K22) -> 0 | S22: =O22-Q22 -> 0
A23: 7 | O23: =(M23-K23) -> 0 | S23: =O23-Q23 -> 0
A24: 8 | O24: =(M24-K24) -> 0 | S24: =O24-Q24 -> 0
A25: 9 | O25: =(M25-K25) -> 0 | S25: =O25-Q25 -> 0
A26: 10 | O26: =(M26-K26) -> 0 | S26: =O26-Q26 -> 0
A27: 11 | O27: =(M27-K27) -> 0 | S27: =O27-Q27 -> 0
A28: 12 | O28: =(M28-K28) -> 0 | S28: =O28-Q28 -> 0
... A216: 200 | O216: =(M216-K216) -> 0 | S216: =O216-Q216 -> 0

Sheet サービス提供実績記録票（様式10）（R7.1改正）手書き用
A2: 札幌市重度障がい者等就労支援事業 サービス提供実績記録票
A4: サービスの種類 | H4: □ | J4: 重度訪問介護 | R4: □ | T4: 同行援護 | AA4: □ | AC4: 行動援護
A5: サービス提供年月 | K5: 年 | N5: 月 | T5: 提出年月 | AD5: 年 | AG5: 月
A6: 支援対象範囲 | H6: 通勤 支援 | N6: 職場 介助 | T6: 支給決定時間 | AA6: 通勤 支援 | AE6: 時間/月 | AG6: 職場 介助 | AK6: 時間/月
A7: フ リ ガ ナ | T7: 障害福祉サービス 受給者証番号
A8: 支給決定障がい者氏名
A9: 事業所名 | T9: 事業所番号
A11: 算定 | C11: 札幌市分 算定 | I11: 支援区分 | N11: 支援回数 | V11: 算定時間数 | AE11: 合計算定時間数
I12: 通勤支援 | N12: =COUNTIF($G$17:$H251,"○") -> 0 | T12: 回 | V12: =SUMIF(G17:H216,"○",U17:V216)*24 -> 0 | AB12: 時間 | AE12: =V12+V13 -> 0 | AK12: 時間
I13: 職場介助 | N13: =COUNTIF($I$17:$J251,"○") -> 0 | T13: 回 | V13: =SUMIF(I17:J216,"○",U17:V216)*24 -> 0 | AB13: 時間
A15: 番号 | C15: 日付 | E15: 曜日 | G15: 支援内容 | K15: サービス提供時間 | U15: 算定 時間 | W15: 確認欄 | AA15: 支援内容/備考
G16: 通勤支援 | I16: 職場介助 | K16: 開始時間 | M16: 終了時間 | O16: 合計 時間 | Q16: 除外時間 | S16: 実支援 時間 | W16: 提供者 | Y16: 利用者
A17: 1 | O17: =(M17-K17) -> 0 | S17: =O17-Q17 -> 0
A18: 2 | O18: =(M18-K18) -> 0 | S18: =O18-Q18 -> 0
A19: 3 | O19: =(M19-K19) -> 0 | S19: =O19-Q19 -> 0
A20: 4 | O20: =(M20-K20) -> 0 | S20: =O20-Q20 -> 0
A21: 5 | O21: =(M21-K21) -> 0 | S21: =O21-Q21 -> 0
A22: 6 | O22: =(M22-K22) -> 0 | S22: =O22-Q22 -> 0
A23: 7 | O23: =(M23-K23) -> 0 | S23: =O23-Q23 -> 0
A24: 8 | O24: =(M24-K24) -> 0 | S24: =O24-Q24 -> 0
A25: 9 | O25: =(M25-K25) -> 0 | S25: =O25-Q25 -> 0
A26: 10 | O26: =(M26-K26) -> 0 | S26: =O26-Q26 -> 0
A27: 11 | O27: =(M27-K27) -> 0 | S27: =O27-Q27 -> 0
A28: 12 | O28: =(M28-K28) -> 0 | S28: =O28-Q28 -> 0
... A216: 200 | O216: =(M216-K216) -> 0 | S216: =O216-Q216 -> 0

Sheet サービス提供実績記録票（様式10）（R7.1改正）【記載例】
A2: 札幌市重度障がい者等就労支援事業 サービス提供実績記録票
A4: サービスの種類 | H4: ■ | J4: 重度訪問介護 | R4: □ | T4: 同行援護 | AA4: □ | AC4: 行動援護
A5: サービス提供年月 | H5: 令和６ | K5: 年 | L5: 12 | N5: 月 | T5: 提出年月 | AA5: 令和7 | AD5: 年 | AE5: 1 | AG5: 月
A6: 支援対象範囲 | H6: 通勤 支援 | K6: ○ | N6: 職場 介助 | Q6: ○ | T6: 支給決定時間 | AA6: 通勤 支援 | AC6: 40 | AE6: 時間/月 | AG6: 職場 介助 | AI6: 80 | AK6: 時間/月
A7: フ リ ガ ナ | H7: サッポロ ショウコ | T7: 障害福祉サービス 受給者証番号 | AA7: XXXXXXXXXXX
A8: 支給決定障がい者氏名 | H8: 札幌 笑子
A9: 事業所名 | H9: サッポロスマイルサービス | T9: 事業所番号 | AA9: YYYYYYYYYYY
A11: 算定 | C11: 札幌市分 算定 | I11: 支援区分 | N11: 支援回数 | V11: 算定時間数 | AE11: 合計算定時間数
I12: 通勤支援 | N12: =COUNTIF($G$17:$H251,"○") -> 8 | T12: 回 | V12: =SUMIF(G17:H216,"○",U17:V216)*24 -> 8.5 | AB12: 時間 | AE12: =V12+V13 -> 26.5 | AK12: 時間
I13: 職場介助 | N13: =COUNTIF($I$17:$J251,"○") -> 5 | T13: 回 | V13: =SUMIF(I17:J216,"○",U17:V216)*24 -> 18 | AB13: 時間
A15: 番号 | C15: 日付 | E15: 曜日 | G15: 支援内容 | K15: サービス提供時間 | U15: 算定 時間 | W15: 確認欄 | AA15: 支援内容/備考
G16: 通勤支援 | I16: 職場介助 | K16: 開始時間 | M16: 終了時間 | O16: 合計 時間 | Q16: 除外時間 | S16: 実支援 時間 | W16: 提供者 | Y16: 利用者
A17: 1 | C17: ２ | E17: 月 | G17: ○ | K17: 0.33333333 | M17: 0.375 | O17: =(M17-K17) -> 0.041666667 | S17: =O17-Q17 -> 0.041666667 | U17: 0.041666667
A18: 2 | C18: ２ | E18: 月 | I18: ○ | K18: 0.375 | M18: 0.63888889 | O18: =(M18-K18) -> 0.26388889 | Q18: 0.041666667 | S18: =O18-Q18 -> 0.22222222 | U18: 0.22916667 | AA18: 姿勢保持、吸水補助、昼食介助、除外時間（JEED分：1時間）
A19: 3 | C19: ２ | E19: 月 | G19: ○ | K19: 0.63888889 | M19: 0.68055556 | O19: =(M19-K19) -> 0.041666667 | S19: =O19-Q19 -> 0.041666667 | U19: 0.041666667
A20: 4 | C20: ３ | E20: 火 | G20: ○ | K20: 0.33333333 | M20: 0.38888889 | O20: =(M20-K20) -> 0.055555556 | S20: =O20-Q20 -> 0.055555556 | U20: 0.0625 | AA20: 訪問先への直行
A21: 5 | C21: ３ | E21: 火 | I21: ○ | K21: 0.38888889 | M21: 0.66666667 | O21: =(M21-K21) -> 0.27777778 | Q21: 0.083333333 | S21: =O21-Q21 -> 0.19444444 | U21: 0.1875 | AA21: 姿勢保持、吸水補助、昼食介助、除外時間（JEED分：1時間、送迎による移動：30分×2回）
A22: 6 | C22: ３ | E22: 火 | G22: ○ | K22: 0.66666667 | M22: 0.70833333 | O22: =(M22-K22) -> 0.041666667 | S22: =O22-Q22 -> 0.041666667 | U22: 0.041666667
A23: 7 | C23: ４ | E23: 水 | I23: ○ | K23: 0.33333333 | M23: 0.375 | O23: =(M23-K23) -> 0.041666667 | Q23: 0.013888889 | S23: =O23-Q23 -> 0.027777778 | U23: 0.041666667 | AA23: 在宅勤務、姿勢保持、吸水補助、除外時間（JEED分：20分）
A24: 8 | C24: ４ | E24: 水 | G24: ○ | K24: 0.375 | M24: 0.41666667 | O24: =(M24-K24) -> 0.041666667 | S24: =O24-Q24 -> 0.041666667 | U24: 0.041666667
A25: 9 | C25: ４ | E25: 水 | I25: ○ | K25: 0.41666667 | M25: 0.625 | O25: =(M25-K25) -> 0.20833333 | Q25: 0.041666667 | S25: =O25-Q25 -> 0.16666667 | U25: 0.16666667 | AA25: 在宅勤務、姿勢保持、吸水補助食事介助、喀痰吸引、除外時間（JEED分：1時間）
A26: 10 | C26: ４ | E26: 水 | G26: ○ | K26: 0.625 | M26: 0.66666667 | O26: =(M26-K26) -> 0.041666667 | S26: =O26-Q26 -> 0.041666667 | U26: 0.041666667
A27: 11 | C27: ５ | E27: 木 | I27: ○ | K27: 0.375 | M27: 0.58333333 | O27: =(M27-K27) -> 0.20833333 | Q27: 0.041666667 | S27: =O27-Q27 -> 0.16666667 | U27: 0.125
A28: 12 | C28: ５ | E28: 木 | G28: ○ | K28: 0.58333333 | M28: 0.625 | O28: =(M28-K28) -> 0.041666667 | S28: =O28-Q28 -> 0.041666667 | U28: 0.041666667 | AA28: 降雪による悪路のための2人介助
A29: 13 | C29: ５ | E29: 木 | G29: ○ | K29: 0.58333333 | M29: 0.625 | O29: =(M29-K29) -> 0.041666667 | S29: =O29-Q29 -> 0.041666667 | U29: 0.041666667 | AA29: 降雪による悪路のための2人介助
A30: 14 | O30: =(M30-K30) -> 0 | S30: =O30-Q30 -> 0
A31: 15 | O31: =(M31-K31) -> 0 | S31: =O31-Q31 -> 0
A32: 16 | O32: =(M32-K32) -> 0 | S32: =O32-Q32 -> 0
A33: 17 | O33: =(M33-K33) -> 0 | S33: =O33-Q33 -> 0
A34: 18 | O34: =(M34-K34) -> 0 | S34: =O34-Q34 -> 0
A35: 19 | O35: =(M35-K35) -> 0 | S35: =O35-Q35 -> 0
A36: 20 | O36: =(M36-K36) -> 0 | S36: =O36-Q36 -> 0
A37: 21 | O37: =(M37-K37) -> 0 | S37: =O37-Q37 -> 0
A38: 22 | O38: =(M38-K38) -> 0 | S38: =O38-Q38 -> 0
A39: 23 | O39: =(M39-K39) -> 0 | S39: =O39-Q39 -> 0
A40: 24 | O40: =(M40-K40) -> 0 | S40: =O40-Q40 -> 0
A41: 25 | O41: =(M41-K41) -> 0 | S41: =O41-Q41 -> 0
... A216: 200 | O216: =(M216-K216) -> 0 | S216: =O216-Q216 -> 0

Sheet 利用者負担上限管理結果票
D2: 札幌市重度障がい者等就労支援事業 利用者負担上限額管理結果票
BN4: 年 | BW4: 月分
D6: 市町村番号 | AL6: 管理事業者 | AN6: 指定事業所番号
D7: 受給者証番号 | AN7: 事業者及び その事業所 の名称
D9: 支給決定者
D10: 氏名
D14: 利用者負担上限月額
D16: 利用者負担上限額管理結果
I18: 1 管理事業所で利用者負担額を充当したため、他事業所の利用者負担は発生しない。
I19: 2 利用者負担額の合算額が、負担上限月額以下のため、調整事務は行わない。
I20: 3 利用者負担額の合算額が、負担上限月額を超過するため、下記のとおり調整した。
D23: 利用者負担額集計・調整欄 | F23: 項番
F24: 事業所番号
F25: 事業所名称
F28: 総費用額
F29: 利用者負担額
F30: 管理結果後利用者負担額
D32: 利用者負担額集計・調整欄 | F32: 項番 | BO32: 合計
F33: 事業所番号
F34: 事業所名称
F37: 総費用額
F38: 利用者負担額
F39: 管理結果後利用者負担額

Sheet 利用者負担上限管理結果票【記載例】
D2: 札幌市重度障がい者等就労支援事業 利用者負担上限額管理結果票
BC4: 令和４ | BN4: 年 | BQ4: 10 | BW4: 月分
D6: 市町村番号 | Q6: 0 | S6: 1 | U6: 1 | W6: 0 | Y6: 0 | AA6: 7 | AL6: 管理事業者 | AN6: 指定事業所番号 | AW6: 0 | AZ6: 1 | BC6: 1 | BF6: 1 | BI6: 2 | BL6: 3 | BO6: 4 | BR6: 5 | BU6: 6 | BX6: 7
D7: 受給者証番号 | Q7: 1 | S7: 2 | U7: 3 | W7: 4 | Y7: 5 | AA7: 6 | AC7: 7 | AE7: 8 | AG7: 9 | AI7: 0 | AN7: 事業者及び その事業所 の名称 | AW7: 特定非営利活動法人○○ 重度訪問介護事業所 さっぽろ
D9: 支給決定者 | Q9: 中央 花子
D10: 氏名
D14: 利用者負担上限月額 | W14: 9 | Y14: 3 | AA14: 0 | AC14: 0
D16: 利用者負担上限額管理結果 | AC16: 1
I18: 1 管理事業所で利用者負担額を充当したため、他事業所の利用者負担は発生しない。
I19: 2 利用者負担額の合算額が、負担上限月額以下のため、調整事務は行わない。
I20: 3 利用者負担額の合算額が、負担上限月額を超過するため、下記のとおり調整した。
D23: 利用者負担額集計・調整欄 | F23: 項番 | S23: 1 | AE23: 2
F24: 事業所番号 | S24: 0111234567 | AE24: 0117654321
F25: 事業所名称 | S25: 重度訪問介護事業所 さっぽろ | AE25: 重度訪問介護事業所ひがしく
F28: 総費用額 | S28: 2 | U28: 2 | W28: 4 | Y28: 0 | AA28: 0 | AC28: 0 | AE28: 1 | AG28: 2 | AI28: 0 | AK28: 0 | AM28: 0 | AO28: 0
F29: 利用者負担額 | U29: 2 | W29: 2 | Y29: 4 | AA29: 0 | AC29: 0 | AG29: 1 | AI29: 2 | AK29: 0 | AM29: 0 | AO29: 0
F30: 管理結果後利用者負担額 | W30: 9 | Y30: 3 | AA30: 0 | AO30: 0
D32: 利用者負担額集計・調整欄 | F32: 項番 | BO32: 合計
F33: 事業所番号
F34: 事業所名称
F37: 総費用額 | BO37: 3 | BQ37: 4 | BS37: 4 | BU37: 0 | BW37: 0 | BY37: 0
F38: 利用者負担額 | BQ38: 3 | BS38: 4 | BU38: 4 | BW38: 0 | BY38: 0
F39: 管理結果後利用者負担額 | BS39: 9 | BU39: 3 | BW39: 0 | BY39: 0

Sheet 振込口座指定・変更届
A1: 口座振込（変更）依頼書
B3: （あて先） 札 幌 市 長
AL4: 年 月 日
Z6: （提出者）
Z7: 所在地 〒 | BH7: 届出印
Z10: 電話番号
Z12: 名 称
Z14: 職・氏名
C21: 就労支援給付費については、次の預金口座へ振込まれるよう依頼します。
C22: なお、届出内容に変更があった場合は速やかに再度本書を提出いたしますので、再提出のない限り本書
C23: を有効なものとしてお取り扱い願います。
AK25: 記
A27: 事業所番号
A28: 障害福祉サービス事業者の名称
A29: 依頼区分 | AI29: 適用開始年月日 | AV29: 年 月 日
A30: 振込口座 | AV30: 口座種目 | BF30: 口座番号
W31: 銀行 | AP31: 本店
W32: 信用金庫 | AP32: 支店
W33: 信用組合 | AP33: 出張所
J35: 金融機関コード | AD35: 支店コード
J38: フリガナ
J39: 口座名義人氏名
A43: 注意：記載項目はすべて漏れのないように記入してください｡（特に口座名義人氏名のフリガナ）
D44: 変更の依頼書も本書を用いますが，依頼区分は「変更」に○をしてください。

Sheet 振込口座指定・変更届 【記載例】
A1: 口座振込（変更）依頼書
B3: （あて先） 札 幌 市 長
AL4: 44875
Z6: （提出者）
Z7: 所在地 〒 | AK7: 060-8611 | BH7: 届出印
AH8: 札幌市中央区北1条西2丁目1-1
Z10: 電話番号 | AH10: 011-211-2936
Z12: 名 称 | AH12: 特定非営利活動法人○○
Z14: 職・氏名 | AH14: 理事長 札幌 太郎
C21: 就労支援給付費については、次の預金口座へ振込まれるよう依頼します。
C22: なお、届出内容に変更があった場合は速やかに再度本書を提出いたしますので、再提出のない限り本書
C23: を有効なものとしてお取り扱い願います。
AK25: 記
A27: 事業所番号 | P27: 0 | T27: 1 | X27: 1 | AB27: 1 | AF27: 2 | AJ27: 3 | AN27: 4 | AR27: 5 | AV27: 6 | AZ27: 7
A28: 障害福祉サービス事業者の名称
A29: 依頼区分 | J29: 新規 | AI29: 適用開始年月日 | AV29: 44875
A30: 振込口座 | AV30: 口座種目 | BF30: 口座番号
K31: □□ | W31: 銀行 | AP31: 本店
W32: 信用金庫 | AE32: △△ | AP32: 支店
W33: 信用組合 | AP33: 出張所
AV34: 1.普 通 | BF34: 1 | BH34: 2 | BJ34: 3 | BL34: 4 | BN34: 5 | BP34: 6 | BR34: 7
J35: 金融機関コード | AD35: 支店コード
J36: 1 | O36: 2 | T36: 3 | Y36: 4 | AD36: 5 | AJ36: 6 | AP36: 7
J38: フリガナ | Y38: ﾄｸﾋ)ﾏﾙﾏﾙ ｼﾞｭｳﾄﾞﾎｳﾓﾝｶｲｺﾞｼﾞｷﾞｮｳｼｮｻｯﾎﾟﾛ ﾘｼﾞ ｻｯﾎﾟﾛ ﾀﾛｳ
J39: 口座名義人氏名 | Y39: 特定非営利活動法人○○ 重度訪問介護事業所さっぽろ 理事 札幌 太郎
A43: 注意：記載項目はすべて漏れのないように記入してください｡（特に口座名義人氏名のフリガナ）
D44: 変更の依頼書も本書を用いますが，依頼区分は「変更」を記入してください。

Sheet 委任状
AD3: 捨印
AD8: 捨印
E9: 委 任 状
W13: 年 月 日
C14: （あて先）札幌市長
J16: （委任者）
J17: 所在地
J18: 名称
J19: 職・氏名 | AF19: 印
F25: 年度における、次の事業者に係る札幌市重度障がい者等就労支援給付費の代
C26: 理受領の請求・受領に関する一切の権限を下記の者に委任します｡
C28: ［指定事業所番号］
C31: ［事業者名称］
Q37: 記
D43: （受任者） | H43: 所在地
H44: 名称
H45: 職・氏名 | AE45: 印

Sheet 委任状 【記載例】
AD3: 捨印
AD8: 捨印
E9: 委 任 状
W13: 44835
C14: （あて先）札幌市長
J16: （委任者）
J17: 所在地 | P17: 札幌市東区○○○○
J18: 名称
J19: 職・氏名 | P19: 中央 花子 | AF19: 印
C25: 令和４ | F25: 年度における、次の事業者に係る札幌市重度障がい者等就労支援給付費の代
C26: 理受領の請求・受領に関する一切の権限を下記の者に委任します｡
C28: ［指定事業所番号］
C29: 0 | E29: 1 | G29: 1 | I29: 1 | K29: 2 | M29: 3 | O29: 4 | Q29: 5 | S29: 6 | U29: 7
C31: ［事業者名称］
C32: 重度訪問介護事業所 さっぽろ
Q37: 記
D43: （受任者） | H43: 所在地 | N43: 札幌市中央区北1条西2丁目1-1
H44: 名称 | N44: 特定非営利活動法人○○
H45: 職・氏名 | N45: 理事長 札幌 太郎 | AE45: 印

Sheet 契約内容報告書
BA2: 年 月 日
A3: 重度障がい者等就労支援事業 契約内容報告書
C5: （あて先）札幌市長
AO8: 事業所番号
AO10: 事業者及びその事業所の名称 代 表 者
A17: 下記のとおり当事業者との契約内容について報告します。
A19: 記
A20: 報告対象者
A21: 受給者証番号 | AI21: 支給決定 障害者氏名
A24: 契約締結又は契約内容変更による契約支給量等の報告
A25: サービスの種類及び内容 | S25: 契約支給量 | AG25: 契約期間始期 | BA25: 理 由
AG26: （又は契約支給量変更の始期）
BA27: □ | BE27: １ 新規契約
BA28: □ | BE28: ２ 契約の変更
BA29: □ | BE29: １ 新規契約
BA30: □ | BE30: ２ 契約の変更
BA31: □ | BE31: １ 新規契約
BA32: □ | BE32: ２ 契約の変更
BA33: □ | BE33: １ 新規契約
BA34: □ | BE34: ２ 契約の変更
A36: 既契約の契約支給量によるサービス提供を終了した報告
A37: サービスの種類及び内容 | AD37: 提供終了日 | AP37: 提供終了月中の終了日 までの既提供量 | BG37: 既契約の契約支給量でのサービス提供を終了する理由
BG39: □ | BK39: １ 契約の終了
BG40: □ | BK40: ２ 契約の変更
BG41: □ | BK41: １ 契約の終了
BG42: □ | BK42: ２ 契約の変更
BG43: □ | BK43: １ 契約の終了
BG44: □ | BK44: ２ 契約の変更
BG45: □ | BK45: １ 契約の終了
BG46: □ | BK46: ２ 契約の変更

Sheet 契約内容報告書【記載例】
BA2: 44839
A3: 重度障がい者等就労支援事業 契約内容報告書
C5: （あて先）札幌市長
AO8: 事業所番号 | AX8: 0 | BA8: 1 | BD8: 1 | BG8: 1 | BJ8: 2 | BM8: 3 | BP8: 4 | BS8: 5 | BV8: 6 | BY8: 7
AO10: 事業者及びその事業所の名称 代 表 者 | AX10: 特定非営利活動法人○○ 重度訪問介護事業所 さっぽろ 理事長 札幌 太郎
A17: 下記のとおり当事業者との契約内容について報告します。
A19: 記
A20: 報告対象者
A21: 受給者証番号 | O21: 1 | Q21: 2 | S21: 3 | U21: 4 | W21: 5 | Y21: 6 | AA21: 7 | AC21: 8 | AE21: 9 | AG21: 0 | AI21: 支給決定 障害者氏名 | AW21: 中央 花子
A24: 契約締結又は契約内容変更による契約支給量等の報告
A25: サービスの種類及び内容 | S25: 契約支給量 | AG25: 契約期間始期 | BA25: 理 由
AG26: （又は契約支給量変更の始期）
A27: 重度障がい者等就労支援事業 | S27: 110時間/月 | AG27: R4.10.3 | BA27: ☑ | BE27: １ 新規契約
BA28: □ | BE28: ２ 契約の変更
BA29: □ | BE29: １ 新規契約
BA30: □ | BE30: ２ 契約の変更
BA31: □ | BE31: １ 新規契約
BA32: □ | BE32: ２ 契約の変更
BA33: □ | BE33: １ 新規契約
BA34: □ | BE34: ２ 契約の変更
A36: 既契約の契約支給量によるサービス提供を終了した報告
A37: サービスの種類及び内容 | AD37: 提供終了日 | AP37: 提供終了月中の終了日 までの既提供量 | BG37: 既契約の契約支給量でのサービス提供を終了する理由
BG39: □ | BK39: １ 契約の終了
BG40: □ | BK40: ２ 契約の変更
BG41: □ | BK41: １ 契約の終了
BG42: □ | BK42: ２ 契約の変更
BG43: □ | BK43: １ 契約の終了
BG44: □ | BK44: ２ 契約の変更
BG45: □ | BK45: １ 契約の終了
BG46: □ | BK46: ２ 契約の変更

Sheet Sheet3
A26: 就労支援給付費（重度訪問介護） | B26: 3200
A27: 就労支援給付費（同行援護） | B27: 3300
A28: 就労支援給付費（行動援護） | B28: 5000
A29: 就労支援給付費（上限額管理加算） | B29: 1500
