Workbook
Name a: #REF!
Name a: #REF!
Name b: #REF!
Name b: #REF!
Name d: #REF!
Name d: #REF!
Name 栄養士: #REF!
Name 栄養士: 【様式５】職員数算出表!$BF$7:$BF$108
Name 家庭的保育: #REF!
Name 家庭的保育: #REF!
Name 概算交付申出書: #REF!
Name 概算交付申出書: #REF!
Name 学校医: #REF!
Name 学校医: [1]【様式５】職員数算出表!#REF!
Name 学校医: 【様式５】職員数算出表!#REF!
Name 教諭: #REF!
Name 教諭: #REF!
Name 教諭: #REF!
Name 業務委託: #REF!
Name 業務委託: 【様式５】職員数算出表!$BN$7:$BN$11
Name 区分１: #REF!
Name 区分１: #REF!
Name 区分２: #REF!
Name 区分２: #REF!
Name 区分３: #REF!
Name 区分３: #REF!
Name 公設民営: #REF!
Name 厚別区01私立01保育所: '施設状況(要更新)'!$AC$4:$AC$64
Name 厚別区01私立02幼稚園: '施設状況(要更新)'!$AZ$4:$AZ$64
Name 厚別区01私立03認定こども園: '施設状況(要更新)'!$BT$4:$BT$64
Name 厚別区01保育所: '施設状況(要更新)'!$AC$4:$AC$64
Name 厚別区03公立01保育所: '施設状況(要更新)'!$AO$4:$AO$64
Name 厚別区03公立02幼稚園: '施設状況(要更新)'!$BK$4:$BK$64
Name 厚別区04小規模A・B・C: '施設状況(要更新)'!$AC$4:$AC$10
Name 札幌市あけぼの保育園: '施設状況(要更新)'!$Z$4:$CY$4
Name 札幌市外01私立01保育所: '施設状況(要更新)'!$AI$4:$AI$64
Name 札幌市外01私立02幼稚園: '施設状況(要更新)'!$BF$4:$BF$64
Name 札幌市外01私立03認定こども園: '施設状況(要更新)'!$BZ$4:$BZ$64
Name 札幌市外01私立04小規模A・B・C: '施設状況(要更新)'!$CL$4:$CL$64
Name 札幌市外01私立06事業所内: '施設状況(要更新)'!$CZ$4:$CZ$64
Name 札幌市外02公設民営01保育所: '施設状況(要更新)'!$AL$4:$AL$64
Name 札幌市外03公立01保育所: '施設状況(要更新)'!$AU$4:$AU$64
Name 札幌市外03公立03認定こども園: '施設状況(要更新)'!$CB$4:$CB$64
Name 施設C: #REF!
Name 施設C: #REF!
Name 施設C: #REF!
Name 施設C: #REF!
Name 施設C: #REF!
Name 施設種別: #REF!
Name 施設長: #REF!
Name 施設長: 【様式５】職員数算出表!$AZ$7:$AZ$107
Name 事業所内保育: #REF!
Name 事業所内保育: #REF!
Name 事務員: #REF!
Name 事務員: 【様式５】職員数算出表!$BJ$7:$BJ$107
Name 手稲区01私立01保育所: '施設状況(要更新)'!$AH$4:$AH$64
Name 手稲区01私立02幼稚園: '施設状況(要更新)'!$BE$4:$BE$64
Name 手稲区01私立03認定こども園: '施設状況(要更新)'!$BY$4:$BY$64
Name 手稲区01私立04小規模A・B・C: '施設状況(要更新)'!$CK$4:$CK$64
Name 手稲区01私立05家庭的: '施設状況(要更新)'!$CT$4:$CT$64

Sheet 施設状況(要更新)
A1: 施設C | B1: 公私 | C1: 種別 | E1: 区 | F1: 施設・事業所名 | G1: 認定こども園認可定員内訳 | J1: 認可定員 | K1: 利用定員 | P1: 分園(内数)/従業員枠（外数） | S1: 施設C
C2: 1 | D2: 2 | G2: 1号 | H2: 2号 | I2: 3号 | K2: 1号 | L2: 2号 | M2: 3号（0歳） | N2: 3号（1･2歳） | O2: 3号合計 | P2: 合計 | Q2: （うち２号） | R2: 合計 | Y2: 1 | Z2: 2 | AA2: 3 | AB2: 4 | AC2: 5 | AD2: 6 | AE2: 7 | AF2: 8 | AG2: 9 | AH2: 10 | AI2: 11 | AJ2: 12 | AK2: 13 | AL2: 14 | AM2: 15 | AN2: 16 | AO2: 17 | AP2: 18 | AQ2: 19 | AR2: 20 | AS2: 21 | AT2: 22 | AU2: 23 | AV2: 24 | AW2: 25 | AX2: 26 | AY2: 27 | AZ2: 28 | BA2: 29 | BB2: 30 | BC2: 31 | BD2: 32 | BE2: 33 | BF2: 34 | BG2: 35 | BH2: 36 | BI2: 37 | BJ2: 38 | BK2: 39 | BL2: 40 | BM2: 41 | BN2: 42 | BO2: 43 | BP2: 44 | BQ2: 45 | BR2: 46 | BS2: 47 | BT2: 48 | BU2: 49 | BV2: 50 | BW2: 51 | BX2: 52 | BY2: 53 | BZ2: 54 | CA2: 55 | CB2: 56 | CC2: 57 | CD2: 58 | CE2: 59 | CF2: 60 | CG2: 61 | CH2: 62 | CI2: 63 | CJ2: 64 | CK2: 65 | CL2: 66 | CM2: 67 | CN2: 68 | CO2: 69 | CP2: 70 | CQ2: 71 | CR2: 72 | CS2: 73 | CT2: 74 | CU2: 75 | CV2: 76 | CW2: 77 | CX2: 78 | CY2: 79 | CZ2: 80 | DA2: 81 | DB2: 82 | DC2: 83 | DD2: 84 | DE2: 85 | DF2: 86 | DG2: 87 | DH2: 88 | DI2: 89 | DJ2: 90
A3: ソート① | B3: 列1 | C3: ソート② | D3: 列2 | E3: 列3 | F3: 列4 | G3: 列5 | H3: 列6 | I3: 列7 | J3: 列8 | K3: 列9 | L3: 列10 | M3: 列11 | N3: 列12 | O3: 列13 | P3: 列132 | Q3: 列133 | R3: 列14 | W3: 施設名 | Y3: =VLOOKUP(Y2,$U$4:$V$700,2,FALSE) -> 中央区04小規模A・B・C | Z3: =VLOOKUP(Z2,$U$4:$V$700,2,FALSE) -> 北区04小規模A・B・C | AA3: =VLOOKUP(AA2,$U$4:$V$700,2,FALSE) -> 東区04小規模A・B・C | AB3: =VLOOKUP(AB2,$U$4:$V$700,2,FALSE) -> 白石区04小規模A・B・C | AC3: =VLOOKUP(AC2,$U$4:$V$700,2,FALSE) -> 厚別区04小規模A・B・C | AD3: =VLOOKUP(AD2,$U$4:$V$700,2,FALSE) -> 豊平区04小規模A・B・C | AE3: =VLOOKUP(AE2,$U$4:$V$700,2,FALSE) -> 清田区04小規模A・B・C | AF3: =VLOOKUP(AF2,$U$4:$V$700,2,FALSE) -> 南区04小規模A・B・C | ... AN3: =VLOOKUP(AN2,$U$4:$V$700,2,FALSE)
A4: 0 | B4: 01私立 | C4: 04小規模A・B・C | D4: Ａ | E4: 中央区 | F4: 札幌市未来局保育園【例】 | G4: 0 | H4: 0 | I4: 0 | J4: 19 | K4: 0 | L4: 0 | M4: 6 | N4: 13 | O4: =SUM(テーブル1[[#This Row],[列11]:[列12]]) -> 19 | P4: 0 | R4: =SUM(K4,L4,O4,P4) -> 19 | S4: =A4 -> 0 | T4: =COUNTIF($V$4:V4,V4) -> 1 | U4: =IF(T4=1,COUNTIF($T$4:T4,1),"") -> 1 | V4: ='施設状況(要更新)'!$E4&'施設状況(要更新)'!$C4 -> 中央区04小規模A・B・C | W4: ='施設状況(要更新)'!$F4 -> 札幌市未来局保育園【例】
A5: 100039 | B5: 01私立 | C5: 04小規模A・B・C | D5: Ａ | E5: 中央区 | F5: たからの杜円山保育園 | J5: 19 | K5: 0 | L5: 0 | M5: 3 | N5: 9 | O5: =SUM(テーブル1[[#This Row],[列11]:[列12]]) -> 12 | R5: =SUM(K5,L5,O5,P5) -> 12 | S5: =A5 -> 100039 | T5: =COUNTIF($V$4:V5,V5) -> 2 | U5: =IF(T5=1,COUNTIF($T$4:T5,1),"") | V5: ='施設状況(要更新)'!$E5&'施設状況(要更新)'!$C5 -> 中央区04小規模A・B・C | W5: ='施設状況(要更新)'!$F5 -> たからの杜円山保育園 | X5: 1 | Y5: =IFERROR(INDEX($T$4:$W$700,MATCH($X5&Y$3,INDEX($T$4:$T$700&$V$4:$V$700,),0),MATCH("施設名",$T$3:$W$3,0)),"") -> 札幌市未来局保育園【例】 | Z5: =IFERROR(INDEX($T$4:$W$700,MATCH($X5&Z$3,INDEX($T$4:$T$700&$V$4:$V$700,),0),MATCH("施設名",$T$3:$W$3,0)),"") -> アンジェロ保育園 | AA5: =IFERROR(INDEX($T$4:$W$700,MATCH($X5&AA$3,INDEX($T$4:$T$700&$V$4:$V$700,),0),MATCH("施設名",$T$3:$W$3,0)),"") -> あいあい保育園 | AB5: =IFERROR(INDEX($T$4:$W$700,MATCH($X5&AB$3,INDEX($T$4:$T$700&$V$4:$V$700,),0),MATCH("施設名",$T$3:$W$3,0)),"") -> ぴっころきっず白石駅前 | AC5: =IFERROR(INDEX($T$4:$W$700,MATCH($X5&AC$3,INDEX($T$4:$T$700&$V$4:$V$700,),0),MATCH("施設名",$T$3:$W$3,0)),"") -> サクラ保育園厚別西 | AD5: =IFERROR(INDEX($T$4:$W$700,MATCH($X5&AD$3,INDEX($T$4:$T$700&$V$4:$V$700,),0),MATCH("施設名",$T$3:$W$3,0)),"") -> ちびっこ保育るーむ札幌ドーム前園 | AE5: =IFERROR(INDEX($T$4:$W$700,MATCH($X5&AE$3,INDEX($T$4:$T$700&$V$4:$V$700,),0),MATCH("施設名",$T$3:$W$3,0)),"") -> さくら乳児保育園 | AF5: =IFERROR(INDEX($T$4:$W$700,MATCH($X5&AF$3,INDEX($T$4:$T$700&$V$4:$V$700,),0),MATCH("施設名",$T$3:$W$3,0)),"") -> 札幌市南区保育・子育て支援センター | ... AN5: =IFERROR(INDEX($T$4:$W$700,MATCH($X5&AN$3,INDEX($T$4:$T$700&$V$4:$V$700,),0),MATCH("施設名",$T$3:$W$3,0)),"") -> 0
A6: 100043 | B6: 01私立 | C6: 04小規模A・B・C | D6: Ａ | E6: 中央区 | F6: さら～れ保育園 | J6: 18 | K6: 0 | L6: 0 | M6: 3 | N6: 15 | O6: =SUM(テーブル1[[#This Row],[列11]:[列12]]) -> 18 | R6: =SUM(K6,L6,O6,P6) -> 18 | S6: =A6 -> 100043 | T6: =COUNTIF($V$4:V6,V6) -> 3 | U6: =IF(T6=1,COUNTIF($T$4:T6,1),"") | V6: ='施設状況(要更新)'!$E6&'施設状況(要更新)'!$C6 -> 中央区04小規模A・B・C | W6: ='施設状況(要更新)'!$F6 -> さら～れ保育園 | X6: 2 | Y6: =IFERROR(INDEX($T$4:$W$700,MATCH($X6&Y$3,INDEX($T$4:$T$700&$V$4:$V$700,),0),MATCH("施設名",$T$3:$W$3,0)),"") -> たからの杜円山保育園 | Z6: =IFERROR(INDEX($T$4:$W$700,MATCH($X6&Z$3,INDEX($T$4:$T$700&$V$4:$V$700,),0),MATCH("施設名",$T$3:$W$3,0)),"") -> おーるまいてぃ屯田保育室 | AA6: =IFERROR(INDEX($T$4:$W$700,MATCH($X6&AA$3,INDEX($T$4:$T$700&$V$4:$V$700,),0),MATCH("施設名",$T$3:$W$3,0)),"") -> ぴっころきっず元町 | AB6: =IFERROR(INDEX($T$4:$W$700,MATCH($X6&AB$3,INDEX($T$4:$T$700&$V$4:$V$700,),0),MATCH("施設名",$T$3:$W$3,0)),"") -> 保育室すまいる | AC6: =IFERROR(INDEX($T$4:$W$700,MATCH($X6&AC$3,INDEX($T$4:$T$700&$V$4:$V$700,),0),MATCH("施設名",$T$3:$W$3,0)),"") -> はぐくみ園厚別 | AD6: =IFERROR(INDEX($T$4:$W$700,MATCH($X6&AD$3,INDEX($T$4:$T$700&$V$4:$V$700,),0),MATCH("施設名",$T$3:$W$3,0)),"") -> ちびっこ保育ルーム平岸ひまわり園 | AE6: =IFERROR(INDEX($T$4:$W$700,MATCH($X6&AE$3,INDEX($T$4:$T$700&$V$4:$V$700,),0),MATCH("施設名",$T$3:$W$3,0)),"") -> よつば保育園 | AF6: =IFERROR(INDEX($T$4:$W$700,MATCH($X6&AF$3,INDEX($T$4:$T$700&$V$4:$V$700,),0),MATCH("施設名",$T$3:$W$3,0)),"") -> ひろのぶ乳児保育園 | ... AN6: =IFERROR(INDEX($T$4:$W$700,MATCH($X6&AN$3,INDEX($T$4:$T$700&$V$4:$V$700,),0),MATCH("施設名",$T$3:$W$3,0)),"") -> 0
A7: 100100 | B7: 01私立 | C7: 04小規模A・B・C | D7: Ａ | E7: 中央区 | F7: 保育園こころん | J7: 11 | K7: 0 | L7: 0 | M7: 3 | N7: 8 | O7: =SUM(テーブル1[[#This Row],[列11]:[列12]]) -> 11 | R7: =SUM(K7,L7,O7,P7) -> 11 | S7: =A7 -> 100100 | T7: =COUNTIF($V$4:V7,V7) -> 4 | U7: =IF(T7=1,COUNTIF($T$4:T7,1),"") | V7: ='施設状況(要更新)'!$E7&'施設状況(要更新)'!$C7 -> 中央区04小規模A・B・C | W7: ='施設状況(要更新)'!$F7 -> 保育園こころん | X7: 3 | Y7: =IFERROR(INDEX($T$4:$W$700,MATCH($X7&Y$3,INDEX($T$4:$T$700&$V$4:$V$700,),0),MATCH("施設名",$T$3:$W$3,0)),"") -> さら～れ保育園 | Z7: =IFERROR(INDEX($T$4:$W$700,MATCH($X7&Z$3,INDEX($T$4:$T$700&$V$4:$V$700,),0),MATCH("施設名",$T$3:$W$3,0)),"") -> 新琴似にじのいろ保育園 | AA7: =IFERROR(INDEX($T$4:$W$700,MATCH($X7&AA$3,INDEX($T$4:$T$700&$V$4:$V$700,),0),MATCH("施設名",$T$3:$W$3,0)),"") -> びくとりー保育園 | AB7: =IFERROR(INDEX($T$4:$W$700,MATCH($X7&AB$3,INDEX($T$4:$T$700&$V$4:$V$700,),0),MATCH("施設名",$T$3:$W$3,0)),"") -> ぴっころきっず東札幌 | AC7: =IFERROR(INDEX($T$4:$W$700,MATCH($X7&AC$3,INDEX($T$4:$T$700&$V$4:$V$700,),0),MATCH("施設名",$T$3:$W$3,0)),"") -> みんなのナーサリー | AD7: =IFERROR(INDEX($T$4:$W$700,MATCH($X7&AD$3,INDEX($T$4:$T$700&$V$4:$V$700,),0),MATCH("施設名",$T$3:$W$3,0)),"") -> 太陽こころナーサリー平岸 | AE7: =IFERROR(INDEX($T$4:$W$700,MATCH($X7&AE$3,INDEX($T$4:$T$700&$V$4:$V$700,),0),MATCH("施設名",$T$3:$W$3,0)),"") -> いちご乳児保育園 | AF7: =IFERROR(INDEX($T$4:$W$700,MATCH($X7&AF$3,INDEX($T$4:$T$700&$V$4:$V$700,),0),MATCH("施設名",$T$3:$W$3,0)),"") -> ふじのバンビーニ保育園 | ... AN7: =IFERROR(INDEX($T$4:$W$700,MATCH($X7&AN$3,INDEX($T$4:$T$700&$V$4:$V$700,),0),MATCH("施設名",$T$3:$W$3,0)),"") -> 0
A8: 100057 | B8: 01私立 | C8: 04小規模A・B・C | D8: Ａ | E8: 中央区 | F8: こどもプラザ青い鳥円山園 | J8: 19 | K8: 0 | L8: 0 | M8: 6 | N8: 13 | O8: =SUM(テーブル1[[#This Row],[列11]:[列12]]) -> 19 | R8: =SUM(K8,L8,O8,P8) -> 19 | S8: =A8 -> 100057 | T8: =COUNTIF($V$4:V8,V8) -> 5 | U8: =IF(T8=1,COUNTIF($T$4:T8,1),"") | V8: ='施設状況(要更新)'!$E8&'施設状況(要更新)'!$C8 -> 中央区04小規模A・B・C | W8: ='施設状況(要更新)'!$F8 -> こどもプラザ青い鳥円山園 | X8: 4 | Y8: =IFERROR(INDEX($T$4:$W$700,MATCH($X8&Y$3,INDEX($T$4:$T$700&$V$4:$V$700,),0),MATCH("施設名",$T$3:$W$3,0)),"") -> 保育園こころん | Z8: =IFERROR(INDEX($T$4:$W$700,MATCH($X8&Z$3,INDEX($T$4:$T$700&$V$4:$V$700,),0),MATCH("施設名",$T$3:$W$3,0)),"") -> 美友希保育園 | AA8: =IFERROR(INDEX($T$4:$W$700,MATCH($X8&AA$3,INDEX($T$4:$T$700&$V$4:$V$700,),0),MATCH("施設名",$T$3:$W$3,0)),"") -> あうら乳児保育園 | AB8: =IFERROR(INDEX($T$4:$W$700,MATCH($X8&AB$3,INDEX($T$4:$T$700&$V$4:$V$700,),0),MATCH("施設名",$T$3:$W$3,0)),"") -> 大藤子ども園ほんごう館 | AC8: =IFERROR(INDEX($T$4:$W$700,MATCH($X8&AC$3,INDEX($T$4:$T$700&$V$4:$V$700,),0),MATCH("施設名",$T$3:$W$3,0)),"") -> サクラ保育園上野幌 | AD8: =IFERROR(INDEX($T$4:$W$700,MATCH($X8&AD$3,INDEX($T$4:$T$700&$V$4:$V$700,),0),MATCH("施設名",$T$3:$W$3,0)),"") -> あんあん保育園平岸ルーム | AE8: =IFERROR(INDEX($T$4:$W$700,MATCH($X8&AE$3,INDEX($T$4:$T$700&$V$4:$V$700,),0),MATCH("施設名",$T$3:$W$3,0)),"") -> くるみ乳児保育園 | AF8: =IFERROR(INDEX($T$4:$W$700,MATCH($X8&AF$3,INDEX($T$4:$T$700&$V$4:$V$700,),0),MATCH("施設名",$T$3:$W$3,0)),"") -> りとるkid'sクラブ自衛隊前ルーム | ... AN8: =IFERROR(INDEX($T$4:$W$700,MATCH($X8&AN$3,INDEX($T$4:$T$700&$V$4:$V$700,),0),MATCH("施設名",$T$3:$W$3,0)),"") -> 0
A9: 100058 | B9: 01私立 | C9: 04小規模A・B・C | D9: Ａ | E9: 中央区 | F9: ぴっころきっず円山公園 | J9: 19 | K9: 0 | L9: 0 | M9: 2 | N9: 10 | O9: =SUM(テーブル1[[#This Row],[列11]:[列12]]) -> 12 | R9: =SUM(K9,L9,O9,P9) -> 12 | S9: =A9 -> 100058 | T9: =COUNTIF($V$4:V9,V9) -> 6 | U9: =IF(T9=1,COUNTIF($T$4:T9,1),"") | V9: ='施設状況(要更新)'!$E9&'施設状況(要更新)'!$C9 -> 中央区04小規模A・B・C | W9: ='施設状況(要更新)'!$F9 -> ぴっころきっず円山公園 | X9: 5 | Y9: =IFERROR(INDEX($T$4:$W$700,MATCH($X9&Y$3,INDEX($T$4:$T$700&$V$4:$V$700,),0),MATCH("施設名",$T$3:$W$3,0)),"") -> こどもプラザ青い鳥円山園 | Z9: =IFERROR(INDEX($T$4:$W$700,MATCH($X9&Z$3,INDEX($T$4:$T$700&$V$4:$V$700,),0),MATCH("施設名",$T$3:$W$3,0)),"") -> バンビ保育園 | AA9: =IFERROR(INDEX($T$4:$W$700,MATCH($X9&AA$3,INDEX($T$4:$T$700&$V$4:$V$700,),0),MATCH("施設名",$T$3:$W$3,0)),"") -> すこやか保育園北海道 | AB9: =IFERROR(INDEX($T$4:$W$700,MATCH($X9&AB$3,INDEX($T$4:$T$700&$V$4:$V$700,),0),MATCH("施設名",$T$3:$W$3,0)),"") -> 大藤子ども園しらかば館 | AC9: =IFERROR(INDEX($T$4:$W$700,MATCH($X9&AC$3,INDEX($T$4:$T$700&$V$4:$V$700,),0),MATCH("施設名",$T$3:$W$3,0)),"") -> ひばりが丘あんさんぶる保育園 | AD9: =IFERROR(INDEX($T$4:$W$700,MATCH($X9&AD$3,INDEX($T$4:$T$700&$V$4:$V$700,),0),MATCH("施設名",$T$3:$W$3,0)),"") -> 美晴の家保育園 | AE9: =IFERROR(INDEX($T$4:$W$700,MATCH($X9&AE$3,INDEX($T$4:$T$700&$V$4:$V$700,),0),MATCH("施設名",$T$3:$W$3,0)),"") -> まんまる保育園 | AF9: =IFERROR(INDEX($T$4:$W$700,MATCH($X9&AF$3,INDEX($T$4:$T$700&$V$4:$V$700,),0),MATCH("施設名",$T$3:$W$3,0)),"") -> ふれ愛澄川南保育園 | ... AN9: =IFERROR(INDEX($T$4:$W$700,MATCH($X9&AN$3,INDEX($T$4:$T$700&$V$4:$V$700,),0),MATCH("施設名",$T$3:$W$3,0)),"") -> 0
A10: 100059 | B10: 01私立 | C10: 04小規模A・B・C | D10: Ａ | E10: 中央区 | F10: ぴっころきっず円山裏参道 | J10: 19 | K10: 0 | L10: 0 | M10: 1 | N10: 11 | O10: =SUM(テーブル1[[#This Row],[列11]:[列12]]) -> 12 | R10: =SUM(K10,L10,O10,P10) -> 12 | S10: =A10 -> 100059 | T10: =COUNTIF($V$4:V10,V10) -> 7 | U10: =IF(T10=1,COUNTIF($T$4:T10,1),"") | V10: ='施設状況(要更新)'!$E10&'施設状況(要更新)'!$C10 -> 中央区04小規模A・B・C | W10: ='施設状況(要更新)'!$F10 -> ぴっころきっず円山裏参道 | X10: 6 | Y10: =IFERROR(INDEX($T$4:$W$700,MATCH($X10&Y$3,INDEX($T$4:$T$700&$V$4:$V$700,),0),MATCH("施設名",$T$3:$W$3,0)),"") -> ぴっころきっず円山公園 | Z10: =IFERROR(INDEX($T$4:$W$700,MATCH($X10&Z$3,INDEX($T$4:$T$700&$V$4:$V$700,),0),MATCH("施設名",$T$3:$W$3,0)),"") -> 北２４条はぐはぐ乳児保育園 | AA10: =IFERROR(INDEX($T$4:$W$700,MATCH($X10&AA$3,INDEX($T$4:$T$700&$V$4:$V$700,),0),MATCH("施設名",$T$3:$W$3,0)),"") -> おりーぶべりー保育園 | AB10: =IFERROR(INDEX($T$4:$W$700,MATCH($X10&AB$3,INDEX($T$4:$T$700&$V$4:$V$700,),0),MATCH("施設名",$T$3:$W$3,0)),"") -> にこまるえん東白石 | AC10: =IFERROR(INDEX($T$4:$W$700,MATCH($X10&AC$3,INDEX($T$4:$T$700&$V$4:$V$700,),0),MATCH("施設名",$T$3:$W$3,0)),"") -> 厚別西クレヨン保育園 | AD10: =IFERROR(INDEX($T$4:$W$700,MATCH($X10&AD$3,INDEX($T$4:$T$700&$V$4:$V$700,),0),MATCH("施設名",$T$3:$W$3,0)),"") -> ナーサリーゆめの木 | AE10: =IFERROR(INDEX($T$4:$W$700,MATCH($X10&AE$3,INDEX($T$4:$T$700&$V$4:$V$700,),0),MATCH("施設名",$T$3:$W$3,0)),"") -> 小規模保育園mirea | AF10: =IFERROR(INDEX($T$4:$W$700,MATCH($X10&AF$3,INDEX($T$4:$T$700&$V$4:$V$700,),0),MATCH("施設名",$T$3:$W$3,0)),"") -> 木育こどもの家藤野園 | ... AN10: =IFERROR(INDEX($T$4:$W$700,MATCH($X10&AN$3,INDEX($T$4:$T$700&$V$4:$V$700,),0),MATCH("施設名",$T$3:$W$3,0)),"") -> 0
A11: 100061 | B11: 01私立 | C11: 04小規模A・B・C | D11: Ａ | E11: 中央区 | F11: 伏見すみれ保育園 | J11: 19 | K11: 0 | L11: 0 | M11: 3 | N11: 16 | O11: =SUM(テーブル1[[#This Row],[列11]:[列12]]) -> 19 | R11: =SUM(K11,L11,O11,P11) -> 19 | S11: =A11 -> 100061 | T11: =COUNTIF($V$4:V11,V11) -> 8 | U11: =IF(T11=1,COUNTIF($T$4:T11,1),"") | V11: ='施設状況(要更新)'!$E11&'施設状況(要更新)'!$C11 -> 中央区04小規模A・B・C | W11: ='施設状況(要更新)'!$F11 -> 伏見すみれ保育園 | X11: 7 | Y11: =IFERROR(INDEX($T$4:$W$700,MATCH($X11&Y$3,INDEX($T$4:$T$700&$V$4:$V$700,),0),MATCH("施設名",$T$3:$W$3,0)),"") -> ぴっころきっず円山裏参道 | Z11: =IFERROR(INDEX($T$4:$W$700,MATCH($X11&Z$3,INDEX($T$4:$T$700&$V$4:$V$700,),0),MATCH("施設名",$T$3:$W$3,0)),"") -> 太平桜の花保育園 | AA11: =IFERROR(INDEX($T$4:$W$700,MATCH($X11&AA$3,INDEX($T$4:$T$700&$V$4:$V$700,),0),MATCH("施設名",$T$3:$W$3,0)),"") -> 栄町みつばち保育園 | AB11: =IFERROR(INDEX($T$4:$W$700,MATCH($X11&AB$3,INDEX($T$4:$T$700&$V$4:$V$700,),0),MATCH("施設名",$T$3:$W$3,0)),"") -> 保育ママだんだん | AC11: =IFERROR(INDEX($T$4:$W$700,MATCH($X11&AC$3,INDEX($T$4:$T$700&$V$4:$V$700,),0),MATCH("施設名",$T$3:$W$3,0)),"") | AD11: =IFERROR(INDEX($T$4:$W$700,MATCH($X11&AD$3,INDEX($T$4:$T$700&$V$4:$V$700,),0),MATCH("施設名",$T$3:$W$3,0)),"") -> ペガサス | AE11: =IFERROR(INDEX($T$4:$W$700,MATCH($X11&AE$3,INDEX($T$4:$T$700&$V$4:$V$700,),0),MATCH("施設名",$T$3:$W$3,0)),"") | AF11: =IFERROR(INDEX($T$4:$W$700,MATCH($X11&AF$3,INDEX($T$4:$T$700&$V$4:$V$700,),0),MATCH("施設名",$T$3:$W$3,0)),"") -> 澄川いちご保育園 | ... AN11: =IFERROR(INDEX($T$4:$W$700,MATCH($X11&AN$3,INDEX($T$4:$T$700&$V$4:$V$700,),0),MATCH("施設名",$T$3:$W$3,0)),"") -> 0
A12: 100076 | B12: 01私立 | C12: 04小規模A・B・C | D12: Ａ | E12: 中央区 | F12: カトリック聖園てんしのおうち | J12: 19 | K12: 0 | L12: 0 | M12: 3 | N12: 16 | O12: =SUM(テーブル1[[#This Row],[列11]:[列12]]) -> 19 | R12: =SUM(K12,L12,O12,P12) -> 19 | S12: =A12 -> 100076 | T12: =COUNTIF($V$4:V12,V12) -> 9 | U12: =IF(T12=1,COUNTIF($T$4:T12,1),"") | V12: ='施設状況(要更新)'!$E12&'施設状況(要更新)'!$C12 -> 中央区04小規模A・B・C | W12: ='施設状況(要更新)'!$F12 -> カトリック聖園てんしのおうち | X12: 8 | Y12: =IFERROR(INDEX($T$4:$W$700,MATCH($X12&Y$3,INDEX($T$4:$T$700&$V$4:$V$700,),0),MATCH("施設名",$T$3:$W$3,0)),"") -> 伏見すみれ保育園 | Z12: =IFERROR(INDEX($T$4:$W$700,MATCH($X12&Z$3,INDEX($T$4:$T$700&$V$4:$V$700,),0),MATCH("施設名",$T$3:$W$3,0)),"") -> 麻生アンジェロ保育園 | AA12: =IFERROR(INDEX($T$4:$W$700,MATCH($X12&AA$3,INDEX($T$4:$T$700&$V$4:$V$700,),0),MATCH("施設名",$T$3:$W$3,0)),"") -> あうら元町乳児保育園 | AB12: =IFERROR(INDEX($T$4:$W$700,MATCH($X12&AB$3,INDEX($T$4:$T$700&$V$4:$V$700,),0),MATCH("施設名",$T$3:$W$3,0)),"") -> 白石よつば保育園 | AC12: =IFERROR(INDEX($T$4:$W$700,MATCH($X12&AC$3,INDEX($T$4:$T$700&$V$4:$V$700,),0),MATCH("施設名",$T$3:$W$3,0)),"") | AD12: =IFERROR(INDEX($T$4:$W$700,MATCH($X12&AD$3,INDEX($T$4:$T$700&$V$4:$V$700,),0),MATCH("施設名",$T$3:$W$3,0)),"") -> 札幌じけい保育園 | AE12: =IFERROR(INDEX($T$4:$W$700,MATCH($X12&AE$3,INDEX($T$4:$T$700&$V$4:$V$700,),0),MATCH("施設名",$T$3:$W$3,0)),"") | AF12: =IFERROR(INDEX($T$4:$W$700,MATCH($X12&AF$3,INDEX($T$4:$T$700&$V$4:$V$700,),0),MATCH("施設名",$T$3:$W$3,0)),"") -> 澄川まんまる保育園 | ... AN12: =IFERROR(INDEX($T$4:$W$700,MATCH($X12&AN$3,INDEX($T$4:$T$700&$V$4:$V$700,),0),MATCH("施設名",$T$3:$W$3,0)),"") -> 0
A13: 100060 | B13: 01私立 | C13: 04小規模A・B・C | D13: Ａ | E13: 中央区 | F13: おーるまいてぃ円山保育室 | J13: 12 | K13: 0 | L13: 0 | M13: 4 | N13: 8 | O13: =SUM(テーブル1[[#This Row],[列11]:[列12]]) -> 12 | R13: =SUM(K13,L13,O13,P13) -> 12 | S13: =A13 -> 100060 | T13: =COUNTIF($V$4:V13,V13) -> 10 | U13: =IF(T13=1,COUNTIF($T$4:T13,1),"") | V13: ='施設状況(要更新)'!$E13&'施設状況(要更新)'!$C13 -> 中央区04小規模A・B・C | W13: ='施設状況(要更新)'!$F13 -> おーるまいてぃ円山保育室 | X13: 9 | Y13: =IFERROR(INDEX($T$4:$W$700,MATCH($X13&Y$3,INDEX($T$4:$T$700&$V$4:$V$700,),0),MATCH("施設名",$T$3:$W$3,0)),"") -> カトリック聖園てんしのおうち | Z13: =IFERROR(INDEX($T$4:$W$700,MATCH($X13&Z$3,INDEX($T$4:$T$700&$V$4:$V$700,),0),MATCH("施設名",$T$3:$W$3,0)),"") -> プチトマト保育室 | AA13: =IFERROR(INDEX($T$4:$W$700,MATCH($X13&AA$3,INDEX($T$4:$T$700&$V$4:$V$700,),0),MATCH("施設名",$T$3:$W$3,0)),"") -> 苗穂みらいのたね | AB13: =IFERROR(INDEX($T$4:$W$700,MATCH($X13&AB$3,INDEX($T$4:$T$700&$V$4:$V$700,),0),MATCH("施設名",$T$3:$W$3,0)),"") -> にこまるえん南郷 | AC13: =IFERROR(INDEX($T$4:$W$700,MATCH($X13&AC$3,INDEX($T$4:$T$700&$V$4:$V$700,),0),MATCH("施設名",$T$3:$W$3,0)),"") | AD13: =IFERROR(INDEX($T$4:$W$700,MATCH($X13&AD$3,INDEX($T$4:$T$700&$V$4:$V$700,),0),MATCH("施設名",$T$3:$W$3,0)),"") -> 美園よつば保育園 | AE13: =IFERROR(INDEX($T$4:$W$700,MATCH($X13&AE$3,INDEX($T$4:$T$700&$V$4:$V$700,),0),MATCH("施設名",$T$3:$W$3,0)),"") | AF13: =IFERROR(INDEX($T$4:$W$700,MATCH($X13&AF$3,INDEX($T$4:$T$700&$V$4:$V$700,),0),MATCH("施設名",$T$3:$W$3,0)),"") -> ちゅうわ南保育園 | ... AN13: =IFERROR(INDEX($T$4:$W$700,MATCH($X13&AN$3,INDEX($T$4:$T$700&$V$4:$V$700,),0),MATCH("施設名",$T$3:$W$3,0)),"") -> 0
A14: 100072 | B14: 01私立 | C14: 04小規模A・B・C | D14: Ａ | E14: 中央区 | F14: 札幌モンテッソーリこどもの家 | J14: 14 | K14: 0 | L14: 0 | M14: 2 | N14: 10 | O14: =SUM(テーブル1[[#This Row],[列11]:[列12]]) -> 12 | R14: =SUM(K14,L14,O14,P14) -> 12 | S14: =A14 -> 100072 | T14: =COUNTIF($V$4:V14,V14) -> 11 | U14: =IF(T14=1,COUNTIF($T$4:T14,1),"") | V14: ='施設状況(要更新)'!$E14&'施設状況(要更新)'!$C14 -> 中央区04小規模A・B・C | W14: ='施設状況(要更新)'!$F14 -> 札幌モンテッソーリこどもの家 | X14: 10 | Y14: =IFERROR(INDEX($T$4:$W$700,MATCH($X14&Y$3,INDEX($T$4:$T$700&$V$4:$V$700,),0),MATCH("施設名",$T$3:$W$3,0)),"") -> おーるまいてぃ円山保育室 | Z14: =IFERROR(INDEX($T$4:$W$700,MATCH($X14&Z$3,INDEX($T$4:$T$700&$V$4:$V$700,),0),MATCH("施設名",$T$3:$W$3,0)),"") -> オリオン | AA14: =IFERROR(INDEX($T$4:$W$700,MATCH($X14&AA$3,INDEX($T$4:$T$700&$V$4:$V$700,),0),MATCH("施設名",$T$3:$W$3,0)),"") -> こくあの彩保育園 | AB14: =IFERROR(INDEX($T$4:$W$700,MATCH($X14&AB$3,INDEX($T$4:$T$700&$V$4:$V$700,),0),MATCH("施設名",$T$3:$W$3,0)),"") -> もりのなかま保育園菊水元町園 | AC14: =IFERROR(INDEX($T$4:$W$700,MATCH($X14&AC$3,INDEX($T$4:$T$700&$V$4:$V$700,),0),MATCH("施設名",$T$3:$W$3,0)),"") | AD14: =IFERROR(INDEX($T$4:$W$700,MATCH($X14&AD$3,INDEX($T$4:$T$700&$V$4:$V$700,),0),MATCH("施設名",$T$3:$W$3,0)),"") -> 平岸オレンジ保育園 | AE14: =IFERROR(INDEX($T$4:$W$700,MATCH($X14&AE$3,INDEX($T$4:$T$700&$V$4:$V$700,),0),MATCH("施設名",$T$3:$W$3,0)),"") | AF14: =IFERROR(INDEX($T$4:$W$700,MATCH($X14&AF$3,INDEX($T$4:$T$700&$V$4:$V$700,),0),MATCH("施設名",$T$3:$W$3,0)),"") -> Ｓ．Ｔ．ナーサリーＳＣＨＯＯＬ藤野 | ... AN14: =IFERROR(INDEX($T$4:$W$700,MATCH($X14&AN$3,INDEX($T$4:$T$700&$V$4:$V$700,),0),MATCH("施設名",$T$3:$W$3,0)),"") -> 0
A15: 100047 | B15: 01私立 | C15: 04小規模A・B・C | D15: Ａ | E15: 中央区 | F15: 保育室ぱすてる | J15: 10 | K15: 0 | L15: 0 | M15: 3 | N15: 7 | O15: =SUM(テーブル1[[#This Row],[列11]:[列12]]) -> 10 | R15: =SUM(K15,L15,O15,P15) -> 10 | S15: =A15 -> 100047 | T15: =COUNTIF($V$4:V15,V15) -> 12 | U15: =IF(T15=1,COUNTIF($T$4:T15,1),"") | V15: ='施設状況(要更新)'!$E15&'施設状況(要更新)'!$C15 -> 中央区04小規模A・B・C | W15: ='施設状況(要更新)'!$F15 -> 保育室ぱすてる | X15: 11 | Y15: =IFERROR(INDEX($T$4:$W$700,MATCH($X15&Y$3,INDEX($T$4:$T$700&$V$4:$V$700,),0),MATCH("施設名",$T$3:$W$3,0)),"") -> 札幌モンテッソーリこどもの家 | Z15: =IFERROR(INDEX($T$4:$W$700,MATCH($X15&Z$3,INDEX($T$4:$T$700&$V$4:$V$700,),0),MATCH("施設名",$T$3:$W$3,0)),"") -> 木育こどもの家屯田園 | AA15: =IFERROR(INDEX($T$4:$W$700,MATCH($X15&AA$3,INDEX($T$4:$T$700&$V$4:$V$700,),0),MATCH("施設名",$T$3:$W$3,0)),"") -> カシオペア | AB15: =IFERROR(INDEX($T$4:$W$700,MATCH($X15&AB$3,INDEX($T$4:$T$700&$V$4:$V$700,),0),MATCH("施設名",$T$3:$W$3,0)),"") -> ちゅうわ南郷保育園 | AC15: =IFERROR(INDEX($T$4:$W$700,MATCH($X15&AC$3,INDEX($T$4:$T$700&$V$4:$V$700,),0),MATCH("施設名",$T$3:$W$3,0)),"") | AD15: =IFERROR(INDEX($T$4:$W$700,MATCH($X15&AD$3,INDEX($T$4:$T$700&$V$4:$V$700,),0),MATCH("施設名",$T$3:$W$3,0)),"") -> えとわーる保育園 | AE15: =IFERROR(INDEX($T$4:$W$700,MATCH($X15&AE$3,INDEX($T$4:$T$700&$V$4:$V$700,),0),MATCH("施設名",$T$3:$W$3,0)),"") | AF15: =IFERROR(INDEX($T$4:$W$700,MATCH($X15&AF$3,INDEX($T$4:$T$700&$V$4:$V$700,),0),MATCH("施設名",$T$3:$W$3,0)),"") | ... AN15: =IFERROR(INDEX($T$4:$W$700,MATCH($X15&AN$3,INDEX($T$4:$T$700&$V$4:$V$700,),0),MATCH("施設名",$T$3:$W$3,0)),"") -> 0
A16: 100071 | B16: 01私立 | C16: 04小規模A・B・C | D16: Ａ | E16: 中央区 | F16: ぴっころきっず中島公園 | J16: 19 | K16: 0 | L16: 0 | M16: 3 | N16: 9 | O16: =SUM(テーブル1[[#This Row],[列11]:[列12]]) -> 12 | R16: =SUM(K16,L16,O16,P16) -> 12 | S16: =A16 -> 100071 | T16: =COUNTIF($V$4:V16,V16) -> 13 | U16: =IF(T16=1,COUNTIF($T$4:T16,1),"") | V16: ='施設状況(要更新)'!$E16&'施設状況(要更新)'!$C16 -> 中央区04小規模A・B・C | W16: ='施設状況(要更新)'!$F16 -> ぴっころきっず中島公園 | X16: 12 | Y16: =IFERROR(INDEX($T$4:$W$700,MATCH($X16&Y$3,INDEX($T$4:$T$700&$V$4:$V$700,),0),MATCH("施設名",$T$3:$W$3,0)),"") -> 保育室ぱすてる | Z16: =IFERROR(INDEX($T$4:$W$700,MATCH($X16&Z$3,INDEX($T$4:$T$700&$V$4:$V$700,),0),MATCH("施設名",$T$3:$W$3,0)),"") -> きずな新琴似保育園 | AA16: =IFERROR(INDEX($T$4:$W$700,MATCH($X16&AA$3,INDEX($T$4:$T$700&$V$4:$V$700,),0),MATCH("施設名",$T$3:$W$3,0)),"") -> あんあん乳児保育園環状通東ルーム | AB16: =IFERROR(INDEX($T$4:$W$700,MATCH($X16&AB$3,INDEX($T$4:$T$700&$V$4:$V$700,),0),MATCH("施設名",$T$3:$W$3,0)),"") -> 木育こどもの家白石園 | AC16: =IFERROR(INDEX($T$4:$W$700,MATCH($X16&AC$3,INDEX($T$4:$T$700&$V$4:$V$700,),0),MATCH("施設名",$T$3:$W$3,0)),"") | AD16: =IFERROR(INDEX($T$4:$W$700,MATCH($X16&AD$3,INDEX($T$4:$T$700&$V$4:$V$700,),0),MATCH("施設名",$T$3:$W$3,0)),"") -> レーベン美園保育園 | AE16: =IFERROR(INDEX($T$4:$W$700,MATCH($X16&AE$3,INDEX($T$4:$T$700&$V$4:$V$700,),0),MATCH("施設名",$T$3:$W$3,0)),"") | AF16: =IFERROR(INDEX($T$4:$W$700,MATCH($X16&AF$3,INDEX($T$4:$T$700&$V$4:$V$700,),0),MATCH("施設名",$T$3:$W$3,0)),"") | ... AN16: =IFERROR(INDEX($T$4:$W$700,MATCH($X16&AN$3,INDEX($T$4:$T$700&$V$4:$V$700,),0),MATCH("施設名",$T$3:$W$3,0)),"") -> 0
... A64: 400080 | B64: 01私立 | C64: 04小規模A・B・C | D64: Ａ | E64: 白石区 | F64: もりのなかま保育園菊水元町園 | J64: 19 | K64: 0 | L64: 0 | M64: 4 | N64: 8 | O64: =SUM(テーブル1[[#This Row],[列11]:[列12]]) -> 12 | R64: =SUM(K64,L64,O64,P64) -> 12 | S64: =A64 -> 400080 | T64: =COUNTIF($V$4:V64,V64) -> 10 | U64: =IF(T64=1,COUNTIF($T$4:T64,1),"") | V64: ='施設状況(要更新)'!$E64&'施設状況(要更新)'!$C64 -> 白石区04小規模A・B・C | W64: ='施設状況(要更新)'!$F64 -> もりのなかま保育園菊水元町園 | X64: 60 | Y64: =IFERROR(INDEX($T$4:$W$700,MATCH($X64&Y$3,INDEX($T$4:$T$700&$V$4:$V$700,),0),MATCH("施設名",$T$3:$W$3,0)),"") | Z64: =IFERROR(INDEX($T$4:$W$700,MATCH($X64&Z$3,INDEX($T$4:$T$700&$V$4:$V$700,),0),MATCH("施設名",$T$3:$W$3,0)),"") | AA64: =IFERROR(INDEX($T$4:$W$700,MATCH($X64&AA$3,INDEX($T$4:$T$700&$V$4:$V$700,),0),MATCH("施設名",$T$3:$W$3,0)),"") | AB64: =IFERROR(INDEX($T$4:$W$700,MATCH($X64&AB$3,INDEX($T$4:$T$700&$V$4:$V$700,),0),MATCH("施設名",$T$3:$W$3,0)),"") | AC64: =IFERROR(INDEX($T$4:$W$700,MATCH($X64&AC$3,INDEX($T$4:$T$700&$V$4:$V$700,),0),MATCH("施設名",$T$3:$W$3,0)),"") | AD64: =IFERROR(INDEX($T$4:$W$700,MATCH($X64&AD$3,INDEX($T$4:$T$700&$V$4:$V$700,),0),MATCH("施設名",$T$3:$W$3,0)),"") | AE64: =IFERROR(INDEX($T$4:$W$700,MATCH($X64&AE$3,INDEX($T$4:$T$700&$V$4:$V$700,),0),MATCH("施設名",$T$3:$W$3,0)),"") | AF64: =IFERROR(INDEX($T$4:$W$700,MATCH($X64&AF$3,INDEX($T$4:$T$700&$V$4:$V$700,),0),MATCH("施設名",$T$3:$W$3,0)),"") | ... AN64: =IFERROR(INDEX($T$4:$W$700,MATCH($X64&AN$3,INDEX($T$4:$T$700&$V$4:$V$700,),0),MATCH("施設名",$T$3:$W$3,0)),"") -> 0
A65: 400081 | B65: 01私立 | C65: 04小規模A・B・C | D65: Ａ | E65: 白石区 | F65: ちゅうわ南郷保育園 | J65: 19 | K65: 0 | L65: 0 | M65: 3 | N65: 16 | O65: =SUM(テーブル1[[#This Row],[列11]:[列12]]) -> 19 | R65: =SUM(K65,L65,O65,P65) -> 19 | S65: =A65 -> 400081 | T65: =COUNTIF($V$4:V65,V65) -> 11 | U65: =IF(T65=1,COUNTIF($T$4:T65,1),"") | V65: ='施設状況(要更新)'!$E65&'施設状況(要更新)'!$C65 -> 白石区04小規模A・B・C | W65: ='施設状況(要更新)'!$F65 -> ちゅうわ南郷保育園
A66: 400084 | B66: 01私立 | C66: 04小規模A・B・C | D66: Ａ | E66: 白石区 | F66: 木育こどもの家白石園 | J66: 19 | K66: 0 | L66: 0 | M66: 3 | N66: 16 | O66: =SUM(テーブル1[[#This Row],[列11]:[列12]]) -> 19 | R66: =SUM(K66,L66,O66,P66) -> 19 | S66: =A66 -> 400084 | T66: =COUNTIF($V$4:V66,V66) -> 12 | U66: =IF(T66=1,COUNTIF($T$4:T66,1),"") | V66: ='施設状況(要更新)'!$E66&'施設状況(要更新)'!$C66 -> 白石区04小規模A・B・C | W66: ='施設状況(要更新)'!$F66 -> 木育こどもの家白石園
A67: 450051 | B67: 01私立 | C67: 04小規模A・B・C | D67: Ａ | E67: 厚別区 | F67: サクラ保育園厚別西 | J67: 19 | K67: 0 | L67: 0 | M67: 3 | N67: 16 | O67: =SUM(テーブル1[[#This Row],[列11]:[列12]]) -> 19 | R67: =SUM(K67,L67,O67,P67) -> 19 | S67: =A67 -> 450051 | T67: =COUNTIF($V$4:V67,V67) -> 1 | U67: =IF(T67=1,COUNTIF($T$4:T67,1),"") -> 5 | V67: ='施設状況(要更新)'!$E67&'施設状況(要更新)'!$C67 -> 厚別区04小規模A・B・C | W67: ='施設状況(要更新)'!$F67 -> サクラ保育園厚別西
A68: 450053 | B68: 01私立 | C68: 04小規模A・B・C | D68: Ａ | E68: 厚別区 | F68: はぐくみ園厚別 | J68: 19 | K68: 0 | L68: 0 | M68: 3 | N68: 16 | O68: =SUM(テーブル1[[#This Row],[列11]:[列12]]) -> 19 | R68: =SUM(K68,L68,O68,P68) -> 19 | S68: =A68 -> 450053 | T68: =COUNTIF($V$4:V68,V68) -> 2 | U68: =IF(T68=1,COUNTIF($T$4:T68,1),"") | V68: ='施設状況(要更新)'!$E68&'施設状況(要更新)'!$C68 -> 厚別区04小規模A・B・C | W68: ='施設状況(要更新)'!$F68 -> はぐくみ園厚別
A69: 450054 | B69: 01私立 | C69: 04小規模A・B・C | D69: Ａ | E69: 厚別区 | F69: みんなのナーサリー | J69: 19 | K69: 0 | L69: 0 | M69: 3 | N69: 16 | O69: =SUM(テーブル1[[#This Row],[列11]:[列12]]) -> 19 | R69: =SUM(K69,L69,O69,P69) -> 19 | S69: =A69 -> 450054 | T69: =COUNTIF($V$4:V69,V69) -> 3 | U69: =IF(T69=1,COUNTIF($T$4:T69,1),"") | V69: ='施設状況(要更新)'!$E69&'施設状況(要更新)'!$C69 -> 厚別区04小規模A・B・C | W69: ='施設状況(要更新)'!$F69 -> みんなのナーサリー
A70: 450055 | B70: 01私立 | C70: 04小規模A・B・C | D70: Ａ | E70: 厚別区 | F70: サクラ保育園上野幌 | J70: 19 | K70: 0 | L70: 0 | M70: 3 | N70: 16 | O70: =SUM(テーブル1[[#This Row],[列11]:[列12]]) -> 19 | R70: =SUM(K70,L70,O70,P70) -> 19 | S70: =A70 -> 450055 | T70: =COUNTIF($V$4:V70,V70) -> 4 | U70: =IF(T70=1,COUNTIF($T$4:T70,1),"") | V70: ='施設状況(要更新)'!$E70&'施設状況(要更新)'!$C70 -> 厚別区04小規模A・B・C | W70: ='施設状況(要更新)'!$F70 -> サクラ保育園上野幌
A71: 450056 | B71: 01私立 | C71: 04小規模A・B・C | D71: Ａ | E71: 厚別区 | F71: ひばりが丘あんさんぶる保育園 | J71: 19 | K71: 0 | L71: 0 | M71: 3 | N71: 16 | O71: =SUM(テーブル1[[#This Row],[列11]:[列12]]) -> 19 | R71: =SUM(K71,L71,O71,P71) -> 19 | S71: =A71 -> 450056 | T71: =COUNTIF($V$4:V71,V71) -> 5 | U71: =IF(T71=1,COUNTIF($T$4:T71,1),"") | V71: ='施設状況(要更新)'!$E71&'施設状況(要更新)'!$C71 -> 厚別区04小規模A・B・C | W71: ='施設状況(要更新)'!$F71 -> ひばりが丘あんさんぶる保育園
A72: 450057 | B72: 01私立 | C72: 04小規模A・B・C | D72: Ａ | E72: 厚別区 | F72: 厚別西クレヨン保育園 | J72: 19 | K72: 0 | L72: 0 | M72: 3 | N72: 16 | O72: =SUM(テーブル1[[#This Row],[列11]:[列12]]) -> 19 | R72: =SUM(K72,L72,O72,P72) -> 19 | S72: =A72 -> 450057 | T72: =COUNTIF($V$4:V72,V72) -> 6 | U72: =IF(T72=1,COUNTIF($T$4:T72,1),"") | V72: ='施設状況(要更新)'!$E72&'施設状況(要更新)'!$C72 -> 厚別区04小規模A・B・C | W72: ='施設状況(要更新)'!$F72 -> 厚別西クレヨン保育園
A73: 500046 | B73: 01私立 | C73: 04小規模A・B・C | D73: Ａ | E73: 豊平区 | F73: ちびっこ保育るーむ札幌ドーム前園 | J73: 19 | K73: 0 | L73: 0 | M73: 6 | N73: 13 | O73: =SUM(テーブル1[[#This Row],[列11]:[列12]]) -> 19 | R73: =SUM(K73,L73,O73,P73) -> 19 | S73: =A73 -> 500046 | T73: =COUNTIF($V$4:V73,V73) -> 1 | U73: =IF(T73=1,COUNTIF($T$4:T73,1),"") -> 6 | V73: ='施設状況(要更新)'!$E73&'施設状況(要更新)'!$C73 -> 豊平区04小規模A・B・C | W73: ='施設状況(要更新)'!$F73 -> ちびっこ保育るーむ札幌ドーム前園
A74: 500091 | B74: 01私立 | C74: 04小規模A・B・C | D74: Ａ | E74: 豊平区 | F74: ちびっこ保育ルーム平岸ひまわり園 | J74: 19 | K74: 0 | L74: 0 | M74: 4 | N74: 8 | O74: =SUM(テーブル1[[#This Row],[列11]:[列12]]) -> 12 | R74: =SUM(K74,L74,O74,P74) -> 12 | S74: =A74 -> 500091 | T74: =COUNTIF($V$4:V74,V74) -> 2 | U74: =IF(T74=1,COUNTIF($T$4:T74,1),"") | V74: ='施設状況(要更新)'!$E74&'施設状況(要更新)'!$C74 -> 豊平区04小規模A・B・C | W74: ='施設状況(要更新)'!$F74 -> ちびっこ保育ルーム平岸ひまわり園
A75: 500048 | B75: 01私立 | C75: 04小規模A・B・C | D75: Ａ | E75: 豊平区 | F75: 太陽こころナーサリー平岸 | J75: 19 | K75: 0 | L75: 0 | M75: 6 | N75: 13 | O75: =SUM(テーブル1[[#This Row],[列11]:[列12]]) -> 19 | R75: =SUM(K75,L75,O75,P75) -> 19 | S75: =A75 -> 500048 | T75: =COUNTIF($V$4:V75,V75) -> 3 | U75: =IF(T75=1,COUNTIF($T$4:T75,1),"") | V75: ='施設状況(要更新)'!$E75&'施設状況(要更新)'!$C75 -> 豊平区04小規模A・B・C | W75: ='施設状況(要更新)'!$F75 -> 太陽こころナーサリー平岸
A76: 500050 | B76: 01私立 | C76: 04小規模A・B・C | D76: Ａ | E76: 豊平区 | F76: あんあん保育園平岸ルーム | J76: 19 | K76: 0 | L76: 0 | M76: 6 | N76: 13 | O76: =SUM(テーブル1[[#This Row],[列11]:[列12]]) -> 19 | R76: =SUM(K76,L76,O76,P76) -> 19 | S76: =A76 -> 500050 | T76: =COUNTIF($V$4:V76,V76) -> 4 | U76: =IF(T76=1,COUNTIF($T$4:T76,1),"") | V76: ='施設状況(要更新)'!$E76&'施設状況(要更新)'!$C76 -> 豊平区04小規模A・B・C | W76: ='施設状況(要更新)'!$F76 -> あんあん保育園平岸ルーム
... A131: 750044 | B131: 01私立 | C131: 04小規模A・B・C | D131: Ａ | E131: 手稲区 | F131: Ｓ．Ｔ．ナーサリーＳＣＨＯＯＬ手稲前田 | J131: 19 | K131: 0 | L131: 0 | M131: 3 | N131: 16 | O131: =SUM(テーブル1[[#This Row],[列11]:[列12]]) -> 19 | R131: =SUM(K131,L131,O131,P131) -> 19 | S131: =A131 -> 750044 | T131: =COUNTIF($V$4:V131,V131) -> 9 | U131: =IF(T131=1,COUNTIF($T$4:T131,1),"") | V131: ='施設状況(要更新)'!$E131&'施設状況(要更新)'!$C131 -> 手稲区04小規模A・B・C | W131: ='施設状況(要更新)'!$F131 -> Ｓ．Ｔ．ナーサリーＳＣＨＯＯＬ手稲前田
A132: 300070 | B132: 01私立 | C132: 06事業所内 | D132: 事小 | E132: 東区 | F132: コープさっぽろ保育園ａｕｒｉｎｋｏ | J132: 19 | K132: 0 | L132: 0 | M132: 3 | N132: 10 | O132: =SUM(テーブル1[[#This Row],[列11]:[列12]]) -> 13 | P132: 6 | R132: =SUM(K132,L132,O132,P132) -> 19 | S132: =A132 -> 300070 | T132: =COUNTIF($V$4:V132,V132) -> 1 | U132: =IF(T132=1,COUNTIF($T$4:T132,1),"") -> 11 | V132: ='施設状況(要更新)'!$E132&'施設状況(要更新)'!$C132 -> 東区06事業所内 | W132: ='施設状況(要更新)'!$F132 -> コープさっぽろ保育園ａｕｒｉｎｋｏ
A133: 300102 | B133: 01私立 | C133: 06事業所内 | D133: 事小 | E133: 東区 | F133: ＨｅａｒｔＫｉｄｓ保育園ハートセンター | J133: 5 | K133: 0 | L133: 0 | M133: 1 | N133: 4 | O133: =SUM(テーブル1[[#This Row],[列11]:[列12]]) -> 5 | P133: 12 | R133: =SUM(K133,L133,O133,P133) -> 17 | S133: =A133 -> 300102 | T133: =COUNTIF($V$4:V133,V133) -> 2 | U133: =IF(T133=1,COUNTIF($T$4:T133,1),"") | V133: ='施設状況(要更新)'!$E133&'施設状況(要更新)'!$C133 -> 東区06事業所内 | W133: ='施設状況(要更新)'!$F133 -> ＨｅａｒｔＫｉｄｓ保育園ハートセンター
A134: 400057 | B134: 01私立 | C134: 06事業所内 | D134: 事小 | E134: 白石区 | F134: じゅんのめ保育園 | J134: 14 | K134: 0 | L134: 0 | M134: 2 | N134: 12 | O134: =SUM(テーブル1[[#This Row],[列11]:[列12]]) -> 14 | P134: 5 | R134: =SUM(K134,L134,O134,P134) -> 19 | S134: =A134 -> 400057 | T134: =COUNTIF($V$4:V134,V134) -> 1 | U134: =IF(T134=1,COUNTIF($T$4:T134,1),"") -> 12 | V134: ='施設状況(要更新)'!$E134&'施設状況(要更新)'!$C134 -> 白石区06事業所内 | W134: ='施設状況(要更新)'!$F134 -> じゅんのめ保育園
A135: 500049 | B135: 01私立 | C135: 06事業所内 | D135: 事保 | E135: 豊平区 | F135: こどもクラブしらかば | J135: 12 | K135: 0 | L135: 0 | M135: 4 | N135: 8 | O135: =SUM(テーブル1[[#This Row],[列11]:[列12]]) -> 12 | P135: 28 | R135: =SUM(K135,L135,O135,P135) -> 40 | S135: =A135 -> 500049 | T135: =COUNTIF($V$4:V135,V135) -> 1 | U135: =IF(T135=1,COUNTIF($T$4:T135,1),"") -> 13 | V135: ='施設状況(要更新)'!$E135&'施設状況(要更新)'!$C135 -> 豊平区06事業所内 | W135: ='施設状況(要更新)'!$F135 -> こどもクラブしらかば
A136: 500062 | B136: 01私立 | C136: 06事業所内 | D136: 事小 | E136: 豊平区 | F136: 札幌ドリーム保育園 | J136: 5 | K136: 0 | L136: 0 | M136: 2 | N136: 4 | O136: =SUM(テーブル1[[#This Row],[列11]:[列12]]) -> 6 | P136: 6 | R136: =SUM(K136,L136,O136,P136) -> 12 | S136: =A136 -> 500062 | T136: =COUNTIF($V$4:V136,V136) -> 2 | U136: =IF(T136=1,COUNTIF($T$4:T136,1),"") | V136: ='施設状況(要更新)'!$E136&'施設状況(要更新)'!$C136 -> 豊平区06事業所内 | W136: ='施設状況(要更新)'!$F136 -> 札幌ドリーム保育園
A137: 500095 | B137: 01私立 | C137: 06事業所内 | D137: 事小 | E137: 豊平区 | F137: こころキッズワタキュー中の島ルーム | J137: 6 | K137: 0 | L137: 0 | M137: 1 | N137: 4 | O137: =SUM(テーブル1[[#This Row],[列11]:[列12]]) -> 5 | P137: 7 | R137: =SUM(K137,L137,O137,P137) -> 12 | S137: =A137 -> 500095 | T137: =COUNTIF($V$4:V137,V137) -> 3 | U137: =IF(T137=1,COUNTIF($T$4:T137,1),"") | V137: ='施設状況(要更新)'!$E137&'施設状況(要更新)'!$C137 -> 豊平区06事業所内 | W137: ='施設状況(要更新)'!$F137 -> こころキッズワタキュー中の島ルーム
A138: 600030 | B138: 01私立 | C138: 06事業所内 | D138: 事小 | E138: 南区 | F138: もなみの里保育園 | J138: 4 | K138: 0 | L138: 0 | M138: 1 | N138: 3 | O138: =SUM(テーブル1[[#This Row],[列11]:[列12]]) -> 4 | P138: 5 | R138: =SUM(K138,L138,O138,P138) -> 9 | S138: =A138 -> 600030 | T138: =COUNTIF($V$4:V138,V138) -> 1 | U138: =IF(T138=1,COUNTIF($T$4:T138,1),"") -> 14 | V138: ='施設状況(要更新)'!$E138&'施設状況(要更新)'!$C138 -> 南区06事業所内 | W138: ='施設状況(要更新)'!$F138 -> もなみの里保育園
A139: 600036 | B139: 01私立 | C139: 06事業所内 | D139: 事保 | E139: 南区 | F139: 真駒内駐屯地庁内託児所 | J139: 7 | K139: 0 | L139: 0 | M139: 2 | N139: 5 | O139: =SUM(テーブル1[[#This Row],[列11]:[列12]]) -> 7 | P139: 19 | R139: =SUM(K139,L139,O139,P139) -> 26 | S139: =A139 -> 600036 | T139: =COUNTIF($V$4:V139,V139) -> 2 | U139: =IF(T139=1,COUNTIF($T$4:T139,1),"") | V139: ='施設状況(要更新)'!$E139&'施設状況(要更新)'!$C139 -> 南区06事業所内 | W139: ='施設状況(要更新)'!$F139 -> 真駒内駐屯地庁内託児所
A140: 700054 | B140: 01私立 | C140: 06事業所内 | D140: 事小 | E140: 西区 | F140: さくらんぼ保育園 | J140: 7 | K140: 0 | L140: 0 | M140: 1 | N140: 6 | O140: =SUM(テーブル1[[#This Row],[列11]:[列12]]) -> 7 | P140: 5 | R140: =SUM(K140,L140,O140,P140) -> 12 | S140: =A140 -> 700054 | T140: =COUNTIF($V$4:V140,V140) -> 1 | U140: =IF(T140=1,COUNTIF($T$4:T140,1),"") -> 15 | V140: ='施設状況(要更新)'!$E140&'施設状況(要更新)'!$C140 -> 西区06事業所内 | W140: ='施設状況(要更新)'!$F140 -> さくらんぼ保育園
A141: 700065 | B141: 01私立 | C141: 06事業所内 | D141: 事小 | E141: 西区 | F141: 八軒西もみじ保育園 | J141: 6 | K141: 0 | L141: 0 | M141: 1 | N141: 5 | O141: =SUM(テーブル1[[#This Row],[列11]:[列12]]) -> 6 | P141: 13 | R141: =SUM(K141,L141,O141,P141) -> 19 | S141: =A141 -> 700065 | T141: =COUNTIF($V$4:V141,V141) -> 2 | U141: =IF(T141=1,COUNTIF($T$4:T141,1),"") | V141: ='施設状況(要更新)'!$E141&'施設状況(要更新)'!$C141 -> 西区06事業所内 | W141: ='施設状況(要更新)'!$F141 -> 八軒西もみじ保育園
...

Sheet 休日情報(要更新)
A1: 【祝日情報】
A2: 当該シートに祝日を入力すると、利用状況表で対応する日が「赤表示」になります。
A3: 2022 | C3: =A3+1 -> 2023 | E3: =C3+1 -> 2024 | G3: =E3+1 -> 2025 | I3: =G3+1 -> 2026
A4: 日付 | B4: 祝日名 | C4: =A4 -> 日付 | D4: =B4 -> 祝日名 | E4: =C4 -> 日付 | F4: =D4 -> 祝日名 | G4: =E4 -> 日付 | H4: =F4 -> 祝日名 | I4: =G4 -> 日付 | J4: =H4 -> 祝日名
A5: 44562 | B5: 元日 | C5: 44927 | D5: 元日 | E5: 45292 | F5: 元日 | G5: 45658 | H5: 元日
A6: 44571 | B6: 成人の日 | C6: 44928 | D6: 振替休日（元日） | E6: 45299 | F6: 成人の日 | G6: 45670 | H6: 成人の日
A7: 44603 | B7: 建国記念の日 | C7: 44935 | D7: 成人の日 | E7: 45333 | F7: 建国記念の日 | G7: 45699 | H7: 建国記念の日
A8: 44615 | B8: 天皇誕生日 | C8: 44968 | D8: 建国記念の日 | E8: 45334 | F8: 振替休日（建国記念の日） | G8: 45711 | H8: 天皇誕生日
A9: 44641 | B9: 春分の日 | C9: 44980 | D9: 天皇誕生日 | E9: 45345 | F9: 天皇誕生日 | G9: 45712 | H9: 振替休日（天皇誕生日）
A10: 44680 | B10: 昭和の日 | C10: 45006 | D10: 春分の日 | E10: 45371 | F10: 春分の日 | G10: 45736 | H10: 春分の日
A11: 44684 | B11: 憲法記念日 | C11: 45045 | D11: 昭和の日 | E11: 45411 | F11: 昭和の日 | G11: 45776 | H11: 昭和の日
A12: 44685 | B12: みどりの日 | C12: 45049 | D12: 憲法記念日 | E12: 45415 | F12: 憲法記念日 | G12: 45780 | H12: 憲法記念日
A13: 44686 | B13: こどもの日 | C13: 45050 | D13: みどりの日 | E13: 45416 | F13: みどりの日 | G13: 45781 | H13: みどりの日
A14: 44760 | B14: 海の日 | C14: 45051 | D14: こどもの日 | E14: 45417 | F14: こどもの日 | G14: 45782 | H14: こどもの日
A15: 44784 | B15: 山の日 | C15: 45124 | D15: 海の日 | E15: 45418 | F15: 振替休日（こどもの日） | G15: 45783 | H15: 振替休日（みどりの日）
A16: 44823 | B16: 敬老の日 | C16: 45149 | D16: 山の日 | E16: 45488 | F16: 海の日 | G16: 45859 | H16: 海の日
... A21: 44926 | B21: ※土曜日 | C21: 45253 | D21: 勤労感謝の日 | E21: 45558 | F21: 振替休日（秋分の日） | G21: 45964 | H21: 文化の日
C22: 45290 | D22: ※土曜日 | E22: 45579 | F22: スポーツの日 | G22: 45984 | H22: 勤労感謝の日
E23: 45599 | F23: 文化の日 | G23: 45985 | H23: 振替休日（勤労感謝の日）
E24: 45600 | F24: 振替休日（文化の日）
E25: 45619 | F25: 勤労感謝の日

Sheet 作成方法
B2: 【作成要領・提出書類チェック表】
B4: 黄色 | C4: 直接手入力してください。
B5: 橙色 | C5: ドロップダウンで選択。
B6: 水色 | C6: 札幌市で入力済の内容です。変更がある場合は、申し出ください。
B7: 白色 | C7: 入力不可
B9: 【提出方法】
B10: ＜Excelデータ 提出先＞
B11: アドレス | C11: kyufuhi@city.sapporo.jp
B12: メール件名 | C12: =IF(【様式１】総括表・個票!$D$13="","※園名を選択",CONCATENATE("【加算申請】",VLOOKUP(【様式１】総括表・個票!$D$13,'施設状況(要更新)'!$F$4:$S$700,14,FALSE),【様式１】総括表・個票!$D$13)) -> ※園名を選択 | D12: ←（【様式１】で園名を選ぶと反映）
B13: パスワード | C13: 29hoiku86 | D13: ← Excelデータをこちらのパスワードで
D14: zipファイル化して、メールに添付してください。
B15: ＜添付書類 郵送先＞
B16: 〒060-0051 | D16: ←「【別添】添付書類の表紙」を付けて郵送してください。
B17: 札幌市中央区南１条東１丁目 大通バスセンタービル３階 | D17: （右隣のシート）
B18: 子ども未来局子育て支援部施設運営課給付係 TEL 011-211-3027
B20: 【お問い合わせについて】
B21: メールでのお問い合わせにご協力ください。（様式の入力がうまくいかない等、データをこちらで確認する必要がある場合はデータも添付してください。）
B22: アドレス | C22: kyufuhi@city.sapporo.jp
B23: メール件名 | C23: =IF(【様式１】総括表・個票!$D$13="","※園名を選択",CONCATENATE("【加算問い合わせ】",VLOOKUP(【様式１】総括表・個票!$D$13,'施設状況(要更新)'!$F$4:$S$700,14,FALSE),【様式１】総括表・個票!$D$13)) -> ※園名を選択 | D23: ←（【様式１】で園名を選ぶと反映）
B25: 【作成にあたって】
B26: 項目 | C26: 説明
B27: 作成ソフト | C27: 本様式はExcel2016（Microsoft社）で作成しておりますので、Excel2016以降での作成を推奨します。このため、Excel2016未満のバージョン（2010、2003等）及びMicrosoft社製以外の表計算ソフト（Kingsoft、Numbers等）での動作は保証いたしません。
B28: 作成手順 | C28: (0) （前月分を作成済みの場合）ファイルをコピーして別名で保存
C29: (1) 様式1(総括表)：申請月、所在区、施設名入力→利用定員が正しいか確認
C30: (2) 様式1(個票)：申請する加算入力(一部様式2～5の入力状況を引用)
C31: (3) 別紙1～7：必要に応じて入力
C32: (4) 様式2：月初日時点の職員配置を入力
C33: (5) 様式3：非常勤職員がいる場合は、該当月の勤務予定時間を入力
C34: (6) 様式4：クラス編成状況を記載
C35: (7) 様式5：初日児童数、基本配置・加算・補助金対象職員選択
C36: (8) 様式1：様式2～5入力後に選択できる箇所が一部あるため再度確認(チーム保育加配等)
C37: (9) 様式6：年度開始月(4月)～申請月までを埋める
B38: 参考資料 | C38: ・ 依頼文 （各月分の申請期限はこちらでご確認ください。）
C39: ・ 様式内の「作成方法」シート、各シート印刷範囲外の説明書き
C40: ・ 加算・調整項目申請書作成要領 （依頼時に送付）
C41: ・ 国通知「特定教育・保育等に要する費用の額の算定に関する基準等の改正に伴う実施上の留意事項について」 （令和5年2月20日改正） 内閣府HP：https://www8.cao.go.jp/shoushi/shinseido/law/tsuuchi.html

Sheet 【別添】添付書類の表紙
A1: 【お問い合わせについて】 | D1: 月 | E1: 施設コード | F1: 施設名
A2: アドレス | B2: kyufuhi@city.sapporo.jp | D2: =【様式１】総括表・個票!I10&"月" -> 月 | E2: =VLOOKUP(【様式１】総括表・個票!D13,'施設状況(要更新)'!$F$4:$S$700,14,FALSE) -> #N/A | F2: =【様式１】総括表・個票!D13 -> 0
A3: メール件名 | B3: ="【問合せ】"&D2&"加算"&E2&F2 -> #N/A | C3: ←メールの件名はこちらをコピーして使用してください。
A4: ※問い合わせの際は、作成途中の申請書（エクセル）を一緒に添付してください。
A5: 【提出先】
A6: ＜Excelデータ＞
A7: アドレス | B7: kyufuhi@city.sapporo.jp
A8: メール件名 | B8: ="【提出】"&D2&"加算"&E2&F2 -> #N/A | C8: ←メールの件名はこちらをコピーして使用してください。
A9: エクセル名 | B9: =D2&"加算"&E2&F2 -> #N/A | C9: ←申請書（エクセル）の名前はこちらをコピーして使用してください。
A10: パスワード | B10: 29hoiku86 | C10: ←Excelデータをこちらのパスワードでお願いします。
A11: ＜PDFデータ（加算の添付書類）＞
A12: ※ＰＤＦで提出いただく添付書類の名前は、以下のリストからコピーして使用してください。
B14: 添付書類が必要な加算 | C14: 挙証書類の名前
A15: 添付書類① | B15: {=IFERROR(INDIRECT("F"&SMALL($I$16:$I$22,ROW()/3-4)),"")} -> 障害児保育加算 | C15: =IF($B$15="","",$E$2&"_"&B15&"添付書類①") -> #N/A | F15: 添付書類が必要な加算 | G15: 適用可否 | H15: 変換 | I15: 判定
C16: =IF($B$15="","",$E$2&"_"&B15&"添付書類②") -> #N/A | D16: =B15="" -> FALSE | F16: 障害児保育加算 | G16: =INDEX(【様式１】総括表・個票!$B$18:$B$43,MATCH(【別添】添付書類の表紙!F16,【様式１】総括表・個票!$F$18:F$43,0)) -> 適用月エラー | H16: =IF(G16="×","×","○") -> ○ | I16: =IF(H16="○",ROW(),"") -> 16
C17: =IF($B$15="","",$E$2&"_"&B15&"添付書類③") -> #N/A | D17: =D16 -> FALSE | F17: 休日保育加算 | G17: =INDEX(【様式１】総括表・個票!$B$18:$B$43,MATCH(【別添】添付書類の表紙!F17,【様式１】総括表・個票!$F$18:F$43,0)) -> 適用月エラー | H17: =IF(G17="×","×","○") -> ○ | I17: =IF(H17="○",ROW(),"") -> 17
A18: 添付書類② | B18: {=IFERROR(INDIRECT("F"&SMALL($I$16:$I$22,ROW()/3-4)),"")} -> 休日保育加算 | C18: =IF($B$15="","",$E$2&"_"&B18&"添付書類①") -> #N/A | D18: =D16 -> FALSE | F18: 減価償却費加算 | G18: =INDEX(【様式１】総括表・個票!$B$18:$B$43,MATCH(【別添】添付書類の表紙!F18,【様式１】総括表・個票!$F$18:F$43,0)) -> 適用月エラー | H18: =G18 -> 適用月エラー | I18: =IF(H18="○",ROW(),"")
C19: =IF($B$15="","",$E$2&"_"&B18&"添付書類②") -> #N/A | D19: =B18="" -> FALSE | F19: 賃借料加算 | G19: =INDEX(【様式１】総括表・個票!$B$18:$B$43,MATCH(【別添】添付書類の表紙!F19,【様式１】総括表・個票!$F$18:F$43,0)) -> 適用月エラー | H19: =G19 -> 適用月エラー | I19: =IF(H19="○",ROW(),"")
C20: =IF($B$15="","",$E$2&"_"&B18&"添付書類③") -> #N/A | D20: =D19 -> FALSE | F20: 管理者を配置していない場合(減算） | G20: =INDEX(【様式１】総括表・個票!$B$18:$B$43,MATCH(【別添】添付書類の表紙!F20,【様式１】総括表・個票!$F$18:F$43,0)) -> 適用月エラー | H20: =IF(G20="×","○","×") -> × | I20: =IF(H20="○",ROW(),"")
A21: 添付書類③ | B21: {=IFERROR(INDIRECT("F"&SMALL($I$16:$I$22,ROW()/3-4)),"")} | C21: =IF($B$15="","",$E$2&"_"&B21&"添付書類①") -> #N/A | D21: =D19 -> FALSE | F21: 栄養管理加算 | G21: =INDEX(【様式１】総括表・個票!$B$18:$B$43,MATCH(【別添】添付書類の表紙!F21,【様式１】総括表・個票!$F$18:F$43,0)) -> 適用月エラー | H21: =IF(G21="×","×",IF(G21="適用月エラー","×","○")) -> × | I21: =IF(H21="○",ROW(),"")
C22: =IF($B$15="","",$E$2&"_"&B21&"添付書類②") -> #N/A | D22: =B21="" -> TRUE | H22: =IF(G22="○",ROW(),"")
C23: =IF($B$15="","",$E$2&"_"&B21&"添付書類③") -> #N/A | D23: =D22 -> TRUE
A24: 添付書類④ | B24: {=IFERROR(INDIRECT("F"&SMALL($I$16:$I$22,ROW()/3-4)),"")} | C24: =IF($B$15="","",$E$2&"_"&B24&"添付書類①") -> #N/A | D24: =D22 -> TRUE
C25: =IF($B$15="","",$E$2&"_"&B24&"添付書類②") -> #N/A | D25: =B24="" -> TRUE
C26: =IF($B$15="","",$E$2&"_"&B24&"添付書類③") -> #N/A | D26: =D25 -> TRUE
A27: 添付書類⑤ | B27: {=IFERROR(INDIRECT("F"&SMALL($I$16:$I$22,ROW()/3-4)),"")} | C27: =IF($B$15="","",$E$2&"_"&B27&"添付書類①") -> #N/A | D27: =D25 -> TRUE
C28: =IF($B$15="","",$E$2&"_"&B27&"添付書類②") -> #N/A | D28: =B27="" -> TRUE
C29: =IF($B$15="","",$E$2&"_"&B27&"添付書類③") -> #N/A | D29: =D28 -> TRUE
A30: 添付書類⑥ | B30: {=IFERROR(INDIRECT("F"&SMALL($I$16:$I$22,ROW()/3-4)),"")} | C30: =IF($B$15="","",$E$2&"_"&B30&"添付書類①") -> #N/A | D30: =D28 -> TRUE
C31: =IF($B$15="","",$E$2&"_"&B30&"添付書類②") -> #N/A | D31: =B30="" -> TRUE
C32: =IF($B$15="","",$E$2&"_"&B30&"添付書類③") -> #N/A | D32: =D31 -> TRUE
A33: 添付書類⑦ | B33: {=IFERROR(INDIRECT("F"&SMALL($I$16:$I$22,ROW()/3-4)),"")} | C33: =IF($B$15="","",$E$2&"_"&B33&"添付書類①") -> #N/A | D33: =D31 -> TRUE
C34: =IF($B$15="","",$E$2&"_"&B33&"添付書類②") -> #N/A | D34: =B33="" -> TRUE
C35: =IF($B$15="","",$E$2&"_"&B33&"添付書類③") -> #N/A | D35: =D34 -> TRUE
A36: 添付書類⑧ | B36: {=IFERROR(INDIRECT("F"&SMALL($I$16:$I$22,ROW()/3-4)),"")} | C36: =IF($B$15="","",$E$2&"_"&B36&"添付書類①") -> #N/A | D36: =D34 -> TRUE
C37: =IF($B$15="","",$E$2&"_"&B36&"添付書類②") -> #N/A | D37: =B36="" -> TRUE
C38: =IF($B$15="","",$E$2&"_"&B36&"添付書類③") -> #N/A | D38: =D37 -> TRUE
A39: 添付書類⑨ | B39: {=IFERROR(INDIRECT("F"&SMALL($I$16:$I$22,ROW()/3-4)),"")} | C39: =IF($B$15="","",$E$2&"_"&B39&"添付書類①") -> #N/A | D39: =D37 -> TRUE
C40: =IF($B$15="","",$E$2&"_"&B39&"添付書類②") -> #N/A | D40: =B39="" -> TRUE
C41: =IF($B$15="","",$E$2&"_"&B39&"添付書類③") -> #N/A | D41: =D40 -> TRUE
...

Sheet 【様式１】総括表・個票
A1: ="【様式１："&IF(L12="Ａ","小規模Ａ",IF(L12="事小","事業所内19名以下",IF(L12="事保","事業所内20名以上","エラー")))&"】" -> #N/A | X1: =AI2&"様式1"&AI3 -> #N/A | AI1: 様式名 | AJ1: 西暦 | AK1: 月 | AM1: 所在区 | AN1: 選択 | AO1: 適否 | AP1: 施設種別 | AQ1: 定員超過① | AR1: 定員超過②
AI2: ="加-"&MID(AJ2,3,2)&"_"&$I$10&"月"&"申-" -> 加-23_月申- | AJ2: 2023
A3: =+AJ2&"年度施設型給付費等にかかる加算（調整）適用申請書（試算様式）" -> 2023年度施設型給付費等にかかる加算（調整）適用申請書（試算様式） | AI3: ="-"&L12&IFERROR(VLOOKUP($D$13,'施設状況(要更新)'!$F$4:$S$700,14,FALSE),"")&"_Ver."&TEXT(ver!$B$18,"#.00") -> #N/A | AJ3: =AJ2+1 -> 2024 | AK3: 4 | AL3: 1 | AM3: 中央区 | AN3: ○ | AO3: 申請する | AP3: 04小規模A・B・C | AQ3: 1 | AR3: 定員見直し
W4: =VLOOKUP(I10,$AK$18:$AL$29,2,0) -> #N/A | AK4: 5 | AL4: 2 | AM4: 北区 | AN4: × | AO4: 申請しない | AP4: 06事業所内 | AQ4: 2 | AR4: 受入人数見直し
A5: （あて先）札幌市長 | AK5: 6 | AL5: 3 | AM5: 東区 | AQ5: 3
P6: 法人名 | AK6: 7 | AL6: 4 | AM6: 白石区 | AQ6: 4
P7: 代表者名 | AK7: 8 | AL7: 5 | AM7: 厚別区 | AQ7: 5
A8: =+" "&AJ2&"年度において、下記のとおり申請します。" -> 2023年度において、下記のとおり申請します。 | AK8: 9 | AL8: 6 | AM8: 豊平区 | AQ8: 6
A9: Ⅰ 総括表 | AK9: 10 | AL9: 7 | AM9: 清田区 | AQ9: 7
A10: 申請月 | D10: =IF(I10>=4,$AJ$2,IF(AND(I10>0,$I$10<=3),$AJ$2+1,"")) | G10: 年 | L10: 月現在 | AK10: 11 | AL10: 8 | AM10: 南区 | AQ10: 8
A11: 所在区 | AK11: 12 | AL11: 9 | AM11: 西区 | AQ11: 9
A12: 施設種別 | L12: =VLOOKUP(VLOOKUP($D$13,'施設状況(要更新)'!$F$4:$S$700,14,FALSE),'施設状況(要更新)'!$A$4:$D$700,4,FALSE) -> #N/A | AK12: 1 | AL12: 10 | AM12: 手稲区 | AQ12: 10
A13: 施設名 | AK13: 2 | AL13: 11 | AQ13: 11
A14: 所在地 | AI14: 2号 | AJ14: 3号 | AK14: 3 | AL14: 12 | AQ14: 12
A15: 利用定員 | D15: 本園 | F15: 2号 | J15: 名 | K15: 3号 | O15: 名 | P15: 合計 | R15: =H15+M15 -> 0 | T15: 名 | AJ15: =IFERROR(VLOOKUP($D$13,'施設状況(要更新)'!$F$4:$S$700,13,FALSE),"") | AK15: 0 | AL15: 0 | AQ15: 13
A16: ↓【判定】…個票を入力することで、申請の有無に「〇」又は該当する区分が表示されます。 | AQ16: 14
A17: No. | B17: 申請の有無 | F17: 加算・調整項目 | V17: 加算適用開始(変更)月 | Z17: 備考 | AI17: 適否判定 | AK17: 提出日 | AQ17: 15
A18: 0 | B18: =AI18 -> × | F18: 基本配置職員 | AI18: =J49 -> × | AK18: 4 | AL18: 45084 | AQ18: 16
A19: 基本加算部分 | V19: ↓加算適用を開始(変更)した月を入力してください。 | AI19: =VLOOKUP($I$10,$AK$3:$AL$15,2,FALSE) -> 0 | AK19: 5 | AL19: =AL18 -> 45084 | AQ19: 17
A20: 1 | B20: =IFERROR(IF(AI20,AJ20,"適用月エラー"),"－") -> 適用月エラー | F20: 処遇改善等加算Ⅰ | V20: 4 | AI20: =VLOOKUP(V20,$AK$3:$AL$15,2,FALSE)<=$AI$19 -> FALSE | AJ20: =J62 -> × | AK20: 6 | AL20: =AL19 -> 45084 | AQ20: 18
A21: 2 | F21: 保育士比率向上加算 | Z21: B型のみ | AI21: =VLOOKUP(V21,$AK$3:$AL$15,2,FALSE)<=$AI$19 -> TRUE | AK21: 7 | AL21: 45175 | AQ21: 19
A22: 3 | B22: =IFERROR(IF(AI22,AJ22,"適用月エラー"),"－") -> 適用月エラー | F22: 障害児保育加算 | V22: 4 | AI22: =VLOOKUP(V22,$AK$3:$AL$15,2,FALSE)<=$AI$19 -> FALSE | AJ22: =J66 -> × | AK22: 8 | AL22: =AL21 -> 45175 | AQ22: 20
A23: 4 | B23: =IFERROR(IF(AI23,AJ23,"適用月エラー"),"－") -> 適用月エラー | F23: 休日保育加算 | V23: 4 | AI23: =VLOOKUP(V23,$AK$3:$AL$15,2,FALSE)<=$AI$19 -> FALSE | AJ23: =J79 -> エラー | AK23: 9 | AL23: =AL22 -> 45175 | AQ23: 21
A24: 5 | F24: 夜間保育加算 | Z24: 札幌市に適用施設はありません。 | AI24: =VLOOKUP(V24,$AK$3:$AL$15,2,FALSE)<=$AI$19 -> TRUE | AK24: 10 | AL24: 45266 | AQ24: 22
A25: 6 | B25: =IFERROR(IF(AI25,AJ25,"適用月エラー"),"－") -> 適用月エラー | F25: 減価償却費加算 | V25: 4 | Z25: 都市部 | AI25: =VLOOKUP(V25,$AK$3:$AL$15,2,FALSE)<=$AI$19 -> FALSE | AJ25: =J102 -> × | AK25: 11 | AL25: =AL24 -> 45266 | AQ25: 23
A26: 7 | B26: =IFERROR(IF(AI26,AJ26,"適用月エラー"),"－") -> 適用月エラー | F26: 賃借料加算 | V26: 4 | Z26: d地域-都市部 | AI26: =VLOOKUP(V26,$AK$3:$AL$15,2,FALSE)<=$AI$19 -> FALSE | AJ26: =J116 -> × | AK26: 12 | AL26: =AL25 -> 45266 | AQ26: 24
A27: 加減調整部分 | AK27: 1 | AL27: 44988 | AQ27: 25
A28: 8 | B28: =IFERROR(IF(AI28,AJ28,"適用月エラー"),AJ28) -> 適用月エラー | F28: 連携施設を設定しない場合(減算） | V28: 4 | AI28: =VLOOKUP(V28,$AK$3:$AL$15,2,FALSE)<=$AI$19 -> FALSE | AJ28: =J124 -> #N/A | AK28: 2 | AL28: =AL27 -> 44988 | AQ28: 26
A29: 9 | B29: =IFERROR(IF(AI29,AJ29,"適用月エラー"),AJ29) -> 適用月エラー | F29: 食事の提供について自園調理又は連携施設等からの搬入以外の方法による場合(減算） | V29: 4 | AI29: =VLOOKUP(V29,$AK$3:$AL$15,2,FALSE)<=$AI$19 -> FALSE | AJ29: =J137 -> ○ | AK29: 3 | AL29: =AL28 -> 44988 | AQ29: 27
A30: 10 | B30: =IFERROR(IF(AI30,AJ30,"適用月エラー"),AJ30) -> 適用月エラー | F30: 管理者を配置していない場合(減算） | V30: 4 | AI30: =VLOOKUP(V30,$AK$3:$AL$15,2,FALSE)<=$AI$19 -> FALSE | AJ30: =J146 -> ○ | AQ30: 28
A31: 11 | B31: =IFERROR(IF(AI31,AJ31,"適用月エラー"),AJ31) -> × | F31: 土曜日に閉所する場合（前月分実績は備考欄に記載）(減算） | V31: =I10 -> 0 | Z31: =IF(I10=4,"","前月："&F181) -> 前月：(変更無)全て → 全て | AI31: =VLOOKUP(V31,$AK$3:$AL$15,2,FALSE)<=$AI$19 -> TRUE | AJ31: =J176 -> × | AQ31: 29
A32: 乗除調整部分 | AQ32: 30
A33: 12 | B33: =IFERROR(IF(AI33,AJ33,"適用月エラー"),AJ33) -> 未入力エラー | F33: 定員を恒常的に超過する場合(減算） | V33: =IF(I10=0,0,4) -> 0 | Z33: =H215 -> エラー | AI33: =VLOOKUP(V33,$AK$3:$AL$15,2,FALSE)<=$AI$19 -> TRUE | AJ33: =J185 -> 未入力エラー | AQ33: 31
A34: 特定加算部分
A35: 13 | B35: =IFERROR(IF(AI35,AJ35,"適用月エラー"),"－") -> 適用月エラー | F35: 処遇改善等加算Ⅱ | V35: 4 | AI35: =VLOOKUP(V35,$AK$3:$AL$15,2,FALSE)<=$AI$19 -> FALSE | AJ35: =J219 -> ×
A36: 14 | B36: =IFERROR(IF(AI36,AJ36,"適用月エラー"),"－") -> 適用月エラー | F36: 処遇改善等加算Ⅲ | V36: 4 | AI36: =VLOOKUP(V36,$AK$3:$AL$15,2,FALSE)<=$AI$19 -> FALSE | AJ36: =J223 -> ×
A37: 15 | B37: =IFERROR(IF(AI37,AJ37,"適用月エラー"),"－") -> 適用月エラー | F37: 栄養管理加算 | V37: 4 | AI37: =VLOOKUP(V37,$AK$3:$AL$15,2,FALSE)<=$AI$19 -> FALSE | AJ37: =J227 -> × | AL37: =IFERROR(IF(AI22,AJ22,"適用月エラー"),"－") -> 適用月エラー
A38: 16 | B38: ○ | F38: 冷暖房費加算 | V38: 4 | Z38: 2級地
A39: 3月加算
A40: 17 | F40: 施設機能強化推進費加算 | V40: 3月加算については、11月頃（締切は12月末）に3月加算用申請書を依頼いたします。
...

Sheet (別紙１)管理者設置
A1: 別紙１（「減算：管理者を配置していない場合」の添付書類） | E1: =I2&"別紙1"&I3 -> #N/A | I1: 様式名
I2: =【様式１】総括表・個票!$AI$2 -> 加-23_月申-
A3: １ 管理者の経歴 | I3: =【様式１】総括表・個票!$AI$3 -> #N/A
A4: 基本情報 | B4: 項目 | C4: 入力欄
B5: 氏名
B6: 生年月日
B7: 年齢
B8: 住所
A9: 学歴 | B9: 年月日 | C9: 学校名と入学・中退・卒業等を記載
A20: 職歴 | B20: 年月日 | C20: 会社名と経歴等を記載
C40: 現施設の施設長に就任～現在に至る
A41: 資格 | B41: 取得年月日 | C41: 資格名等を記載
A53: ２ 同一又は系列園での施設長の重複確認
A54: ・同一又は系列法人内で運営する施設及び事業について全て記載すること
A55: ・施設の認可の有無は問わない(認可・認可外施設全て含んで、園長を兼務しているかどうかを確認します。)
A56: No. | B56: 施設・事業名 | C56: 施設長名 | E56: No. | F56: 施設・事業名 | G56: 施設長名
A57: 1 | B57: =CONCATENATE(【様式１】総括表・個票!D13) | C57: =CONCATENATE(C5) | E57: 51
A58: 2 | E58: 52
A59: 3 | E59: 53
A60: 4 | E60: 54
A61: 5 | E61: 55
A62: 6 | E62: 56
A63: 7 | E63: 57
A64: 8 | E64: 58
A65: 9 | E65: 59
A66: 10 | E66: 60
A67: 11 | E67: 61
A68: 12 | E68: 62
A69: 13 | E69: 63
... A106: 50 | E106: 100

Sheet (別紙2)土曜閉所
A1: 別紙２（「減算：土曜日に閉所する場合」の添付書類） | F1: =J2&"別紙2"&J3 -> #N/A | J1: 様式名 | K1: 選択
A2: 毎月分提出する必要があります。また、前月実績の区分が変更となった場合は、前月に遡及して減算を適用します。 | J2: =【様式１】総括表・個票!$AI$2 -> 加-23_月申-
A3: １ 当該月の利用見込み | C3: =DATE(K4,M4,1) -> #VALUE! | J3: =【様式１】総括表・個票!$AI$3 -> #N/A | K3: ○
A4: 特例※5 | B4: 土曜日 | C4: 日にち | D4: 平日/祝日 | E4: 利用児童数（見込） | F4: 減算 | K4: =【様式１】総括表・個票!D10 | L4: 年 | M4: =【様式１】総括表・個票!I10 -> 0 | N4: 月
B5: 1 | C5: =HLOOKUP($B5,$K$6:$AO$7,2,FALSE) -> #N/A | D5: =IF(C5="無","×",IF(HLOOKUP($B5,$K$6:$AO$8,3,FALSE)="○","祝日",IF($A5="○","特例","平日"))) -> #N/A | F5: =IF(AND($D5="平日",OR($E5=0,ISTEXT($E5))),"○",IF(AND($D5<>"平日",E5>0),"エラー","")) -> #N/A | J5: 土曜日 | K5: =IF(K7<>"",IF(WEEKDAY(DATE($K$4,$M$4,K$7))=7,1,0),0) -> #VALUE! | L5: =IF(L7<>"",IF(WEEKDAY(DATE($K$4,$M$4,L$7))=7,1,0),0) -> #VALUE! | M5: =IF(M7<>"",IF(WEEKDAY(DATE($K$4,$M$4,M$7))=7,1,0),0) -> #VALUE! | N5: =IF(N7<>"",IF(WEEKDAY(DATE($K$4,$M$4,N$7))=7,1,0),0) -> #VALUE! | O5: =IF(O7<>"",IF(WEEKDAY(DATE($K$4,$M$4,O$7))=7,1,0),0) -> #VALUE! | P5: =IF(P7<>"",IF(WEEKDAY(DATE($K$4,$M$4,P$7))=7,1,0),0) -> #VALUE! | Q5: =IF(Q7<>"",IF(WEEKDAY(DATE($K$4,$M$4,Q$7))=7,1,0),0) -> #VALUE! | R5: =IF(R7<>"",IF(WEEKDAY(DATE($K$4,$M$4,R$7))=7,1,0),0) -> #VALUE! | ... AO5: =IF(AO7<>"",IF(WEEKDAY(DATE($K$4,$M$4,AO$7))=7,1,0),0) -> 0
B6: 2 | C6: =HLOOKUP($B6,$K$6:$AO$7,2,FALSE) -> #N/A | D6: =IF(C6="無","×",IF(HLOOKUP($B6,$K$6:$AO$8,3,FALSE)="○","祝日",IF($A6="○","特例","平日"))) -> #N/A | F6: =IF(AND($D6="平日",OR($E6=0,ISTEXT($E6))),"○",IF(AND($D6<>"平日",E6>0),"エラー","")) -> #N/A | J6: 土曜順 | K6: =IF(K5<>1,0,COUNTIF($K$5:K5,1)) -> #VALUE! | L6: =IF(L5<>1,0,COUNTIF($K$5:L5,1)) -> #VALUE! | M6: =IF(M5<>1,0,COUNTIF($K$5:M5,1)) -> #VALUE! | N6: =IF(N5<>1,0,COUNTIF($K$5:N5,1)) -> #VALUE! | O6: =IF(O5<>1,0,COUNTIF($K$5:O5,1)) -> #VALUE! | P6: =IF(P5<>1,0,COUNTIF($K$5:P5,1)) -> #VALUE! | Q6: =IF(Q5<>1,0,COUNTIF($K$5:Q5,1)) -> #VALUE! | R6: =IF(R5<>1,0,COUNTIF($K$5:R5,1)) -> #VALUE! | ... AO6: =IF(AO5<>1,0,COUNTIF($K$5:AO5,1)) -> 0
B7: 3 | C7: =HLOOKUP($B7,$K$6:$AO$7,2,FALSE) -> #N/A | D7: =IF(C7="無","×",IF(HLOOKUP($B7,$K$6:$AO$8,3,FALSE)="○","祝日",IF($A7="○","特例","平日"))) -> #N/A | F7: =IF(AND($D7="平日",OR($E7=0,ISTEXT($E7))),"○",IF(AND($D7<>"平日",E7>0),"エラー","")) -> #N/A | J7: 日にち | K7: 1 | L7: 2 | M7: 3 | N7: 4 | O7: 5 | P7: 6 | Q7: 7 | R7: 8 | S7: 9 | T7: 10 | U7: 11 | V7: 12 | W7: 13 | X7: 14 | Y7: 15 | Z7: 16 | AA7: 17 | AB7: 18 | AC7: 19 | AD7: 20 | AE7: 21 | AF7: 22 | AG7: 23 | AH7: 24 | AI7: 25 | AJ7: 26 | AK7: 27 | AL7: 28 | AM7: =IF(MONTH(DATE(K4,M4,AL7+1))=M4,AL7+1,"") -> #VALUE! | AN7: =IF(M4<>2,IF(AM7<>"",AM7+1,""),"") -> #VALUE! | AO7: =IF(OR(M4=1,M4=3,M4=5,M4=7,M4=8,M4=10,M4=12),AN7+1,"")
B8: 4 | C8: =HLOOKUP($B8,$K$6:$AO$7,2,FALSE) -> #N/A | D8: =IF(C8="無","×",IF(HLOOKUP($B8,$K$6:$AO$8,3,FALSE)="○","祝日",IF($A8="○","特例","平日"))) -> #N/A | F8: =IF(AND($D8="平日",OR($E8=0,ISTEXT($E8))),"○",IF(AND($D8<>"平日",E8>0),"エラー","")) -> #N/A | J8: 祝・休日 | K8: =IF(K7<>"",IF(OR(WEEKDAY(DATE($K$4,$M$4,K$7),2)>6,COUNTIF('休日情報(要更新)'!$A$5:$J$32,DATE($K$4,$M$4,K$7)) >=1),"○",""),"") -> #VALUE! | L8: =IF(L7<>"",IF(OR(WEEKDAY(DATE($K$4,$M$4,L$7),2)>6,COUNTIF('休日情報(要更新)'!$A$5:$J$32,DATE($K$4,$M$4,L$7)) >=1),"○",""),"") -> #VALUE! | M8: =IF(M7<>"",IF(OR(WEEKDAY(DATE($K$4,$M$4,M$7),2)>6,COUNTIF('休日情報(要更新)'!$A$5:$J$32,DATE($K$4,$M$4,M$7)) >=1),"○",""),"") -> #VALUE! | N8: =IF(N7<>"",IF(OR(WEEKDAY(DATE($K$4,$M$4,N$7),2)>6,COUNTIF('休日情報(要更新)'!$A$5:$J$32,DATE($K$4,$M$4,N$7)) >=1),"○",""),"") -> #VALUE! | O8: =IF(O7<>"",IF(OR(WEEKDAY(DATE($K$4,$M$4,O$7),2)>6,COUNTIF('休日情報(要更新)'!$A$5:$J$32,DATE($K$4,$M$4,O$7)) >=1),"○",""),"") -> #VALUE! | P8: =IF(P7<>"",IF(OR(WEEKDAY(DATE($K$4,$M$4,P$7),2)>6,COUNTIF('休日情報(要更新)'!$A$5:$J$32,DATE($K$4,$M$4,P$7)) >=1),"○",""),"") -> #VALUE! | Q8: =IF(Q7<>"",IF(OR(WEEKDAY(DATE($K$4,$M$4,Q$7),2)>6,COUNTIF('休日情報(要更新)'!$A$5:$J$32,DATE($K$4,$M$4,Q$7)) >=1),"○",""),"") -> #VALUE! | R8: =IF(R7<>"",IF(OR(WEEKDAY(DATE($K$4,$M$4,R$7),2)>6,COUNTIF('休日情報(要更新)'!$A$5:$J$32,DATE($K$4,$M$4,R$7)) >=1),"○",""),"") -> #VALUE! | ... AO8: =IF(AO7<>"",IF(OR(WEEKDAY(DATE($K$4,$M$4,AO$7),2)>6,COUNTIF('休日情報(要更新)'!$A$5:$J$32,DATE($K$4,$M$4,AO$7)) >=1),"○",""),"")
B9: 5 | C9: =IF(ISERROR(HLOOKUP($B9,$K$6:$AO$7,2,FALSE)),"無",HLOOKUP($B9,$K$6:$AO$7,2,FALSE)) -> 無 | D9: =IF(C9="無","×",IF(HLOOKUP($B9,$K$6:$AO$8,3,FALSE)="○","祝日",IF($A9="○","特例","平日"))) -> × | F9: =IF(AND($D9="平日",OR($E9=0,ISTEXT($E9))),"○",IF(AND($D9<>"平日",E9>0),"エラー",""))
A10: 計 | D10: =COUNTIF(D5:D9,"平日")+COUNTIF(D5:D9,"特例") -> 0 | F10: =COUNTIF(F5:F9,"○") -> 0
B11: 減算区分： | C11: =IF(F10=D10,"全て",IF(F10>=3,"3日以上",IF(F10=2,"2日",IF(F10=1,"1日","×")))) -> 全て
K12: =YEAR(DATE($K$4,$M$4,1)-1) -> #VALUE! | L12: 年 | M12: =MONTH(DATE($K$4,$M$4,1)-1) -> #VALUE! | N12: 月
A13: 2 前月の利用実績 | C13: =C3-1 -> #VALUE! | J13: 土曜日 | K13: =IF(K15<>"",IF(WEEKDAY(DATE($K$12,$M$12,K$15))=7,1,0),0) -> #VALUE! | L13: =IF(L15<>"",IF(WEEKDAY(DATE($K$12,$M$12,L$15))=7,1,0),0) -> #VALUE! | M13: =IF(M15<>"",IF(WEEKDAY(DATE($K$12,$M$12,M$15))=7,1,0),0) -> #VALUE! | N13: =IF(N15<>"",IF(WEEKDAY(DATE($K$12,$M$12,N$15))=7,1,0),0) -> #VALUE! | O13: =IF(O15<>"",IF(WEEKDAY(DATE($K$12,$M$12,O$15))=7,1,0),0) -> #VALUE! | P13: =IF(P15<>"",IF(WEEKDAY(DATE($K$12,$M$12,P$15))=7,1,0),0) -> #VALUE! | Q13: =IF(Q15<>"",IF(WEEKDAY(DATE($K$12,$M$12,Q$15))=7,1,0),0) -> #VALUE! | R13: =IF(R15<>"",IF(WEEKDAY(DATE($K$12,$M$12,R$15))=7,1,0),0) -> #VALUE! | ... AO13: =IF(AO15<>"",IF(WEEKDAY(DATE($K$12,$M$12,AO$15))=7,1,0),0) -> #VALUE!
A14: 特例※5 | B14: 土曜日 | C14: 日にち | D14: 平日/祝日 | E14: 利用児童数（見込） | F14: 減算(見込) | G14: 利用児童数（実績） | H14: 減算(実績) | J14: 土曜順 | K14: =IF(K13<>1,0,COUNTIF($K$13:K13,1)) -> #VALUE! | L14: =IF(L13<>1,0,COUNTIF($K$13:L13,1)) -> #VALUE! | M14: =IF(M13<>1,0,COUNTIF($K$13:M13,1)) -> #VALUE! | N14: =IF(N13<>1,0,COUNTIF($K$13:N13,1)) -> #VALUE! | O14: =IF(O13<>1,0,COUNTIF($K$13:O13,1)) -> #VALUE! | P14: =IF(P13<>1,0,COUNTIF($K$13:P13,1)) -> #VALUE! | Q14: =IF(Q13<>1,0,COUNTIF($K$13:Q13,1)) -> #VALUE! | R14: =IF(R13<>1,0,COUNTIF($K$13:R13,1)) -> #VALUE! | ... AO14: =IF(AO13<>1,0,COUNTIF($K$13:AO13,1)) -> #VALUE!
B15: 1 | C15: =HLOOKUP($B15,$K$14:$AO$15,2,FALSE) -> #N/A | D15: =IF(C15="無","×",IF(HLOOKUP($B15,$K$14:$AO$16,3,FALSE)="○","祝日",IF($A15="○","特例","平日"))) -> #N/A | F15: =IF(AND($D15="平日",OR($E15=0,ISTEXT($E15))),"○",IF(AND($D15<>"平日",E15>0),"エラー","")) -> #N/A | H15: =IF(AND($D15="平日",OR($G15=0,ISTEXT($G15))),"○",IF(AND($D15<>"平日",$G15>0),"エラー","")) -> #N/A | J15: 日にち | K15: 1 | L15: 2 | M15: 3 | N15: 4 | O15: 5 | P15: 6 | Q15: 7 | R15: 8 | S15: 9 | T15: 10 | U15: 11 | V15: 12 | W15: 13 | X15: 14 | Y15: 15 | Z15: 16 | AA15: 17 | AB15: 18 | AC15: 19 | AD15: 20 | AE15: 21 | AF15: 22 | AG15: 23 | AH15: 24 | AI15: 25 | AJ15: 26 | AK15: 27 | AL15: 28 | AM15: =IF(MONTH(DATE(K12,M12,AL15+1))=M12,AL15+1,"") -> #VALUE! | AN15: =IF(M12<>2,IF(AM15<>"",AM15+1,""),"") -> #VALUE! | AO15: =IF(OR(M12=1,M12=3,M12=5,M12=7,M12=8,M12=10,M12=12),AN15+1,"") -> #VALUE!
B16: 2 | C16: =HLOOKUP($B16,$K$14:$AO$15,2,FALSE) -> #N/A | D16: =IF(C16="無","×",IF(HLOOKUP($B16,$K$14:$AO$16,3,FALSE)="○","祝日",IF($A16="○","特例","平日"))) -> #N/A | F16: =IF(AND($D16="平日",OR($E16=0,ISTEXT($E16))),"○",IF(AND($D16<>"平日",E16>0),"エラー","")) -> #N/A | H16: =IF(AND($D16="平日",OR($G16=0,ISTEXT($G16))),"○",IF(AND($D16<>"平日",$G16>0),"エラー","")) -> #N/A | J16: 祝・休日 | K16: =IF(K15<>"",IF(OR(WEEKDAY(DATE($K$12,$M$12,K$15),2)>6,COUNTIF('休日情報(要更新)'!$A$5:$J$32,DATE($K$12,$M$12,K$15)) >=1),"○",""),"") -> #VALUE! | L16: =IF(L15<>"",IF(OR(WEEKDAY(DATE($K$12,$M$12,L$15),2)>6,COUNTIF('休日情報(要更新)'!$A$5:$J$32,DATE($K$12,$M$12,L$15)) >=1),"○",""),"") -> #VALUE! | M16: =IF(M15<>"",IF(OR(WEEKDAY(DATE($K$12,$M$12,M$15),2)>6,COUNTIF('休日情報(要更新)'!$A$5:$J$32,DATE($K$12,$M$12,M$15)) >=1),"○",""),"") -> #VALUE! | N16: =IF(N15<>"",IF(OR(WEEKDAY(DATE($K$12,$M$12,N$15),2)>6,COUNTIF('休日情報(要更新)'!$A$5:$J$32,DATE($K$12,$M$12,N$15)) >=1),"○",""),"") -> #VALUE! | O16: =IF(O15<>"",IF(OR(WEEKDAY(DATE($K$12,$M$12,O$15),2)>6,COUNTIF('休日情報(要更新)'!$A$5:$J$32,DATE($K$12,$M$12,O$15)) >=1),"○",""),"") -> #VALUE! | P16: =IF(P15<>"",IF(OR(WEEKDAY(DATE($K$12,$M$12,P$15),2)>6,COUNTIF('休日情報(要更新)'!$A$5:$J$32,DATE($K$12,$M$12,P$15)) >=1),"○",""),"") -> #VALUE! | Q16: =IF(Q15<>"",IF(OR(WEEKDAY(DATE($K$12,$M$12,Q$15),2)>6,COUNTIF('休日情報(要更新)'!$A$5:$J$32,DATE($K$12,$M$12,Q$15)) >=1),"○",""),"") -> #VALUE! | R16: =IF(R15<>"",IF(OR(WEEKDAY(DATE($K$12,$M$12,R$15),2)>6,COUNTIF('休日情報(要更新)'!$A$5:$J$32,DATE($K$12,$M$12,R$15)) >=1),"○",""),"") -> #VALUE! | ... AO16: =IF(AO15<>"",IF(OR(WEEKDAY(DATE($K$12,$M$12,AO$15),2)>6,COUNTIF('休日情報(要更新)'!$A$5:$J$32,DATE($K$12,$M$12,AO$15)) >=1),"○",""),"") -> #VALUE!
B17: 3 | C17: =HLOOKUP($B17,$K$14:$AO$15,2,FALSE) -> #N/A | D17: =IF(C17="無","×",IF(HLOOKUP($B17,$K$14:$AO$16,3,FALSE)="○","祝日",IF($A17="○","特例","平日"))) -> #N/A | F17: =IF(AND($D17="平日",OR($E17=0,ISTEXT($E17))),"○",IF(AND($D17<>"平日",E17>0),"エラー","")) -> #N/A | H17: =IF(AND($D17="平日",OR($G17=0,ISTEXT($G17))),"○",IF(AND($D17<>"平日",$G17>0),"エラー","")) -> #N/A
B18: 4 | C18: =HLOOKUP($B18,$K$14:$AO$15,2,FALSE) -> #N/A | D18: =IF(C18="無","×",IF(HLOOKUP($B18,$K$14:$AO$16,3,FALSE)="○","祝日",IF($A18="○","特例","平日"))) -> #N/A | F18: =IF(AND($D18="平日",OR($E18=0,ISTEXT($E18))),"○",IF(AND($D18<>"平日",E18>0),"エラー","")) -> #N/A | H18: =IF(AND($D18="平日",OR($G18=0,ISTEXT($G18))),"○",IF(AND($D18<>"平日",$G18>0),"エラー","")) -> #N/A
B19: 5 | C19: =IF(ISERROR(HLOOKUP($B19,$K$14:$AO$15,2,FALSE)),"無",HLOOKUP($B19,$K$14:$AO$15,2,FALSE)) -> 無 | D19: =IF(C19="無","×",IF(HLOOKUP($B19,$K$14:$AO$16,3,FALSE)="○","祝日",IF($A19="○","特例","平日"))) -> × | F19: =IF(AND($D19="平日",OR($E19=0,ISTEXT($E19))),"○",IF(AND($D19<>"平日",E19>0),"エラー","")) | H19: =IF(AND($D19="平日",OR($G19=0,ISTEXT($G19))),"○",IF(AND($D19<>"平日",$G19>0),"エラー",""))
A20: 計 | D20: =COUNTIF(D15:D19,"平日")+COUNTIF(D15:D19,"特例") -> 0 | F20: =COUNTIF(F15:F19,"○") -> 0 | H20: =COUNTIF(H15:H19,"○") -> 0
B22: 減算区分(見込)： | C22: =IF(F20=D20,"全て",IF(F20>=3,"3日以上",IF(F20=2,"2日",IF(F20=1,"1日","×")))) -> 全て | D22: → | E22: 減算区分(実績)： | F22: =IF(D20=H20,"全て",IF(H20>=3,"3日以上",IF(H20=2,"2日",IF(H20=1,"1日","×")))) -> 全て | G22: =IF(J22,"(変更無)","(変更有)") -> (変更無) | J22: =F22=C22 -> TRUE
A24: ※1 利用児童について、延長保育、一時保育を含めないこと。
A25: ※2 他の保育所等との共同保育により、利用希望者の保育を確保・実施した場合は利用児童数に含めること。 ただし、共同保育により相手施設から受け入れた児童数は含めないこと。
A27: ※3 利用児童数(実績)について、当日キャンセルの児童は含めて良い(前日キャンセルは不可)。なお、運動会等による行事開催が当日キャンセルになった場合も保護者の希望があれば保育を実施する必要があることに留意すること。
A29: ※4 年末年始の閉園日（12/29～31、1/2～3）に土曜日が含まれる場合は祝日扱いとします。
A30: ※5 新型コロナ感染症の影響により休園した場合は「○」を選択すること。なお、常時土曜日を閉所している施設は選択しないこと。

Sheet (別紙3)休日
A1: 別紙３（「加算：休日保育加算」の添付書類） | R1: =AC2&"別紙3"&AC3 -> #N/A | AC1: 様式名 | AD1: 時 | AE1: 分 | AF1: 給食 | AG1: 料金単位 | AH1: 体制 | AI1: 給与 | AJ1: 常勤・非常勤 | AK1: 回答 | AL1: 各月見込
A2: 毎月分作成する必要があります。 | AC2: =【様式１】総括表・個票!$AI$2 -> 加-23_月申-
AC3: =【様式１】総括表・個票!$AI$3 -> #N/A | AD3: 0 | AE3: 0 | AF3: 実施している | AG3: １時間当たり | AH3: 平日勤務の職員によるシフト制 | AI3: 全て通常給与 | AJ3: 常勤 | AK3: はい | AL3: =【様式１】総括表・個票!F92 -> 0
A4: 実施計画 | AC4: 判定 | AD4: 1 | AE4: 15 | AF4: 実施していない | AG4: １日当たり | AH4: 休日保育専従職員配置 | AI4: 全て超過勤務 | AJ4: 非常勤 | AK4: いいえ | AL4: =【様式１】総括表・個票!H92 -> 0
A5: No. | D5: 項目 | L5: 内容 | Z5: 判定 | AC5: =IF(AND(AC6,AC7,AC9,AC11,AC13,AC15,AC20,AC21,AC24),"○","×") -> #DIV/0! | AD5: 2 | AE5: 30 | AG5: １月当たり | AI5: 通常給与と超過勤務の混合 | AL5: =【様式１】総括表・個票!J92 -> 0
A6: 1 | D6: 実施日 | L6: 日曜日、祝日 | Z6: ○ | AC6: =Z6="○" -> TRUE | AD6: 3 | AE6: 45 | AG6: その他（ ） | AL6: =【様式１】総括表・個票!L92 -> 0
A7: 2 | D7: 時間帯 | H7: 標準時間 | N7: 時 | Q7: 分 | R7: ～ | V7: 時 | Y7: 分 | Z7: =IF(AND(L7<>"",O7<>"",T7<>"",W7<>"",L8<>"",O8<>"",T8<>"",W8<>""),"○","×") -> × | AC7: =Z7="○" -> FALSE | AD7: 4 | AL7: =【様式１】総括表・個票!N92 -> 0
H8: 短時間 | N8: 時 | Q8: 分 | R8: ～ | V8: 時 | Y8: 分 | AD8: 5 | AL8: =【様式１】総括表・個票!P92 -> 0
A9: 3 | D9: 利用児童数 | L9: 年間見込 | S9: =【様式１】総括表・個票!AD93 -> 0 | Y9: 人 | Z9: ○ | AC9: =Z9="○" -> TRUE | AD9: 6 | AL9: =【様式１】総括表・個票!R92 -> 0
A10: 4 | D10: 給食 （間食） | H10: 実施 | Z10: =IF(AND(L10="実施している",L11<>""),"○","×") -> × | AD10: 7 | AL10: =【様式１】総括表・個票!T92 -> 0
