Workbook
Name a: #REF!
Name a: #REF!
Name b: #REF!
Name b: #REF!
Name d: #REF!
Name d: #REF!
Name 栄養士: #REF!
Name 栄養士: 【様式５】職員数算出表!$BD$7:$BD$107
Name 家庭的保育: #REF!
Name 家庭的保育: #REF!
Name 家庭的保育者: 【様式５】職員数算出表!$AZ$7:$AZ$107
Name 家庭的保育補助者: 【様式５】職員数算出表!$BB$7:$BB$107
Name 概算交付申出書: #REF!
Name 概算交付申出書: #REF!
Name 学校医: #REF!
Name 学校医: [1]【様式５】職員数算出表!#REF!
Name 教諭: #REF!
Name 教諭: #REF!
Name 業務委託: #REF!
Name 業務委託: 【様式５】職員数算出表!$BL$7:$BL$12
Name 区分１: #REF!
Name 区分１: #REF!
Name 区分２: #REF!
Name 区分２: #REF!
Name 区分３: #REF!
Name 区分３: #REF!
Name 公設民営: #REF!
Name 厚別区01私立01保育所: '施設状況(要更新)'!$AC$4:$AC$64
Name 厚別区01私立02幼稚園: '施設状況(要更新)'!$AZ$4:$AZ$64
Name 厚別区01私立03認定こども園: '施設状況(要更新)'!$BT$4:$BT$64
Name 厚別区01保育所: '施設状況(要更新)'!$AC$4:$AC$64
Name 厚別区03公立01保育所: '施設状況(要更新)'!$AO$4:$AO$64
Name 厚別区03公立02幼稚園: '施設状況(要更新)'!$BK$4:$BK$64
Name 札幌市あけぼの保育園: '施設状況(要更新)'!$Z$4:$CY$4
Name 札幌市外01私立01保育所: '施設状況(要更新)'!$AI$4:$AI$64
Name 札幌市外01私立02幼稚園: '施設状況(要更新)'!$BF$4:$BF$64
Name 札幌市外01私立03認定こども園: '施設状況(要更新)'!$BZ$4:$BZ$64
Name 札幌市外01私立04小規模A・B・C: '施設状況(要更新)'!$CL$4:$CL$64
Name 札幌市外01私立06事業所内: '施設状況(要更新)'!$CZ$4:$CZ$64
Name 札幌市外02公設民営01保育所: '施設状況(要更新)'!$AL$4:$AL$64
Name 札幌市外03公立01保育所: '施設状況(要更新)'!$AU$4:$AU$64
Name 札幌市外03公立03認定こども園: '施設状況(要更新)'!$CB$4:$CB$64
Name 施設C: #REF!
Name 施設C: #REF!
Name 施設種別: #REF!
Name 施設種別: #REF!
Name 施設長: #REF!
Name 施設長: 【様式５】職員数算出表!$AZ$7:$AZ$107
Name 事業所内保育: #REF!
Name 事業所内保育: #REF!
Name 事務員: #REF!
Name 事務員: 【様式５】職員数算出表!$BH$7:$BH$107
Name 手稲区01私立01保育所: '施設状況(要更新)'!$AH$4:$AH$64
Name 手稲区01私立02幼稚園: '施設状況(要更新)'!$BE$4:$BE$64
Name 手稲区01私立03認定こども園: '施設状況(要更新)'!$BY$4:$BY$64
Name 手稲区01私立04小規模A・B・C: '施設状況(要更新)'!$CK$4:$CK$64
Name 手稲区01私立05家庭的: '施設状況(要更新)'!$CT$4:$CT$64
Name 手稲区01保育所: '施設状況(要更新)'!$AH$4:$AH$64
Name 手稲区03公立01保育所: '施設状況(要更新)'!$AR$4:$AR$64
Name 手稲区03公立02幼稚園: '施設状況(要更新)'!$BO$4:$BO$64

Sheet 施設状況(要更新)
A1: 施設C | B1: 公私 | C1: 種別 | E1: 区 | F1: 施設・事業所名 | G1: 認定こども園認可定員内訳 | J1: 認可定員 | K1: 利用定員 | P1: 分園(内数)/従業員枠（外数） | S1: 施設C
C2: 1 | D2: 2 | G2: 1号 | H2: 2号 | I2: 3号 | K2: 1号 | L2: 2号 | M2: 3号（0歳） | N2: 3号（1･2歳） | O2: 3号合計 | P2: 合計 | Q2: （うち２号） | R2: 合計 | Y2: 1 | Z2: 2 | AA2: 3 | AB2: 4 | AC2: 5 | AD2: 6 | AE2: 7 | AF2: 8 | AG2: 9 | AH2: 10 | AI2: 11 | AJ2: 12 | AK2: 13 | AL2: 14 | AM2: 15 | AN2: 16 | AO2: 17 | AP2: 18 | AQ2: 19 | AR2: 20 | AS2: 21 | AT2: 22 | AU2: 23 | AV2: 24 | AW2: 25 | AX2: 26 | AY2: 27 | AZ2: 28 | BA2: 29 | BB2: 30 | BC2: 31 | BD2: 32 | BE2: 33 | BF2: 34 | BG2: 35 | BH2: 36 | BI2: 37 | BJ2: 38 | BK2: 39 | BL2: 40 | BM2: 41 | BN2: 42 | BO2: 43 | BP2: 44 | BQ2: 45 | BR2: 46 | BS2: 47 | BT2: 48 | BU2: 49 | BV2: 50 | BW2: 51 | BX2: 52 | BY2: 53 | BZ2: 54 | CA2: 55 | CB2: 56 | CC2: 57 | CD2: 58 | CE2: 59 | CF2: 60 | CG2: 61 | CH2: 62 | CI2: 63 | CJ2: 64 | CK2: 65 | CL2: 66 | CM2: 67 | CN2: 68 | CO2: 69 | CP2: 70 | CQ2: 71 | CR2: 72 | CS2: 73 | CT2: 74 | CU2: 75 | CV2: 76 | CW2: 77 | CX2: 78 | CY2: 79 | CZ2: 80 | DA2: 81 | DB2: 82 | DC2: 83 | DD2: 84 | DE2: 85 | DF2: 86 | DG2: 87 | DH2: 88 | DI2: 89 | DJ2: 90
A3: ソート① | B3: 列1 | C3: ソート② | D3: 列2 | E3: 列3 | F3: 列4 | G3: 列5 | H3: 列6 | I3: 列7 | J3: 列8 | K3: 列9 | L3: 列10 | M3: 列11 | N3: 列12 | O3: 列13 | P3: 列132 | Q3: 列133 | R3: 列14 | W3: 施設名 | Y3: =VLOOKUP(Y2,$U$4:$V$700,2,FALSE) -> 中央区05家庭的 | Z3: =VLOOKUP(Z2,$U$4:$V$700,2,FALSE) -> 北区05家庭的 | AA3: =VLOOKUP(AA2,$U$4:$V$700,2,FALSE) -> 東区05家庭的 | AB3: =VLOOKUP(AB2,$U$4:$V$700,2,FALSE) -> 清田区05家庭的 | AC3: =VLOOKUP(AC2,$U$4:$V$700,2,FALSE) -> 南区05家庭的 | AD3: =VLOOKUP(AD2,$U$4:$V$700,2,FALSE) -> 西区05家庭的 | AE3: =VLOOKUP(AE2,$U$4:$V$700,2,FALSE) -> 手稲区05家庭的 | AF3: =VLOOKUP(AF2,$U$4:$V$700,2,FALSE) | AG3: =VLOOKUP(AG2,$U$4:$V$700,2,FALSE) -> #N/A
A4: 100000 | B4: 01私立 | C4: 05家庭的 | D4: 家 | E4: 中央区 | F4: 保育ママ札幌市未来局【例】 | G4: 0 | H4: 0 | I4: 0 | J4: 5 | K4: 0 | L4: 0 | M4: 1 | N4: 4 | O4: =SUM(テーブル1[[#This Row],[列11]:[列12]]) -> 5 | R4: =SUM(K4,L4,O4) -> 5 | S4: =A4 -> 100000 | T4: =COUNTIF($V$4:V4,V4) -> 1 | U4: =IF(T4=1,COUNTIF($T$4:T4,1),"") -> 1 | V4: ='施設状況(要更新)'!$E4&'施設状況(要更新)'!$C4 -> 中央区05家庭的 | W4: ='施設状況(要更新)'!$F4 -> 保育ママ札幌市未来局【例】
A5: 200062 | B5: 01私立 | C5: 05家庭的 | D5: 家 | E5: 北区 | F5: 保育室どんぐり | J5: 5 | K5: 0 | L5: 0 | M5: 1 | N5: 4 | O5: =SUM(テーブル1[[#This Row],[列11]:[列12]]) -> 5 | R5: =SUM(K5,L5,O5) -> 5 | S5: =A5 -> 200062 | T5: =COUNTIF($V$4:V5,V5) -> 1 | U5: =IF(T5=1,COUNTIF($T$4:T5,1),"") -> 2 | V5: ='施設状況(要更新)'!$E5&'施設状況(要更新)'!$C5 -> 北区05家庭的 | W5: ='施設状況(要更新)'!$F5 -> 保育室どんぐり | X5: 1 | Y5: =IFERROR(INDEX($T$4:$W$700,MATCH($X5&Y$3,INDEX($T$4:$T$700&$V$4:$V$700,),0),MATCH("施設名",$T$3:$W$3,0)),"") -> 保育ママ札幌市未来局【例】 | Z5: =IFERROR(INDEX($T$4:$W$700,MATCH($X5&Z$3,INDEX($T$4:$T$700&$V$4:$V$700,),0),MATCH("施設名",$T$3:$W$3,0)),"") -> 保育室どんぐり | AA5: =IFERROR(INDEX($T$4:$W$700,MATCH($X5&AA$3,INDEX($T$4:$T$700&$V$4:$V$700,),0),MATCH("施設名",$T$3:$W$3,0)),"") -> 保育ママぐりぐら | AB5: =IFERROR(INDEX($T$4:$W$700,MATCH($X5&AB$3,INDEX($T$4:$T$700&$V$4:$V$700,),0),MATCH("施設名",$T$3:$W$3,0)),"") -> 保育ママおひさま | AC5: =IFERROR(INDEX($T$4:$W$700,MATCH($X5&AC$3,INDEX($T$4:$T$700&$V$4:$V$700,),0),MATCH("施設名",$T$3:$W$3,0)),"") -> 保育ママつぼみ | AD5: =IFERROR(INDEX($T$4:$W$700,MATCH($X5&AD$3,INDEX($T$4:$T$700&$V$4:$V$700,),0),MATCH("施設名",$T$3:$W$3,0)),"") -> 保育るーむひなたぼっこ | AE5: =IFERROR(INDEX($T$4:$W$700,MATCH($X5&AE$3,INDEX($T$4:$T$700&$V$4:$V$700,),0),MATCH("施設名",$T$3:$W$3,0)),"") -> 保育室ベリーベリー | AF5: =IFERROR(INDEX($T$4:$W$700,MATCH($X5&AF$3,INDEX($T$4:$T$700&$V$4:$V$700,),0),MATCH("施設名",$T$3:$W$3,0)),"") -> 0 | AG5: =IFERROR(INDEX($T$4:$W$700,MATCH($X5&AG$3,INDEX($T$4:$T$700&$V$4:$V$700,),0),MATCH("施設名",$T$3:$W$3,0)),"")
A6: 300083 | B6: 01私立 | C6: 05家庭的 | D6: 家 | E6: 東区 | F6: 保育ママぐりぐら | J6: 5 | K6: 0 | L6: 0 | M6: 1 | N6: 4 | O6: =SUM(テーブル1[[#This Row],[列11]:[列12]]) -> 5 | R6: =SUM(K6,L6,O6) -> 5 | S6: =A6 -> 300083 | T6: =COUNTIF($V$4:V6,V6) -> 1 | U6: =IF(T6=1,COUNTIF($T$4:T6,1),"") -> 3 | V6: ='施設状況(要更新)'!$E6&'施設状況(要更新)'!$C6 -> 東区05家庭的 | W6: ='施設状況(要更新)'!$F6 -> 保育ママぐりぐら | X6: 2 | Y6: =IFERROR(INDEX($T$4:$W$700,MATCH($X6&Y$3,INDEX($T$4:$T$700&$V$4:$V$700,),0),MATCH("施設名",$T$3:$W$3,0)),"") | Z6: =IFERROR(INDEX($T$4:$W$700,MATCH($X6&Z$3,INDEX($T$4:$T$700&$V$4:$V$700,),0),MATCH("施設名",$T$3:$W$3,0)),"") | AA6: =IFERROR(INDEX($T$4:$W$700,MATCH($X6&AA$3,INDEX($T$4:$T$700&$V$4:$V$700,),0),MATCH("施設名",$T$3:$W$3,0)),"") -> 保育ママたんぽぽ | AB6: =IFERROR(INDEX($T$4:$W$700,MATCH($X6&AB$3,INDEX($T$4:$T$700&$V$4:$V$700,),0),MATCH("施設名",$T$3:$W$3,0)),"") | AC6: =IFERROR(INDEX($T$4:$W$700,MATCH($X6&AC$3,INDEX($T$4:$T$700&$V$4:$V$700,),0),MATCH("施設名",$T$3:$W$3,0)),"") | AD6: =IFERROR(INDEX($T$4:$W$700,MATCH($X6&AD$3,INDEX($T$4:$T$700&$V$4:$V$700,),0),MATCH("施設名",$T$3:$W$3,0)),"") | AE6: =IFERROR(INDEX($T$4:$W$700,MATCH($X6&AE$3,INDEX($T$4:$T$700&$V$4:$V$700,),0),MATCH("施設名",$T$3:$W$3,0)),"") | AF6: =IFERROR(INDEX($T$4:$W$700,MATCH($X6&AF$3,INDEX($T$4:$T$700&$V$4:$V$700,),0),MATCH("施設名",$T$3:$W$3,0)),"") -> 0 | AG6: =IFERROR(INDEX($T$4:$W$700,MATCH($X6&AG$3,INDEX($T$4:$T$700&$V$4:$V$700,),0),MATCH("施設名",$T$3:$W$3,0)),"")
A7: 300058 | B7: 01私立 | C7: 05家庭的 | D7: 家 | E7: 東区 | F7: 保育ママたんぽぽ | J7: 5 | K7: 0 | L7: 0 | M7: 1 | N7: 4 | O7: =SUM(テーブル1[[#This Row],[列11]:[列12]]) -> 5 | R7: =SUM(K7,L7,O7) -> 5 | S7: =A7 -> 300058 | T7: =COUNTIF($V$4:V7,V7) -> 2 | U7: =IF(T7=1,COUNTIF($T$4:T7,1),"") | V7: ='施設状況(要更新)'!$E7&'施設状況(要更新)'!$C7 -> 東区05家庭的 | W7: ='施設状況(要更新)'!$F7 -> 保育ママたんぽぽ | X7: 3 | Y7: =IFERROR(INDEX($T$4:$W$700,MATCH($X7&Y$3,INDEX($T$4:$T$700&$V$4:$V$700,),0),MATCH("施設名",$T$3:$W$3,0)),"") | Z7: =IFERROR(INDEX($T$4:$W$700,MATCH($X7&Z$3,INDEX($T$4:$T$700&$V$4:$V$700,),0),MATCH("施設名",$T$3:$W$3,0)),"") | AA7: =IFERROR(INDEX($T$4:$W$700,MATCH($X7&AA$3,INDEX($T$4:$T$700&$V$4:$V$700,),0),MATCH("施設名",$T$3:$W$3,0)),"") | AB7: =IFERROR(INDEX($T$4:$W$700,MATCH($X7&AB$3,INDEX($T$4:$T$700&$V$4:$V$700,),0),MATCH("施設名",$T$3:$W$3,0)),"") | AC7: =IFERROR(INDEX($T$4:$W$700,MATCH($X7&AC$3,INDEX($T$4:$T$700&$V$4:$V$700,),0),MATCH("施設名",$T$3:$W$3,0)),"") | AD7: =IFERROR(INDEX($T$4:$W$700,MATCH($X7&AD$3,INDEX($T$4:$T$700&$V$4:$V$700,),0),MATCH("施設名",$T$3:$W$3,0)),"") | AE7: =IFERROR(INDEX($T$4:$W$700,MATCH($X7&AE$3,INDEX($T$4:$T$700&$V$4:$V$700,),0),MATCH("施設名",$T$3:$W$3,0)),"") | AF7: =IFERROR(INDEX($T$4:$W$700,MATCH($X7&AF$3,INDEX($T$4:$T$700&$V$4:$V$700,),0),MATCH("施設名",$T$3:$W$3,0)),"") -> 0 | AG7: =IFERROR(INDEX($T$4:$W$700,MATCH($X7&AG$3,INDEX($T$4:$T$700&$V$4:$V$700,),0),MATCH("施設名",$T$3:$W$3,0)),"")
A8: 550019 | B8: 01私立 | C8: 05家庭的 | D8: 家 | E8: 清田区 | F8: 保育ママおひさま | J8: 5 | K8: 0 | L8: 0 | M8: 1 | N8: 4 | O8: =SUM(テーブル1[[#This Row],[列11]:[列12]]) -> 5 | R8: =SUM(K8,L8,O8) -> 5 | S8: =A8 -> 550019 | T8: =COUNTIF($V$4:V8,V8) -> 1 | U8: =IF(T8=1,COUNTIF($T$4:T8,1),"") -> 4 | V8: ='施設状況(要更新)'!$E8&'施設状況(要更新)'!$C8 -> 清田区05家庭的 | W8: ='施設状況(要更新)'!$F8 -> 保育ママおひさま | X8: 4 | Y8: =IFERROR(INDEX($T$4:$W$700,MATCH($X8&Y$3,INDEX($T$4:$T$700&$V$4:$V$700,),0),MATCH("施設名",$T$3:$W$3,0)),"") | Z8: =IFERROR(INDEX($T$4:$W$700,MATCH($X8&Z$3,INDEX($T$4:$T$700&$V$4:$V$700,),0),MATCH("施設名",$T$3:$W$3,0)),"") | AA8: =IFERROR(INDEX($T$4:$W$700,MATCH($X8&AA$3,INDEX($T$4:$T$700&$V$4:$V$700,),0),MATCH("施設名",$T$3:$W$3,0)),"") | AB8: =IFERROR(INDEX($T$4:$W$700,MATCH($X8&AB$3,INDEX($T$4:$T$700&$V$4:$V$700,),0),MATCH("施設名",$T$3:$W$3,0)),"") | AC8: =IFERROR(INDEX($T$4:$W$700,MATCH($X8&AC$3,INDEX($T$4:$T$700&$V$4:$V$700,),0),MATCH("施設名",$T$3:$W$3,0)),"") | AD8: =IFERROR(INDEX($T$4:$W$700,MATCH($X8&AD$3,INDEX($T$4:$T$700&$V$4:$V$700,),0),MATCH("施設名",$T$3:$W$3,0)),"") | AE8: =IFERROR(INDEX($T$4:$W$700,MATCH($X8&AE$3,INDEX($T$4:$T$700&$V$4:$V$700,),0),MATCH("施設名",$T$3:$W$3,0)),"") | AF8: =IFERROR(INDEX($T$4:$W$700,MATCH($X8&AF$3,INDEX($T$4:$T$700&$V$4:$V$700,),0),MATCH("施設名",$T$3:$W$3,0)),"") -> 0 | AG8: =IFERROR(INDEX($T$4:$W$700,MATCH($X8&AG$3,INDEX($T$4:$T$700&$V$4:$V$700,),0),MATCH("施設名",$T$3:$W$3,0)),"")
A9: 600025 | B9: 01私立 | C9: 05家庭的 | D9: 家 | E9: 南区 | F9: 保育ママつぼみ | J9: 5 | K9: 0 | L9: 0 | M9: 1 | N9: 4 | O9: =SUM(テーブル1[[#This Row],[列11]:[列12]]) -> 5 | R9: =SUM(K9,L9,O9) -> 5 | S9: =A9 -> 600025 | T9: =COUNTIF($V$4:V9,V9) -> 1 | U9: =IF(T9=1,COUNTIF($T$4:T9,1),"") -> 5 | V9: ='施設状況(要更新)'!$E9&'施設状況(要更新)'!$C9 -> 南区05家庭的 | W9: ='施設状況(要更新)'!$F9 -> 保育ママつぼみ | X9: 5 | Y9: =IFERROR(INDEX($T$4:$W$700,MATCH($X9&Y$3,INDEX($T$4:$T$700&$V$4:$V$700,),0),MATCH("施設名",$T$3:$W$3,0)),"") | Z9: =IFERROR(INDEX($T$4:$W$700,MATCH($X9&Z$3,INDEX($T$4:$T$700&$V$4:$V$700,),0),MATCH("施設名",$T$3:$W$3,0)),"") | AA9: =IFERROR(INDEX($T$4:$W$700,MATCH($X9&AA$3,INDEX($T$4:$T$700&$V$4:$V$700,),0),MATCH("施設名",$T$3:$W$3,0)),"") | AB9: =IFERROR(INDEX($T$4:$W$700,MATCH($X9&AB$3,INDEX($T$4:$T$700&$V$4:$V$700,),0),MATCH("施設名",$T$3:$W$3,0)),"") | AC9: =IFERROR(INDEX($T$4:$W$700,MATCH($X9&AC$3,INDEX($T$4:$T$700&$V$4:$V$700,),0),MATCH("施設名",$T$3:$W$3,0)),"") | AD9: =IFERROR(INDEX($T$4:$W$700,MATCH($X9&AD$3,INDEX($T$4:$T$700&$V$4:$V$700,),0),MATCH("施設名",$T$3:$W$3,0)),"") | AE9: =IFERROR(INDEX($T$4:$W$700,MATCH($X9&AE$3,INDEX($T$4:$T$700&$V$4:$V$700,),0),MATCH("施設名",$T$3:$W$3,0)),"") | AF9: =IFERROR(INDEX($T$4:$W$700,MATCH($X9&AF$3,INDEX($T$4:$T$700&$V$4:$V$700,),0),MATCH("施設名",$T$3:$W$3,0)),"") -> 0 | AG9: =IFERROR(INDEX($T$4:$W$700,MATCH($X9&AG$3,INDEX($T$4:$T$700&$V$4:$V$700,),0),MATCH("施設名",$T$3:$W$3,0)),"")
A10: 700042 | B10: 01私立 | C10: 05家庭的 | D10: 家 | E10: 西区 | F10: 保育るーむひなたぼっこ | J10: 5 | K10: 0 | L10: 0 | M10: 1 | N10: 4 | O10: =SUM(テーブル1[[#This Row],[列11]:[列12]]) -> 5 | R10: =SUM(K10,L10,O10) -> 5 | S10: =A10 -> 700042 | T10: =COUNTIF($V$4:V10,V10) -> 1 | U10: =IF(T10=1,COUNTIF($T$4:T10,1),"") -> 6 | V10: ='施設状況(要更新)'!$E10&'施設状況(要更新)'!$C10 -> 西区05家庭的 | W10: ='施設状況(要更新)'!$F10 -> 保育るーむひなたぼっこ | X10: 6 | Y10: =IFERROR(INDEX($T$4:$W$700,MATCH($X10&Y$3,INDEX($T$4:$T$700&$V$4:$V$700,),0),MATCH("施設名",$T$3:$W$3,0)),"") | Z10: =IFERROR(INDEX($T$4:$W$700,MATCH($X10&Z$3,INDEX($T$4:$T$700&$V$4:$V$700,),0),MATCH("施設名",$T$3:$W$3,0)),"") | AA10: =IFERROR(INDEX($T$4:$W$700,MATCH($X10&AA$3,INDEX($T$4:$T$700&$V$4:$V$700,),0),MATCH("施設名",$T$3:$W$3,0)),"") | AB10: =IFERROR(INDEX($T$4:$W$700,MATCH($X10&AB$3,INDEX($T$4:$T$700&$V$4:$V$700,),0),MATCH("施設名",$T$3:$W$3,0)),"") | AC10: =IFERROR(INDEX($T$4:$W$700,MATCH($X10&AC$3,INDEX($T$4:$T$700&$V$4:$V$700,),0),MATCH("施設名",$T$3:$W$3,0)),"") | AD10: =IFERROR(INDEX($T$4:$W$700,MATCH($X10&AD$3,INDEX($T$4:$T$700&$V$4:$V$700,),0),MATCH("施設名",$T$3:$W$3,0)),"") | AE10: =IFERROR(INDEX($T$4:$W$700,MATCH($X10&AE$3,INDEX($T$4:$T$700&$V$4:$V$700,),0),MATCH("施設名",$T$3:$W$3,0)),"") | AF10: =IFERROR(INDEX($T$4:$W$700,MATCH($X10&AF$3,INDEX($T$4:$T$700&$V$4:$V$700,),0),MATCH("施設名",$T$3:$W$3,0)),"") -> 0 | AG10: =IFERROR(INDEX($T$4:$W$700,MATCH($X10&AG$3,INDEX($T$4:$T$700&$V$4:$V$700,),0),MATCH("施設名",$T$3:$W$3,0)),"")
A11: 750033 | B11: 01私立 | C11: 05家庭的 | D11: 家 | E11: 手稲区 | F11: 保育室ベリーベリー | J11: 5 | K11: 0 | L11: 0 | M11: 1 | N11: 4 | O11: =SUM(テーブル1[[#This Row],[列11]:[列12]]) -> 5 | R11: =SUM(K11,L11,O11) -> 5 | S11: =A11 -> 750033 | T11: =COUNTIF($V$4:V11,V11) -> 1 | U11: =IF(T11=1,COUNTIF($T$4:T11,1),"") -> 7 | V11: ='施設状況(要更新)'!$E11&'施設状況(要更新)'!$C11 -> 手稲区05家庭的 | W11: ='施設状況(要更新)'!$F11 -> 保育室ベリーベリー | X11: 7 | Y11: =IFERROR(INDEX($T$4:$W$700,MATCH($X11&Y$3,INDEX($T$4:$T$700&$V$4:$V$700,),0),MATCH("施設名",$T$3:$W$3,0)),"") | Z11: =IFERROR(INDEX($T$4:$W$700,MATCH($X11&Z$3,INDEX($T$4:$T$700&$V$4:$V$700,),0),MATCH("施設名",$T$3:$W$3,0)),"") | AA11: =IFERROR(INDEX($T$4:$W$700,MATCH($X11&AA$3,INDEX($T$4:$T$700&$V$4:$V$700,),0),MATCH("施設名",$T$3:$W$3,0)),"") | AB11: =IFERROR(INDEX($T$4:$W$700,MATCH($X11&AB$3,INDEX($T$4:$T$700&$V$4:$V$700,),0),MATCH("施設名",$T$3:$W$3,0)),"") | AC11: =IFERROR(INDEX($T$4:$W$700,MATCH($X11&AC$3,INDEX($T$4:$T$700&$V$4:$V$700,),0),MATCH("施設名",$T$3:$W$3,0)),"") | AD11: =IFERROR(INDEX($T$4:$W$700,MATCH($X11&AD$3,INDEX($T$4:$T$700&$V$4:$V$700,),0),MATCH("施設名",$T$3:$W$3,0)),"") | AE11: =IFERROR(INDEX($T$4:$W$700,MATCH($X11&AE$3,INDEX($T$4:$T$700&$V$4:$V$700,),0),MATCH("施設名",$T$3:$W$3,0)),"") | AF11: =IFERROR(INDEX($T$4:$W$700,MATCH($X11&AF$3,INDEX($T$4:$T$700&$V$4:$V$700,),0),MATCH("施設名",$T$3:$W$3,0)),"") -> 0 | AG11: =IFERROR(INDEX($T$4:$W$700,MATCH($X11&AG$3,INDEX($T$4:$T$700&$V$4:$V$700,),0),MATCH("施設名",$T$3:$W$3,0)),"")
S12: =A12 -> 0 | T12: =COUNTIF($V$4:V12,V12) -> 1 | U12: =IF(T12=1,COUNTIF($T$4:T12,1),"") -> 8 | V12: ='施設状況(要更新)'!$E12&'施設状況(要更新)'!$C12 | W12: ='施設状況(要更新)'!$F12 -> 0 | X12: 8 | Y12: =IFERROR(INDEX($T$4:$W$700,MATCH($X12&Y$3,INDEX($T$4:$T$700&$V$4:$V$700,),0),MATCH("施設名",$T$3:$W$3,0)),"") | Z12: =IFERROR(INDEX($T$4:$W$700,MATCH($X12&Z$3,INDEX($T$4:$T$700&$V$4:$V$700,),0),MATCH("施設名",$T$3:$W$3,0)),"") | AA12: =IFERROR(INDEX($T$4:$W$700,MATCH($X12&AA$3,INDEX($T$4:$T$700&$V$4:$V$700,),0),MATCH("施設名",$T$3:$W$3,0)),"") | AB12: =IFERROR(INDEX($T$4:$W$700,MATCH($X12&AB$3,INDEX($T$4:$T$700&$V$4:$V$700,),0),MATCH("施設名",$T$3:$W$3,0)),"") | AC12: =IFERROR(INDEX($T$4:$W$700,MATCH($X12&AC$3,INDEX($T$4:$T$700&$V$4:$V$700,),0),MATCH("施設名",$T$3:$W$3,0)),"") | AD12: =IFERROR(INDEX($T$4:$W$700,MATCH($X12&AD$3,INDEX($T$4:$T$700&$V$4:$V$700,),0),MATCH("施設名",$T$3:$W$3,0)),"") | AE12: =IFERROR(INDEX($T$4:$W$700,MATCH($X12&AE$3,INDEX($T$4:$T$700&$V$4:$V$700,),0),MATCH("施設名",$T$3:$W$3,0)),"") | AF12: =IFERROR(INDEX($T$4:$W$700,MATCH($X12&AF$3,INDEX($T$4:$T$700&$V$4:$V$700,),0),MATCH("施設名",$T$3:$W$3,0)),"") -> 0 | AG12: =IFERROR(INDEX($T$4:$W$700,MATCH($X12&AG$3,INDEX($T$4:$T$700&$V$4:$V$700,),0),MATCH("施設名",$T$3:$W$3,0)),"")
S13: =A13 -> 0 | T13: =COUNTIF($V$4:V13,V13) -> 2 | U13: =IF(T13=1,COUNTIF($T$4:T13,1),"") | V13: ='施設状況(要更新)'!$E13&'施設状況(要更新)'!$C13 | W13: ='施設状況(要更新)'!$F13 -> 0 | X13: 9 | Y13: =IFERROR(INDEX($T$4:$W$700,MATCH($X13&Y$3,INDEX($T$4:$T$700&$V$4:$V$700,),0),MATCH("施設名",$T$3:$W$3,0)),"") | Z13: =IFERROR(INDEX($T$4:$W$700,MATCH($X13&Z$3,INDEX($T$4:$T$700&$V$4:$V$700,),0),MATCH("施設名",$T$3:$W$3,0)),"") | AA13: =IFERROR(INDEX($T$4:$W$700,MATCH($X13&AA$3,INDEX($T$4:$T$700&$V$4:$V$700,),0),MATCH("施設名",$T$3:$W$3,0)),"") | AB13: =IFERROR(INDEX($T$4:$W$700,MATCH($X13&AB$3,INDEX($T$4:$T$700&$V$4:$V$700,),0),MATCH("施設名",$T$3:$W$3,0)),"") | AC13: =IFERROR(INDEX($T$4:$W$700,MATCH($X13&AC$3,INDEX($T$4:$T$700&$V$4:$V$700,),0),MATCH("施設名",$T$3:$W$3,0)),"") | AD13: =IFERROR(INDEX($T$4:$W$700,MATCH($X13&AD$3,INDEX($T$4:$T$700&$V$4:$V$700,),0),MATCH("施設名",$T$3:$W$3,0)),"") | AE13: =IFERROR(INDEX($T$4:$W$700,MATCH($X13&AE$3,INDEX($T$4:$T$700&$V$4:$V$700,),0),MATCH("施設名",$T$3:$W$3,0)),"") | AF13: =IFERROR(INDEX($T$4:$W$700,MATCH($X13&AF$3,INDEX($T$4:$T$700&$V$4:$V$700,),0),MATCH("施設名",$T$3:$W$3,0)),"") -> 0 | AG13: =IFERROR(INDEX($T$4:$W$700,MATCH($X13&AG$3,INDEX($T$4:$T$700&$V$4:$V$700,),0),MATCH("施設名",$T$3:$W$3,0)),"")
S14: =A14 -> 0 | T14: =COUNTIF($V$4:V14,V14) -> 3 | U14: =IF(T14=1,COUNTIF($T$4:T14,1),"") | V14: ='施設状況(要更新)'!$E14&'施設状況(要更新)'!$C14 | W14: ='施設状況(要更新)'!$F14 -> 0 | X14: 10 | Y14: =IFERROR(INDEX($T$4:$W$700,MATCH($X14&Y$3,INDEX($T$4:$T$700&$V$4:$V$700,),0),MATCH("施設名",$T$3:$W$3,0)),"") | Z14: =IFERROR(INDEX($T$4:$W$700,MATCH($X14&Z$3,INDEX($T$4:$T$700&$V$4:$V$700,),0),MATCH("施設名",$T$3:$W$3,0)),"") | AA14: =IFERROR(INDEX($T$4:$W$700,MATCH($X14&AA$3,INDEX($T$4:$T$700&$V$4:$V$700,),0),MATCH("施設名",$T$3:$W$3,0)),"") | AB14: =IFERROR(INDEX($T$4:$W$700,MATCH($X14&AB$3,INDEX($T$4:$T$700&$V$4:$V$700,),0),MATCH("施設名",$T$3:$W$3,0)),"") | AC14: =IFERROR(INDEX($T$4:$W$700,MATCH($X14&AC$3,INDEX($T$4:$T$700&$V$4:$V$700,),0),MATCH("施設名",$T$3:$W$3,0)),"") | AD14: =IFERROR(INDEX($T$4:$W$700,MATCH($X14&AD$3,INDEX($T$4:$T$700&$V$4:$V$700,),0),MATCH("施設名",$T$3:$W$3,0)),"") | AE14: =IFERROR(INDEX($T$4:$W$700,MATCH($X14&AE$3,INDEX($T$4:$T$700&$V$4:$V$700,),0),MATCH("施設名",$T$3:$W$3,0)),"") | AF14: =IFERROR(INDEX($T$4:$W$700,MATCH($X14&AF$3,INDEX($T$4:$T$700&$V$4:$V$700,),0),MATCH("施設名",$T$3:$W$3,0)),"") -> 0 | AG14: =IFERROR(INDEX($T$4:$W$700,MATCH($X14&AG$3,INDEX($T$4:$T$700&$V$4:$V$700,),0),MATCH("施設名",$T$3:$W$3,0)),"")
S15: =A15 -> 0 | T15: =COUNTIF($V$4:V15,V15) -> 4 | U15: =IF(T15=1,COUNTIF($T$4:T15,1),"") | V15: ='施設状況(要更新)'!$E15&'施設状況(要更新)'!$C15 | W15: ='施設状況(要更新)'!$F15 -> 0 | X15: 11 | Y15: =IFERROR(INDEX($T$4:$W$700,MATCH($X15&Y$3,INDEX($T$4:$T$700&$V$4:$V$700,),0),MATCH("施設名",$T$3:$W$3,0)),"") | Z15: =IFERROR(INDEX($T$4:$W$700,MATCH($X15&Z$3,INDEX($T$4:$T$700&$V$4:$V$700,),0),MATCH("施設名",$T$3:$W$3,0)),"") | AA15: =IFERROR(INDEX($T$4:$W$700,MATCH($X15&AA$3,INDEX($T$4:$T$700&$V$4:$V$700,),0),MATCH("施設名",$T$3:$W$3,0)),"") | AB15: =IFERROR(INDEX($T$4:$W$700,MATCH($X15&AB$3,INDEX($T$4:$T$700&$V$4:$V$700,),0),MATCH("施設名",$T$3:$W$3,0)),"") | AC15: =IFERROR(INDEX($T$4:$W$700,MATCH($X15&AC$3,INDEX($T$4:$T$700&$V$4:$V$700,),0),MATCH("施設名",$T$3:$W$3,0)),"") | AD15: =IFERROR(INDEX($T$4:$W$700,MATCH($X15&AD$3,INDEX($T$4:$T$700&$V$4:$V$700,),0),MATCH("施設名",$T$3:$W$3,0)),"") | AE15: =IFERROR(INDEX($T$4:$W$700,MATCH($X15&AE$3,INDEX($T$4:$T$700&$V$4:$V$700,),0),MATCH("施設名",$T$3:$W$3,0)),"") | AF15: =IFERROR(INDEX($T$4:$W$700,MATCH($X15&AF$3,INDEX($T$4:$T$700&$V$4:$V$700,),0),MATCH("施設名",$T$3:$W$3,0)),"") -> 0 | AG15: =IFERROR(INDEX($T$4:$W$700,MATCH($X15&AG$3,INDEX($T$4:$T$700&$V$4:$V$700,),0),MATCH("施設名",$T$3:$W$3,0)),"")
S16: =A16 -> 0 | T16: =COUNTIF($V$4:V16,V16) -> 5 | U16: =IF(T16=1,COUNTIF($T$4:T16,1),"") | V16: ='施設状況(要更新)'!$E16&'施設状況(要更新)'!$C16 | W16: ='施設状況(要更新)'!$F16 -> 0 | X16: 12 | Y16: =IFERROR(INDEX($T$4:$W$700,MATCH($X16&Y$3,INDEX($T$4:$T$700&$V$4:$V$700,),0),MATCH("施設名",$T$3:$W$3,0)),"") | Z16: =IFERROR(INDEX($T$4:$W$700,MATCH($X16&Z$3,INDEX($T$4:$T$700&$V$4:$V$700,),0),MATCH("施設名",$T$3:$W$3,0)),"") | AA16: =IFERROR(INDEX($T$4:$W$700,MATCH($X16&AA$3,INDEX($T$4:$T$700&$V$4:$V$700,),0),MATCH("施設名",$T$3:$W$3,0)),"") | AB16: =IFERROR(INDEX($T$4:$W$700,MATCH($X16&AB$3,INDEX($T$4:$T$700&$V$4:$V$700,),0),MATCH("施設名",$T$3:$W$3,0)),"") | AC16: =IFERROR(INDEX($T$4:$W$700,MATCH($X16&AC$3,INDEX($T$4:$T$700&$V$4:$V$700,),0),MATCH("施設名",$T$3:$W$3,0)),"") | AD16: =IFERROR(INDEX($T$4:$W$700,MATCH($X16&AD$3,INDEX($T$4:$T$700&$V$4:$V$700,),0),MATCH("施設名",$T$3:$W$3,0)),"") | AE16: =IFERROR(INDEX($T$4:$W$700,MATCH($X16&AE$3,INDEX($T$4:$T$700&$V$4:$V$700,),0),MATCH("施設名",$T$3:$W$3,0)),"") | AF16: =IFERROR(INDEX($T$4:$W$700,MATCH($X16&AF$3,INDEX($T$4:$T$700&$V$4:$V$700,),0),MATCH("施設名",$T$3:$W$3,0)),"") -> 0 | AG16: =IFERROR(INDEX($T$4:$W$700,MATCH($X16&AG$3,INDEX($T$4:$T$700&$V$4:$V$700,),0),MATCH("施設名",$T$3:$W$3,0)),"")
S17: =A17 -> 0 | T17: =COUNTIF($V$4:V17,V17) -> 6 | U17: =IF(T17=1,COUNTIF($T$4:T17,1),"") | V17: ='施設状況(要更新)'!$E17&'施設状況(要更新)'!$C17 | W17: ='施設状況(要更新)'!$F17 -> 0 | X17: 13 | Y17: =IFERROR(INDEX($T$4:$W$700,MATCH($X17&Y$3,INDEX($T$4:$T$700&$V$4:$V$700,),0),MATCH("施設名",$T$3:$W$3,0)),"") | Z17: =IFERROR(INDEX($T$4:$W$700,MATCH($X17&Z$3,INDEX($T$4:$T$700&$V$4:$V$700,),0),MATCH("施設名",$T$3:$W$3,0)),"") | AA17: =IFERROR(INDEX($T$4:$W$700,MATCH($X17&AA$3,INDEX($T$4:$T$700&$V$4:$V$700,),0),MATCH("施設名",$T$3:$W$3,0)),"") | AB17: =IFERROR(INDEX($T$4:$W$700,MATCH($X17&AB$3,INDEX($T$4:$T$700&$V$4:$V$700,),0),MATCH("施設名",$T$3:$W$3,0)),"") | AC17: =IFERROR(INDEX($T$4:$W$700,MATCH($X17&AC$3,INDEX($T$4:$T$700&$V$4:$V$700,),0),MATCH("施設名",$T$3:$W$3,0)),"") | AD17: =IFERROR(INDEX($T$4:$W$700,MATCH($X17&AD$3,INDEX($T$4:$T$700&$V$4:$V$700,),0),MATCH("施設名",$T$3:$W$3,0)),"") | AE17: =IFERROR(INDEX($T$4:$W$700,MATCH($X17&AE$3,INDEX($T$4:$T$700&$V$4:$V$700,),0),MATCH("施設名",$T$3:$W$3,0)),"") | AF17: =IFERROR(INDEX($T$4:$W$700,MATCH($X17&AF$3,INDEX($T$4:$T$700&$V$4:$V$700,),0),MATCH("施設名",$T$3:$W$3,0)),"") -> 0 | AG17: =IFERROR(INDEX($T$4:$W$700,MATCH($X17&AG$3,INDEX($T$4:$T$700&$V$4:$V$700,),0),MATCH("施設名",$T$3:$W$3,0)),"")
S18: =A18 -> 0 | T18: =COUNTIF($V$4:V18,V18) -> 7 | U18: =IF(T18=1,COUNTIF($T$4:T18,1),"") | V18: ='施設状況(要更新)'!$E18&'施設状況(要更新)'!$C18 | W18: ='施設状況(要更新)'!$F18 -> 0 | X18: 14 | Y18: =IFERROR(INDEX($T$4:$W$700,MATCH($X18&Y$3,INDEX($T$4:$T$700&$V$4:$V$700,),0),MATCH("施設名",$T$3:$W$3,0)),"") | Z18: =IFERROR(INDEX($T$4:$W$700,MATCH($X18&Z$3,INDEX($T$4:$T$700&$V$4:$V$700,),0),MATCH("施設名",$T$3:$W$3,0)),"") | AA18: =IFERROR(INDEX($T$4:$W$700,MATCH($X18&AA$3,INDEX($T$4:$T$700&$V$4:$V$700,),0),MATCH("施設名",$T$3:$W$3,0)),"") | AB18: =IFERROR(INDEX($T$4:$W$700,MATCH($X18&AB$3,INDEX($T$4:$T$700&$V$4:$V$700,),0),MATCH("施設名",$T$3:$W$3,0)),"") | AC18: =IFERROR(INDEX($T$4:$W$700,MATCH($X18&AC$3,INDEX($T$4:$T$700&$V$4:$V$700,),0),MATCH("施設名",$T$3:$W$3,0)),"") | AD18: =IFERROR(INDEX($T$4:$W$700,MATCH($X18&AD$3,INDEX($T$4:$T$700&$V$4:$V$700,),0),MATCH("施設名",$T$3:$W$3,0)),"") | AE18: =IFERROR(INDEX($T$4:$W$700,MATCH($X18&AE$3,INDEX($T$4:$T$700&$V$4:$V$700,),0),MATCH("施設名",$T$3:$W$3,0)),"") | AF18: =IFERROR(INDEX($T$4:$W$700,MATCH($X18&AF$3,INDEX($T$4:$T$700&$V$4:$V$700,),0),MATCH("施設名",$T$3:$W$3,0)),"") -> 0 | AG18: =IFERROR(INDEX($T$4:$W$700,MATCH($X18&AG$3,INDEX($T$4:$T$700&$V$4:$V$700,),0),MATCH("施設名",$T$3:$W$3,0)),"")
S19: =A19 -> 0 | T19: =COUNTIF($V$4:V19,V19) -> 8 | U19: =IF(T19=1,COUNTIF($T$4:T19,1),"") | V19: ='施設状況(要更新)'!$E19&'施設状況(要更新)'!$C19 | W19: ='施設状況(要更新)'!$F19 -> 0 | X19: 15 | Y19: =IFERROR(INDEX($T$4:$W$700,MATCH($X19&Y$3,INDEX($T$4:$T$700&$V$4:$V$700,),0),MATCH("施設名",$T$3:$W$3,0)),"") | Z19: =IFERROR(INDEX($T$4:$W$700,MATCH($X19&Z$3,INDEX($T$4:$T$700&$V$4:$V$700,),0),MATCH("施設名",$T$3:$W$3,0)),"") | AA19: =IFERROR(INDEX($T$4:$W$700,MATCH($X19&AA$3,INDEX($T$4:$T$700&$V$4:$V$700,),0),MATCH("施設名",$T$3:$W$3,0)),"") | AB19: =IFERROR(INDEX($T$4:$W$700,MATCH($X19&AB$3,INDEX($T$4:$T$700&$V$4:$V$700,),0),MATCH("施設名",$T$3:$W$3,0)),"") | AC19: =IFERROR(INDEX($T$4:$W$700,MATCH($X19&AC$3,INDEX($T$4:$T$700&$V$4:$V$700,),0),MATCH("施設名",$T$3:$W$3,0)),"") | AD19: =IFERROR(INDEX($T$4:$W$700,MATCH($X19&AD$3,INDEX($T$4:$T$700&$V$4:$V$700,),0),MATCH("施設名",$T$3:$W$3,0)),"") | AE19: =IFERROR(INDEX($T$4:$W$700,MATCH($X19&AE$3,INDEX($T$4:$T$700&$V$4:$V$700,),0),MATCH("施設名",$T$3:$W$3,0)),"") | AF19: =IFERROR(INDEX($T$4:$W$700,MATCH($X19&AF$3,INDEX($T$4:$T$700&$V$4:$V$700,),0),MATCH("施設名",$T$3:$W$3,0)),"") -> 0 | AG19: =IFERROR(INDEX($T$4:$W$700,MATCH($X19&AG$3,INDEX($T$4:$T$700&$V$4:$V$700,),0),MATCH("施設名",$T$3:$W$3,0)),"")
S20: =A20 -> 0 | T20: =COUNTIF($V$4:V20,V20) -> 9 | U20: =IF(T20=1,COUNTIF($T$4:T20,1),"") | V20: ='施設状況(要更新)'!$E20&'施設状況(要更新)'!$C20 | W20: ='施設状況(要更新)'!$F20 -> 0 | X20: 16 | Y20: =IFERROR(INDEX($T$4:$W$700,MATCH($X20&Y$3,INDEX($T$4:$T$700&$V$4:$V$700,),0),MATCH("施設名",$T$3:$W$3,0)),"") | Z20: =IFERROR(INDEX($T$4:$W$700,MATCH($X20&Z$3,INDEX($T$4:$T$700&$V$4:$V$700,),0),MATCH("施設名",$T$3:$W$3,0)),"") | AA20: =IFERROR(INDEX($T$4:$W$700,MATCH($X20&AA$3,INDEX($T$4:$T$700&$V$4:$V$700,),0),MATCH("施設名",$T$3:$W$3,0)),"") | AB20: =IFERROR(INDEX($T$4:$W$700,MATCH($X20&AB$3,INDEX($T$4:$T$700&$V$4:$V$700,),0),MATCH("施設名",$T$3:$W$3,0)),"") | AC20: =IFERROR(INDEX($T$4:$W$700,MATCH($X20&AC$3,INDEX($T$4:$T$700&$V$4:$V$700,),0),MATCH("施設名",$T$3:$W$3,0)),"") | AD20: =IFERROR(INDEX($T$4:$W$700,MATCH($X20&AD$3,INDEX($T$4:$T$700&$V$4:$V$700,),0),MATCH("施設名",$T$3:$W$3,0)),"") | AE20: =IFERROR(INDEX($T$4:$W$700,MATCH($X20&AE$3,INDEX($T$4:$T$700&$V$4:$V$700,),0),MATCH("施設名",$T$3:$W$3,0)),"") | AF20: =IFERROR(INDEX($T$4:$W$700,MATCH($X20&AF$3,INDEX($T$4:$T$700&$V$4:$V$700,),0),MATCH("施設名",$T$3:$W$3,0)),"") -> 0 | AG20: =IFERROR(INDEX($T$4:$W$700,MATCH($X20&AG$3,INDEX($T$4:$T$700&$V$4:$V$700,),0),MATCH("施設名",$T$3:$W$3,0)),"")
S21: =A21 -> 0 | T21: =COUNTIF($V$4:V21,V21) -> 10 | U21: =IF(T21=1,COUNTIF($T$4:T21,1),"") | V21: ='施設状況(要更新)'!$E21&'施設状況(要更新)'!$C21 | W21: ='施設状況(要更新)'!$F21 -> 0 | X21: 17 | Y21: =IFERROR(INDEX($T$4:$W$700,MATCH($X21&Y$3,INDEX($T$4:$T$700&$V$4:$V$700,),0),MATCH("施設名",$T$3:$W$3,0)),"") | Z21: =IFERROR(INDEX($T$4:$W$700,MATCH($X21&Z$3,INDEX($T$4:$T$700&$V$4:$V$700,),0),MATCH("施設名",$T$3:$W$3,0)),"") | AA21: =IFERROR(INDEX($T$4:$W$700,MATCH($X21&AA$3,INDEX($T$4:$T$700&$V$4:$V$700,),0),MATCH("施設名",$T$3:$W$3,0)),"") | AB21: =IFERROR(INDEX($T$4:$W$700,MATCH($X21&AB$3,INDEX($T$4:$T$700&$V$4:$V$700,),0),MATCH("施設名",$T$3:$W$3,0)),"") | AC21: =IFERROR(INDEX($T$4:$W$700,MATCH($X21&AC$3,INDEX($T$4:$T$700&$V$4:$V$700,),0),MATCH("施設名",$T$3:$W$3,0)),"") | AD21: =IFERROR(INDEX($T$4:$W$700,MATCH($X21&AD$3,INDEX($T$4:$T$700&$V$4:$V$700,),0),MATCH("施設名",$T$3:$W$3,0)),"") | AE21: =IFERROR(INDEX($T$4:$W$700,MATCH($X21&AE$3,INDEX($T$4:$T$700&$V$4:$V$700,),0),MATCH("施設名",$T$3:$W$3,0)),"") | AF21: =IFERROR(INDEX($T$4:$W$700,MATCH($X21&AF$3,INDEX($T$4:$T$700&$V$4:$V$700,),0),MATCH("施設名",$T$3:$W$3,0)),"") -> 0 | AG21: =IFERROR(INDEX($T$4:$W$700,MATCH($X21&AG$3,INDEX($T$4:$T$700&$V$4:$V$700,),0),MATCH("施設名",$T$3:$W$3,0)),"")
S22: =A22 -> 0 | T22: =COUNTIF($V$4:V22,V22) -> 11 | U22: =IF(T22=1,COUNTIF($T$4:T22,1),"") | V22: ='施設状況(要更新)'!$E22&'施設状況(要更新)'!$C22 | W22: ='施設状況(要更新)'!$F22 -> 0 | X22: 18 | Y22: =IFERROR(INDEX($T$4:$W$700,MATCH($X22&Y$3,INDEX($T$4:$T$700&$V$4:$V$700,),0),MATCH("施設名",$T$3:$W$3,0)),"") | Z22: =IFERROR(INDEX($T$4:$W$700,MATCH($X22&Z$3,INDEX($T$4:$T$700&$V$4:$V$700,),0),MATCH("施設名",$T$3:$W$3,0)),"") | AA22: =IFERROR(INDEX($T$4:$W$700,MATCH($X22&AA$3,INDEX($T$4:$T$700&$V$4:$V$700,),0),MATCH("施設名",$T$3:$W$3,0)),"") | AB22: =IFERROR(INDEX($T$4:$W$700,MATCH($X22&AB$3,INDEX($T$4:$T$700&$V$4:$V$700,),0),MATCH("施設名",$T$3:$W$3,0)),"") | AC22: =IFERROR(INDEX($T$4:$W$700,MATCH($X22&AC$3,INDEX($T$4:$T$700&$V$4:$V$700,),0),MATCH("施設名",$T$3:$W$3,0)),"") | AD22: =IFERROR(INDEX($T$4:$W$700,MATCH($X22&AD$3,INDEX($T$4:$T$700&$V$4:$V$700,),0),MATCH("施設名",$T$3:$W$3,0)),"") | AE22: =IFERROR(INDEX($T$4:$W$700,MATCH($X22&AE$3,INDEX($T$4:$T$700&$V$4:$V$700,),0),MATCH("施設名",$T$3:$W$3,0)),"") | AF22: =IFERROR(INDEX($T$4:$W$700,MATCH($X22&AF$3,INDEX($T$4:$T$700&$V$4:$V$700,),0),MATCH("施設名",$T$3:$W$3,0)),"") -> 0 | AG22: =IFERROR(INDEX($T$4:$W$700,MATCH($X22&AG$3,INDEX($T$4:$T$700&$V$4:$V$700,),0),MATCH("施設名",$T$3:$W$3,0)),"")
S23: =A23 -> 0 | T23: =COUNTIF($V$4:V23,V23) -> 12 | U23: =IF(T23=1,COUNTIF($T$4:T23,1),"") | V23: ='施設状況(要更新)'!$E23&'施設状況(要更新)'!$C23 | W23: ='施設状況(要更新)'!$F23 -> 0 | X23: 19 | Y23: =IFERROR(INDEX($T$4:$W$700,MATCH($X23&Y$3,INDEX($T$4:$T$700&$V$4:$V$700,),0),MATCH("施設名",$T$3:$W$3,0)),"") | Z23: =IFERROR(INDEX($T$4:$W$700,MATCH($X23&Z$3,INDEX($T$4:$T$700&$V$4:$V$700,),0),MATCH("施設名",$T$3:$W$3,0)),"") | AA23: =IFERROR(INDEX($T$4:$W$700,MATCH($X23&AA$3,INDEX($T$4:$T$700&$V$4:$V$700,),0),MATCH("施設名",$T$3:$W$3,0)),"") | AB23: =IFERROR(INDEX($T$4:$W$700,MATCH($X23&AB$3,INDEX($T$4:$T$700&$V$4:$V$700,),0),MATCH("施設名",$T$3:$W$3,0)),"") | AC23: =IFERROR(INDEX($T$4:$W$700,MATCH($X23&AC$3,INDEX($T$4:$T$700&$V$4:$V$700,),0),MATCH("施設名",$T$3:$W$3,0)),"") | AD23: =IFERROR(INDEX($T$4:$W$700,MATCH($X23&AD$3,INDEX($T$4:$T$700&$V$4:$V$700,),0),MATCH("施設名",$T$3:$W$3,0)),"") | AE23: =IFERROR(INDEX($T$4:$W$700,MATCH($X23&AE$3,INDEX($T$4:$T$700&$V$4:$V$700,),0),MATCH("施設名",$T$3:$W$3,0)),"") | AF23: =IFERROR(INDEX($T$4:$W$700,MATCH($X23&AF$3,INDEX($T$4:$T$700&$V$4:$V$700,),0),MATCH("施設名",$T$3:$W$3,0)),"") -> 0 | AG23: =IFERROR(INDEX($T$4:$W$700,MATCH($X23&AG$3,INDEX($T$4:$T$700&$V$4:$V$700,),0),MATCH("施設名",$T$3:$W$3,0)),"")
... S64: =A64 -> 0 | T64: =COUNTIF($V$4:V64,V64) -> 53 | U64: =IF(T64=1,COUNTIF($T$4:T64,1),"") | V64: ='施設状況(要更新)'!$E64&'施設状況(要更新)'!$C64 | W64: ='施設状況(要更新)'!$F64 -> 0 | X64: 60 | Y64: =IFERROR(INDEX($T$4:$W$700,MATCH($X64&Y$3,INDEX($T$4:$T$700&$V$4:$V$700,),0),MATCH("施設名",$T$3:$W$3,0)),"") | Z64: =IFERROR(INDEX($T$4:$W$700,MATCH($X64&Z$3,INDEX($T$4:$T$700&$V$4:$V$700,),0),MATCH("施設名",$T$3:$W$3,0)),"") | AA64: =IFERROR(INDEX($T$4:$W$700,MATCH($X64&AA$3,INDEX($T$4:$T$700&$V$4:$V$700,),0),MATCH("施設名",$T$3:$W$3,0)),"") | AB64: =IFERROR(INDEX($T$4:$W$700,MATCH($X64&AB$3,INDEX($T$4:$T$700&$V$4:$V$700,),0),MATCH("施設名",$T$3:$W$3,0)),"") | AC64: =IFERROR(INDEX($T$4:$W$700,MATCH($X64&AC$3,INDEX($T$4:$T$700&$V$4:$V$700,),0),MATCH("施設名",$T$3:$W$3,0)),"") | AD64: =IFERROR(INDEX($T$4:$W$700,MATCH($X64&AD$3,INDEX($T$4:$T$700&$V$4:$V$700,),0),MATCH("施設名",$T$3:$W$3,0)),"") | AE64: =IFERROR(INDEX($T$4:$W$700,MATCH($X64&AE$3,INDEX($T$4:$T$700&$V$4:$V$700,),0),MATCH("施設名",$T$3:$W$3,0)),"") | AF64: =IFERROR(INDEX($T$4:$W$700,MATCH($X64&AF$3,INDEX($T$4:$T$700&$V$4:$V$700,),0),MATCH("施設名",$T$3:$W$3,0)),"") -> 0 | AG64: =IFERROR(INDEX($T$4:$W$700,MATCH($X64&AG$3,INDEX($T$4:$T$700&$V$4:$V$700,),0),MATCH("施設名",$T$3:$W$3,0)),"")
S65: =A65 -> 0 | T65: =COUNTIF($V$4:V65,V65) -> 54 | U65: =IF(T65=1,COUNTIF($T$4:T65,1),"") | V65: ='施設状況(要更新)'!$E65&'施設状況(要更新)'!$C65 | W65: ='施設状況(要更新)'!$F65 -> 0
S66: =A66 -> 0 | T66: =COUNTIF($V$4:V66,V66) -> 55 | U66: =IF(T66=1,COUNTIF($T$4:T66,1),"") | V66: ='施設状況(要更新)'!$E66&'施設状況(要更新)'!$C66 | W66: ='施設状況(要更新)'!$F66 -> 0
S67: =A67 -> 0 | T67: =COUNTIF($V$4:V67,V67) -> 56 | U67: =IF(T67=1,COUNTIF($T$4:T67,1),"") | V67: ='施設状況(要更新)'!$E67&'施設状況(要更新)'!$C67 | W67: ='施設状況(要更新)'!$F67 -> 0
S68: =A68 -> 0 | T68: =COUNTIF($V$4:V68,V68) -> 57 | U68: =IF(T68=1,COUNTIF($T$4:T68,1),"") | V68: ='施設状況(要更新)'!$E68&'施設状況(要更新)'!$C68 | W68: ='施設状況(要更新)'!$F68 -> 0
S69: =A69 -> 0 | T69: =COUNTIF($V$4:V69,V69) -> 58 | U69: =IF(T69=1,COUNTIF($T$4:T69,1),"") | V69: ='施設状況(要更新)'!$E69&'施設状況(要更新)'!$C69 | W69: ='施設状況(要更新)'!$F69 -> 0
S70: =A70 -> 0 | T70: =COUNTIF($V$4:V70,V70) -> 59 | U70: =IF(T70=1,COUNTIF($T$4:T70,1),"") | V70: ='施設状況(要更新)'!$E70&'施設状況(要更新)'!$C70 | W70: ='施設状況(要更新)'!$F70 -> 0
S71: =A71 -> 0 | T71: =COUNTIF($V$4:V71,V71) -> 60 | U71: =IF(T71=1,COUNTIF($T$4:T71,1),"") | V71: ='施設状況(要更新)'!$E71&'施設状況(要更新)'!$C71 | W71: ='施設状況(要更新)'!$F71 -> 0
S72: =A72 -> 0 | T72: =COUNTIF($V$4:V72,V72) -> 61 | U72: =IF(T72=1,COUNTIF($T$4:T72,1),"") | V72: ='施設状況(要更新)'!$E72&'施設状況(要更新)'!$C72 | W72: ='施設状況(要更新)'!$F72 -> 0
S73: =A73 -> 0 | T73: =COUNTIF($V$4:V73,V73) -> 62 | U73: =IF(T73=1,COUNTIF($T$4:T73,1),"") | V73: ='施設状況(要更新)'!$E73&'施設状況(要更新)'!$C73 | W73: ='施設状況(要更新)'!$F73 -> 0
S74: =A74 -> 0 | T74: =COUNTIF($V$4:V74,V74) -> 63 | U74: =IF(T74=1,COUNTIF($T$4:T74,1),"") | V74: ='施設状況(要更新)'!$E74&'施設状況(要更新)'!$C74 | W74: ='施設状況(要更新)'!$F74 -> 0
S75: =A75 -> 0 | T75: =COUNTIF($V$4:V75,V75) -> 64 | U75: =IF(T75=1,COUNTIF($T$4:T75,1),"") | V75: ='施設状況(要更新)'!$E75&'施設状況(要更新)'!$C75 | W75: ='施設状況(要更新)'!$F75 -> 0
S76: =A76 -> 0 | T76: =COUNTIF($V$4:V76,V76) -> 65 | U76: =IF(T76=1,COUNTIF($T$4:T76,1),"") | V76: ='施設状況(要更新)'!$E76&'施設状況(要更新)'!$C76 | W76: ='施設状況(要更新)'!$F76 -> 0
... S700: =A700 -> 0 | T700: =COUNTIF($V$4:V700,V700) -> 689 | U700: =IF(T700=1,COUNTIF($T$4:T700,1),"") | V700: ='施設状況(要更新)'!$E700&'施設状況(要更新)'!$C700 | W700: ='施設状況(要更新)'!$F700 -> 0
D701: 集計 | F701: =SUBTOTAL(103,'施設状況(要更新)'!$F$4:$F$700) -> 8 | G701: =SUBTOTAL(109,'施設状況(要更新)'!$G$4:$G$700) -> 0 | H701: =SUBTOTAL(109,'施設状況(要更新)'!$H$4:$H$700) -> 0 | I701: =SUBTOTAL(109,'施設状況(要更新)'!$I$4:$I$700) -> 0 | J701: 12 | K701: =SUBTOTAL(109,'施設状況(要更新)'!$K$4:$K$700) -> 0 | L701: =SUBTOTAL(109,'施設状況(要更新)'!$L$4:$L$700) -> 0 | M701: =SUBTOTAL(109,'施設状況(要更新)'!$M$4:$M$700) -> 8 | N701: =SUBTOTAL(109,'施設状況(要更新)'!$N$4:$N$700) -> 32 | O701: =SUBTOTAL(109,'施設状況(要更新)'!$O$4:$O$700) -> 40 | R701: =SUBTOTAL(109,'施設状況(要更新)'!$R$4:$R$700) -> 40
F702: 1 | G702: 2 | H702: 3 | I702: 4 | J702: 5 | K702: 6 | L702: 7 | M702: 8 | N702: 9 | O702: 10 | P702: 11 | R702: 12

Sheet 休日情報(要更新) 
A1: 【祝日情報】
A2: 当該シートに祝日を入力すると、利用状況表で対応する日が「赤表示」になります。
A3: 2022 | C3: =A3+1 -> 2023 | E3: =C3+1 -> 2024 | G3: =E3+1 -> 2025 | I3: =G3+1 -> 2026
A4: 日付 | B4: 祝日名 | C4: =A4 -> 日付 | D4: =B4 -> 祝日名 | E4: =C4 -> 日付 | F4: =D4 -> 祝日名 | G4: =E4 -> 日付 | H4: =F4 -> 祝日名 | I4: =G4 -> 日付 | J4: =H4 -> 祝日名
A5: 44562 | B5: 元日 | C5: 44927 | D5: 元日 | E5: 45292 | F5: 元日 | G5: 45658 | H5: 元日
A6: 44571 | B6: 成人の日 | C6: 44928 | D6: 振替休日（元日） | E6: 45299 | F6: 成人の日 | G6: 45670 | H6: 成人の日
A7: 44603 | B7: 建国記念の日 | C7: 44935 | D7: 成人の日 | E7: 45333 | F7: 建国記念の日 | G7: 45699 | H7: 建国記念の日
A8: 44615 | B8: 天皇誕生日 | C8: 44968 | D8: 建国記念の日 | E8: 45334 | F8: 振替休日（建国記念の日） | G8: 45711 | H8: 天皇誕生日
A9: 44641 | B9: 春分の日 | C9: 44980 | D9: 天皇誕生日 | E9: 45345 | F9: 天皇誕生日 | G9: 45712 | H9: 振替休日（天皇誕生日）
A10: 44680 | B10: 昭和の日 | C10: 45006 | D10: 春分の日 | E10: 45371 | F10: 春分の日 | G10: 45736 | H10: 春分の日
A11: 44684 | B11: 憲法記念日 | C11: 45045 | D11: 昭和の日 | E11: 45411 | F11: 昭和の日 | G11: 45776 | H11: 昭和の日
A12: 44685 | B12: みどりの日 | C12: 45049 | D12: 憲法記念日 | E12: 45415 | F12: 憲法記念日 | G12: 45780 | H12: 憲法記念日
A13: 44686 | B13: こどもの日 | C13: 45050 | D13: みどりの日 | E13: 45416 | F13: みどりの日 | G13: 45781 | H13: みどりの日
A14: 44760 | B14: 海の日 | C14: 45051 | D14: こどもの日 | E14: 45417 | F14: こどもの日 | G14: 45782 | H14: こどもの日
A15: 44784 | B15: 山の日 | C15: 45124 | D15: 海の日 | E15: 45418 | F15: 振替休日（こどもの日） | G15: 45783 | H15: 振替休日（みどりの日）
A16: 44823 | B16: 敬老の日 | C16: 45149 | D16: 山の日 | E16: 45488 | F16: 海の日 | G16: 45859 | H16: 海の日
... A21: 44926 | B21: ※土曜日 | C21: 45253 | D21: 勤労感謝の日 | E21: 45558 | F21: 振替休日（秋分の日） | G21: 45964 | H21: 文化の日
C22: 45290 | D22: ※土曜日 | E22: 45579 | F22: スポーツの日 | G22: 45984 | H22: 勤労感謝の日
E23: 45599 | F23: 文化の日 | G23: 45985 | H23: 振替休日（勤労感謝の日）
E24: 45600 | F24: 振替休日（文化の日）
E25: 45619 | F25: 勤労感謝の日

Sheet 作成方法
B2: 【作成要領・提出書類チェック表】
B4: 黄色 | C4: 直接手入力してください。
B5: 橙色 | C5: ドロップダウンで選択。
B6: 水色 | C6: 札幌市で入力済の内容です。変更がある場合は、申し出ください。
B7: 白色 | C7: 入力不可
B9: 【提出方法】
B10: ＜Excelデータ 提出先＞
B11: アドレス | C11: kyufuhi@city.sapporo.jp
B12: メール件名 | C12: =IF(【様式１】総括表・個票!$D$12="","※園名を選択",CONCATENATE("【加算申請】",VLOOKUP(【様式１】総括表・個票!$D$12,'施設状況(要更新)'!$F$4:$S$700,14,FALSE),【様式１】総括表・個票!$D$12)) -> ※園名を選択 | D12: ←（【様式１】で園名を選ぶと反映）
B13: パスワード | C13: 29hoiku86 | D13: ← Excelデータをこちらのパスワードで
D14: zipファイル化して、メールに添付してください。
B15: ＜添付書類 郵送先＞
B16: 〒060-0051 | D16: ←「【別添】添付書類の表紙」を付けて郵送してください。
B17: 札幌市中央区南１条東１丁目 大通バスセンタービル３階 | D17: （右隣のシート）
B18: 子ども未来局子育て支援部施設運営課給付係 TEL 011-211-3027
B20: 【お問い合わせについて】
B21: メールでのお問い合わせにご協力ください。（様式の入力がうまくいかない等、データをこちらで確認する必要がある場合はデータも添付してください。）
B22: アドレス | C22: kyufuhi@city.sapporo.jp
B23: メール件名 | C23: =IF(【様式１】総括表・個票!$D$12="","※園名を選択",CONCATENATE("【加算問い合わせ】",VLOOKUP(【様式１】総括表・個票!$D$12,'施設状況(要更新)'!$F$4:$S$700,14,FALSE),【様式１】総括表・個票!$D$12)) -> ※園名を選択 | D23: ←（【様式１】で園名を選ぶと反映）
B25: 【作成にあたって】
B26: 項目 | C26: 説明
B27: 作成ソフト | C27: 本様式はExcel2016（Microsoft社）で作成しておりますので、Excel2016以降での作成を推奨します。このため、Excel2016未満のバージョン（2010、2003等）及びMicrosoft社製以外の表計算ソフト（Kingsoft、Numbers等）での動作は保証いたしません。
B28: 作成手順 | C28: (0) （前月分を作成済みの場合）ファイルをコピーして別名で保存
C29: (1) 様式1(総括表)：申請月、所在区、施設名入力→利用定員が正しいか確認
C30: (2) 様式1(個票)：申請する加算入力(一部様式2～5の入力状況を引用)
C31: (3) 別紙1～7：必要に応じて入力
C32: (4) 様式2：月初日時点の職員配置を入力
C33: (5) 様式3：非常勤職員がいる場合は、該当月の勤務予定時間を入力
C34: (6) 様式4：クラス編成状況を記載
C35: (7) 様式5：初日児童数、基本配置・加算・補助金対象職員選択
C36: (8) 様式1：様式2～5入力後に選択できる箇所が一部あるため再度確認(チーム保育加配等)
C37: (9) 様式6：年度開始月(4月)～申請月までを埋める
B38: 参考資料 | C38: ・ 依頼文 （各月分の申請期限はこちらでご確認ください。）
C39: ・ 様式内の「作成方法」シート、各シート印刷範囲外の説明書き
C40: ・ 加算・調整項目申請書作成要領 （依頼時に送付）
C41: ・ 国通知「特定教育・保育等に要する費用の額の算定に関する基準等の改正に伴う実施上の留意事項について」 （令和5年2月20日改正） 内閣府HP：https://www8.cao.go.jp/shoushi/shinseido/law/tsuuchi.html

Sheet 【別添】添付書類の表紙
A1: 【お問い合わせについて】 | D1: 月 | E1: 施設コード | F1: 施設名
A2: アドレス | B2: kyufuhi@city.sapporo.jp | D2: =【様式１】総括表・個票!I10&"月" -> 月 | E2: =VLOOKUP(【様式１】総括表・個票!D12,'施設状況(要更新)'!$F$4:$S$700,14,FALSE) -> #N/A | F2: =【様式１】総括表・個票!D12 -> 0
A3: メール件名 | B3: ="【問合せ】"&D2&"加算"&E2&F2 -> #N/A | C3: ←メールの件名はこちらをコピーして使用してください。
A4: ※問い合わせの際は、作成途中の申請書（エクセル）を一緒に添付してください。
A5: 【提出先】
A6: ＜Excelデータ＞
A7: アドレス | B7: kyufuhi@city.sapporo.jp
A8: メール件名 | B8: ="【提出】"&D2&"加算"&E2&F2 -> #N/A | C8: ←メールの件名はこちらをコピーして使用してください。
A9: エクセル名 | B9: =D2&"加算"&E2&F2 -> #N/A | C9: ←申請書（エクセル）の名前はこちらをコピーして使用してください。
A10: パスワード | B10: 29hoiku86 | C10: ←Excelデータをこちらのパスワードでお願いします。
A11: ＜PDFデータ（加算の添付書類）＞
A12: ※ＰＤＦで提出いただく添付書類の名前は、以下のリストからコピーして使用してください。
B14: 添付書類が必要な加算 | C14: 挙証書類の名前
A15: 添付書類① | B15: {=IFERROR(INDIRECT("F"&SMALL($I$16:$I$22,ROW()/3-4)),"")} -> 障害児保育加算 | C15: =IF($B$15="","",$E$2&"_"&B15&"添付書類①") -> #N/A | F15: 添付書類が必要な加算 | G15: 適用可否 | H15: 変換 | I15: 判定
C16: =IF($B$15="","",$E$2&"_"&B15&"添付書類②") -> #N/A | D16: =B15="" -> FALSE | F16: 資格保有者加算 | G16: =INDEX(【様式１】総括表・個票!$B$17:$B$39,MATCH(F16,【様式１】総括表・個票!$F$17:F$39,0)) -> 適用月エラー | H16: =G16 -> 適用月エラー | I16: =IF(H16="○",ROW(),"")
C17: =IF($B$15="","",$E$2&"_"&B15&"添付書類③") -> #N/A | D17: =D16 -> FALSE | F17: 障害児保育加算 | G17: =INDEX(【様式１】総括表・個票!$B$17:$B$39,MATCH(F17,【様式１】総括表・個票!$F$17:F$39,0)) -> 適用月エラー | H17: =IF(G17="×","×","○") -> ○ | I17: =IF(H17="○",ROW(),"") -> 17
A18: 添付書類② | B18: {=IFERROR(INDIRECT("F"&SMALL($I$16:$I$22,ROW()/3-4)),"")} | C18: =IF($B$15="","",$E$2&"_"&B18&"添付書類①") -> #N/A | D18: =D16 -> FALSE | F18: 減価償却費加算 | G18: =INDEX(【様式１】総括表・個票!$B$17:$B$39,MATCH(F18,【様式１】総括表・個票!$F$17:F$39,0)) -> 適用月エラー | H18: =G18 -> 適用月エラー | I18: =IF(H18="○",ROW(),"")
C19: =IF($B$15="","",$E$2&"_"&B18&"添付書類②") -> #N/A | D19: =B18="" -> TRUE | F19: 賃借料加算 | G19: =INDEX(【様式１】総括表・個票!$B$17:$B$39,MATCH(F19,【様式１】総括表・個票!$F$17:F$39,0)) -> 適用月エラー | H19: =G19 -> 適用月エラー | I19: =IF(H19="○",ROW(),"")
C20: =IF($B$15="","",$E$2&"_"&B18&"添付書類③") -> #N/A | D20: =D19 -> TRUE | F20: 栄養管理加算 | G20: =INDEX(【様式１】総括表・個票!$B$17:$B$39,MATCH(F20,【様式１】総括表・個票!$F$17:F$39,0)) -> 適用月エラー | H20: =IF(G20="×","×",IF(G20="適用月エラー","×","○")) -> × | I20: =IF(H20="○",ROW(),"")
A21: 添付書類③ | B21: {=IFERROR(INDIRECT("F"&SMALL($I$16:$I$22,ROW()/3-4)),"")} | C21: =IF($B$15="","",$E$2&"_"&B21&"添付書類①") -> #N/A | D21: =D19 -> TRUE | I21: =IF(H21="○",ROW(),"")
C22: =IF($B$15="","",$E$2&"_"&B21&"添付書類②") -> #N/A | D22: =B21="" -> TRUE
C23: =IF($B$15="","",$E$2&"_"&B21&"添付書類③") -> #N/A | D23: =D22 -> TRUE
A24: 添付書類④ | B24: {=IFERROR(INDIRECT("F"&SMALL($I$16:$I$22,ROW()/3-4)),"")} | C24: =IF($B$15="","",$E$2&"_"&B24&"添付書類①") -> #N/A | D24: =D22 -> TRUE
C25: =IF($B$15="","",$E$2&"_"&B24&"添付書類②") -> #N/A | D25: =B24="" -> TRUE
C26: =IF($B$15="","",$E$2&"_"&B24&"添付書類③") -> #N/A | D26: =D25 -> TRUE
A27: 添付書類⑤ | B27: {=IFERROR(INDIRECT("F"&SMALL($I$16:$I$22,ROW()/3-4)),"")} | C27: =IF($B$15="","",$E$2&"_"&B27&"添付書類①") -> #N/A | D27: =D25 -> TRUE
C28: =IF($B$15="","",$E$2&"_"&B27&"添付書類②") -> #N/A | D28: =B27="" -> TRUE
C29: =IF($B$15="","",$E$2&"_"&B27&"添付書類③") -> #N/A | D29: =D28 -> TRUE
A30: 添付書類⑥ | B30: {=IFERROR(INDIRECT("F"&SMALL($I$16:$I$22,ROW()/3-4)),"")} | C30: =IF($B$15="","",$E$2&"_"&B30&"添付書類①") -> #N/A | D30: =D28 -> TRUE
C31: =IF($B$15="","",$E$2&"_"&B30&"添付書類②") -> #N/A | D31: =B30="" -> TRUE
C32: =IF($B$15="","",$E$2&"_"&B30&"添付書類③") -> #N/A | D32: =D31 -> TRUE
A33: 添付書類⑦ | B33: {=IFERROR(INDIRECT("F"&SMALL($I$16:$I$22,ROW()/3-4)),"")} | C33: =IF($B$15="","",$E$2&"_"&B33&"添付書類①") -> #N/A | D33: =D31 -> TRUE
C34: =IF($B$15="","",$E$2&"_"&B33&"添付書類②") -> #N/A | D34: =B33="" -> TRUE
C35: =IF($B$15="","",$E$2&"_"&B33&"添付書類③") -> #N/A | D35: =D34 -> TRUE
A36: 添付書類⑧ | B36: {=IFERROR(INDIRECT("F"&SMALL($I$16:$I$22,ROW()/3-4)),"")} | C36: =IF($B$15="","",$E$2&"_"&B36&"添付書類①") -> #N/A | D36: =D34 -> TRUE
C37: =IF($B$15="","",$E$2&"_"&B36&"添付書類②") -> #N/A | D37: =B36="" -> TRUE
C38: =IF($B$15="","",$E$2&"_"&B36&"添付書類③") -> #N/A | D38: =D37 -> TRUE
A39: 添付書類⑨ | B39: {=IFERROR(INDIRECT("F"&SMALL($I$16:$I$22,ROW()/3-4)),"")} | C39: =IF($B$15="","",$E$2&"_"&B39&"添付書類①") -> #N/A | D39: =D37 -> TRUE
C40: =IF($B$15="","",$E$2&"_"&B39&"添付書類②") -> #N/A | D40: =B39="" -> TRUE
C41: =IF($B$15="","",$E$2&"_"&B39&"添付書類③") -> #N/A | D41: =D40 -> TRUE
...

Sheet 【様式１】総括表・個票
A1: 【様式１：家庭的保育事業者】 | X1: =AI2&"様式1"&AI3 -> 加-23_月申-様式1-家_Ver.2.00 | AI1: 様式名 | AJ1: 西暦 | AK1: 月 | AM1: 所在区 | AN1: 施設種別 | AO1: 選択 | AP1: 申請
AI2: ="加-"&MID($AJ$2,3,2)&"_"&$I$10&"月"&"申-" -> 加-23_月申- | AJ2: 2023 | AN2: 05家庭的
A3: =+AJ2&"年度施設型給付費等にかかる加算（調整）適用申請書（試算様式）" -> 2023年度施設型給付費等にかかる加算（調整）適用申請書（試算様式） | AI3: ="-"&MID(AN2,3,1)&IFERROR(VLOOKUP($D$12,'施設状況(要更新)'!$F$4:$S$700,14,FALSE),"")&"_Ver."&TEXT(ver!$B$18,"#.00") -> -家_Ver.2.00 | AK3: 4 | AL3: 1 | AM3: 中央区 | AO3: ○ | AP3: 申請する
W4: =VLOOKUP(I10,$AK$18:$AL$29,2,0) -> #N/A | AK4: 5 | AL4: 2 | AM4: 北区 | AO4: × | AP4: 申請しない
A5: （あて先）札幌市長 | AK5: 6 | AL5: 3 | AM5: 東区
P6: 法人名 | AK6: 7 | AL6: 4 | AM6: 白石区
P7: 代表者名 | AK7: 8 | AL7: 5 | AM7: 厚別区
A8: =+" "&AJ2&"年度において、下記のとおり申請します。" -> 2023年度において、下記のとおり申請します。 | AK8: 9 | AL8: 6 | AM8: 豊平区
A9: Ⅰ 総括表 | AK9: 10 | AL9: 7 | AM9: 清田区
A10: 申請月 | D10: =IF(I10>=4,$AJ$2,IF(AND(I10>0,$I$10<=3),$AJ$2+1,"")) | G10: 年 | L10: 月現在 | AK10: 11 | AL10: 8 | AM10: 南区
A11: 所在区 | AK11: 12 | AL11: 9 | AM11: 西区
A12: 施設名 | AK12: 1 | AL12: 10 | AM12: 手稲区
A13: 所在地 | AI13: 2号 | AJ13: 3号 | AK13: 2 | AL13: 11
A14: 利用定員 | D14: 本園 | F14: 2号 | J14: 名 | K14: 3号 | O14: 名 | P14: 合計 | R14: =H14+M14 -> 0 | T14: 名 | AI14: =VLOOKUP($D$12,'施設状況(要更新)'!$F$4:$R$700,7,FALSE) -> #N/A | AJ14: =VLOOKUP($D$12,'施設状況(要更新)'!$F$4:$R$700,10,FALSE) -> #N/A | AK14: 3 | AL14: 12
A15: ↓【判定】…個票を入力することで、申請の有無に「〇」又は該当する区分が表示されます。 | AK15: 0 | AL15: 0
A16: No. | B16: 申請の有無 | F16: 加算・調整項目 | V16: 加算適用開始(変更)月 | Z16: 備考 | AI16: 適否判定
A17: 0 | B17: =AI17 -> × | F17: 基本配置職員 | AI17: =J45 -> × | AK17: 提出日
A18: 基本加算部分 | V18: ↓加算適用を開始(変更)した月を入力してください。 | AI18: =VLOOKUP($I$10,AK3:AL15,2,FALSE) -> 0 | AK18: 4 | AL18: 45084
A19: 1 | B19: =IFERROR(IF(AI19,AJ19,"適用月エラー"),"－") -> 適用月エラー | F19: 処遇改善等加算Ⅰ | V19: 4 | AI19: =VLOOKUP(V19,$AK$3:$AL$15,2,FALSE)<=$AI$18 -> FALSE | AJ19: =J62 -> × | AK19: 5 | AL19: =AL18 -> 45084
A20: 2 | B20: =IFERROR(IF(AI20,AJ20,"適用月エラー"),"－") -> 適用月エラー | F20: 資格保有者加算 | V20: 4 | AI20: =VLOOKUP(V20,$AK$3:$AL$15,2,FALSE)<=$AI$18 -> FALSE | AJ20: =J66 -> × | AK20: 6 | AL20: =AL19 -> 45084
A21: 3 | B21: =IFERROR(IF(AI21,AJ21,"適用月エラー"),"－") -> 適用月エラー | F21: 家庭的保育補助者加算 | V21: 4 | AI21: =VLOOKUP(V21,$AK$3:$AL$15,2,FALSE)<=$AI$18 -> FALSE | AJ21: =J74 -> × | AK21: 7 | AL21: 45175
A22: 4 | B22: =IFERROR(IF(AI22,AJ22,"適用月エラー"),"－") -> 適用月エラー | F22: 家庭的保育支援加算 | V22: 4 | Z22: 札幌市は原則非適用 | AI22: =VLOOKUP(V22,$AK$3:$AL$15,2,FALSE)<=$AI$18 -> FALSE | AJ22: =J82 -> × | AK22: 8 | AL22: =AL21 -> 45175
A23: 5 | B23: =IFERROR(IF(AI23,AJ23,"適用月エラー"),"－") -> 適用月エラー | F23: 障害児保育加算 | V23: 4 | AI23: =VLOOKUP(V23,$AK$3:$AL$15,2,FALSE)<=$AI$18 -> FALSE | AJ23: =J106 -> × | AK23: 9 | AL23: =AL22 -> 45175
A24: 6 | B24: =IFERROR(IF(AI24,AJ24,"適用月エラー"),"－") -> 適用月エラー | F24: 減価償却費加算 | V24: 4 | Z24: 都市部 | AI24: =VLOOKUP(V24,$AK$3:$AL$15,2,FALSE)<=$AI$18 -> FALSE | AJ24: =J120 -> × | AK24: 10 | AL24: 45266
A25: 7 | B25: =IFERROR(IF(AI25,AJ25,"適用月エラー"),"－") -> 適用月エラー | F25: 賃借料加算 | V25: 4 | Z25: d地域-都市部 | AI25: =VLOOKUP(V25,$AK$3:$AL$15,2,FALSE)<=$AI$18 -> FALSE | AJ25: =J135 -> × | AK25: 11 | AL25: =AL24 -> 45266
A26: 加減調整部分 | AK26: 12 | AL26: =AL25 -> 45266
A27: 8 | B27: =IFERROR(IF(AI27,AJ27,"適用月エラー"),AJ27) -> 適用月エラー | F27: 連携施設を設定しない場合)（減算） | V27: 4 | AI27: =VLOOKUP(V27,$AK$3:$AL$15,2,FALSE)<=$AI$18 -> FALSE | AJ27: =J143 -> ○ | AK27: 1 | AL27: 44988
A28: 9 | B28: =IFERROR(IF(AI28,AJ28,"適用月エラー"),AJ28) -> 適用月エラー | F28: 食事の提供について自園調理又は連携施設等からの搬入以外の方法による場合(減算） | V28: 4 | AI28: =VLOOKUP(V28,$AK$3:$AL$15,2,FALSE)<=$AI$18 -> FALSE | AJ28: =J156 -> ○ | AK28: 2 | AL28: =AL27 -> 44988
A29: 10 | B29: =IFERROR(IF(AI29,AJ29,"適用月エラー"),AJ29) -> × | F29: 土曜日に閉所する場合（前月分実績は備考欄に記載）(減算） | V29: =I10 -> 0 | Z29: =IF(I10=4,"","前月："&F170) -> 前月：(変更無)全て → 全て | AI29: =VLOOKUP(V29,$AK$3:$AL$15,2,FALSE)<=$AI$18 -> TRUE | AJ29: =J165 -> × | AK29: 3 | AL29: =AL28 -> 44988
A30: 特定加算部分
A31: 11 | B31: =IFERROR(IF(AI31,AJ31,"適用月エラー"),"－") -> 適用月エラー | F31: 処遇改善等加算Ⅱ | V31: 4 | AI31: =VLOOKUP(V31,$AK$3:$AL$15,2,FALSE)<=$AI$18 -> FALSE | AJ31: =J174 -> ×
A32: 12 | B32: =IFERROR(IF(AI32,AJ32,"適用月エラー"),"－") -> 適用月エラー | F32: 処遇改善等加算Ⅲ | V32: 4 | AI32: =VLOOKUP(V32,$AK$3:$AL$15,2,FALSE)<=$AI$18 -> FALSE | AJ32: =J178 -> ×
A33: 13 | B33: =IFERROR(IF(AI33,AJ33,"適用月エラー"),"－") -> 適用月エラー | F33: 栄養管理加算 | V33: 4 | AI33: =VLOOKUP(V33,$AK$3:$AL$15,2,FALSE)<=$AI$18 -> FALSE | AJ33: =J182 -> ×
A34: 14 | B34: ○ | F34: 冷暖房費加算 | V34: 4 | Z34: 2級地
A35: 3月加算
A36: 15 | F36: 施設機能強化推進費加算 | V36: 3月加算については、11月頃（締切は12月末）に3月加算用申請書を依頼いたします。
A37: 16 | F37: 第三者評価受審加算
A38: 17 | F38: 除雪費加算 | V38: 札幌市は対象外です。
A39: 18 | F39: 降灰除去費加算
A40: ※ 下記「Ⅱ 個票」については、『当該年度に始めて申請するとき』または『変更があるとき』のみ該当の加算分を作成をしてください（それ以外の場合は作成不要）。
...

Sheet (別紙2)土曜閉所 
A1: 別紙2（「減算：土曜日に閉所する場合」の添付書類） | F1: =J2&"別紙2"&J3 -> 加-23_月申-別紙2-家_Ver.2.00 | J1: 様式名 | K1: 選択
A2: 毎月分提出する必要があります。また、前月実績の区分が変更となった場合は、前月に遡及して減算を適用します。 | J2: =【様式１】総括表・個票!$AI$2 -> 加-23_月申-
A3: １ 当該月の利用見込み | C3: =DATE(K4,M4,1) -> #VALUE! | J3: =【様式１】総括表・個票!$AI$3 -> -家_Ver.2.00 | K3: ○
A4: 特例※5 | B4: 土曜日 | C4: 日にち | D4: 平日/祝日 | E4: 利用児童数（見込） | F4: 減算 | K4: =【様式１】総括表・個票!D10 | L4: 年 | M4: =【様式１】総括表・個票!I10 -> 0 | N4: 月
B5: 1 | C5: =HLOOKUP($B5,$K$6:$AO$7,2,FALSE) -> #N/A | D5: =IF(C5="無","×",IF(HLOOKUP($B5,$K$6:$AO$8,3,FALSE)="○","祝日",IF($A5="○","特例","平日"))) -> #N/A | F5: =IF(AND($D5="平日",OR($E5=0,ISTEXT($E5))),"○",IF(AND($D5<>"平日",E5>0),"エラー","")) -> #N/A | J5: 土曜日 | K5: =IF(K7<>"",IF(WEEKDAY(DATE($K$4,$M$4,K$7))=7,1,0),0) -> #VALUE! | L5: =IF(L7<>"",IF(WEEKDAY(DATE($K$4,$M$4,L$7))=7,1,0),0) -> #VALUE! | M5: =IF(M7<>"",IF(WEEKDAY(DATE($K$4,$M$4,M$7))=7,1,0),0) -> #VALUE! | N5: =IF(N7<>"",IF(WEEKDAY(DATE($K$4,$M$4,N$7))=7,1,0),0) -> #VALUE! | O5: =IF(O7<>"",IF(WEEKDAY(DATE($K$4,$M$4,O$7))=7,1,0),0) -> #VALUE! | P5: =IF(P7<>"",IF(WEEKDAY(DATE($K$4,$M$4,P$7))=7,1,0),0) -> #VALUE! | Q5: =IF(Q7<>"",IF(WEEKDAY(DATE($K$4,$M$4,Q$7))=7,1,0),0) -> #VALUE! | R5: =IF(R7<>"",IF(WEEKDAY(DATE($K$4,$M$4,R$7))=7,1,0),0) -> #VALUE! | ... AO5: =IF(AO7<>"",IF(WEEKDAY(DATE($K$4,$M$4,AO$7))=7,1,0),0) -> 0
B6: 2 | C6: =HLOOKUP($B6,$K$6:$AO$7,2,FALSE) -> #N/A | D6: =IF(C6="無","×",IF(HLOOKUP($B6,$K$6:$AO$8,3,FALSE)="○","祝日",IF($A6="○","特例","平日"))) -> #N/A | F6: =IF(AND($D6="平日",OR($E6=0,ISTEXT($E6))),"○",IF(AND($D6<>"平日",E6>0),"エラー","")) -> #N/A | J6: 土曜順 | K6: =IF(K5<>1,0,COUNTIF($K$5:K5,1)) -> #VALUE! | L6: =IF(L5<>1,0,COUNTIF($K$5:L5,1)) -> #VALUE! | M6: =IF(M5<>1,0,COUNTIF($K$5:M5,1)) -> #VALUE! | N6: =IF(N5<>1,0,COUNTIF($K$5:N5,1)) -> #VALUE! | O6: =IF(O5<>1,0,COUNTIF($K$5:O5,1)) -> #VALUE! | P6: =IF(P5<>1,0,COUNTIF($K$5:P5,1)) -> #VALUE! | Q6: =IF(Q5<>1,0,COUNTIF($K$5:Q5,1)) -> #VALUE! | R6: =IF(R5<>1,0,COUNTIF($K$5:R5,1)) -> #VALUE! | ... AO6: =IF(AO5<>1,0,COUNTIF($K$5:AO5,1)) -> 0
B7: 3 | C7: =HLOOKUP($B7,$K$6:$AO$7,2,FALSE) -> #N/A | D7: =IF(C7="無","×",IF(HLOOKUP($B7,$K$6:$AO$8,3,FALSE)="○","祝日",IF($A7="○","特例","平日"))) -> #N/A | F7: =IF(AND($D7="平日",OR($E7=0,ISTEXT($E7))),"○",IF(AND($D7<>"平日",E7>0),"エラー","")) -> #N/A | J7: 日にち | K7: 1 | L7: 2 | M7: 3 | N7: 4 | O7: 5 | P7: 6 | Q7: 7 | R7: 8 | S7: 9 | T7: 10 | U7: 11 | V7: 12 | W7: 13 | X7: 14 | Y7: 15 | Z7: 16 | AA7: 17 | AB7: 18 | AC7: 19 | AD7: 20 | AE7: 21 | AF7: 22 | AG7: 23 | AH7: 24 | AI7: 25 | AJ7: 26 | AK7: 27 | AL7: 28 | AM7: =IF(MONTH(DATE(K4,M4,AL7+1))=M4,AL7+1,"") -> #VALUE! | AN7: =IF(M4<>2,IF(AM7<>"",AM7+1,""),"") -> #VALUE! | AO7: =IF(OR(M4=1,M4=3,M4=5,M4=7,M4=8,M4=10,M4=12),AN7+1,"")
B8: 4 | C8: =HLOOKUP($B8,$K$6:$AO$7,2,FALSE) -> #N/A | D8: =IF(C8="無","×",IF(HLOOKUP($B8,$K$6:$AO$8,3,FALSE)="○","祝日",IF($A8="○","特例","平日"))) -> #N/A | F8: =IF(AND($D8="平日",OR($E8=0,ISTEXT($E8))),"○",IF(AND($D8<>"平日",E8>0),"エラー","")) -> #N/A | J8: 祝・休日 | K8: =IF(K7<>"",IF(OR(WEEKDAY(DATE($K$4,$M$4,K$7),2)>6,COUNTIF('休日情報(要更新) '!$A$5:$J$32,DATE($K$4,$M$4,K$7)) >=1),"○",""),"") -> #VALUE! | L8: =IF(L7<>"",IF(OR(WEEKDAY(DATE($K$4,$M$4,L$7),2)>6,COUNTIF('休日情報(要更新) '!$A$5:$J$32,DATE($K$4,$M$4,L$7)) >=1),"○",""),"") -> #VALUE! | M8: =IF(M7<>"",IF(OR(WEEKDAY(DATE($K$4,$M$4,M$7),2)>6,COUNTIF('休日情報(要更新) '!$A$5:$J$32,DATE($K$4,$M$4,M$7)) >=1),"○",""),"") -> #VALUE! | N8: =IF(N7<>"",IF(OR(WEEKDAY(DATE($K$4,$M$4,N$7),2)>6,COUNTIF('休日情報(要更新) '!$A$5:$J$32,DATE($K$4,$M$4,N$7)) >=1),"○",""),"") -> #VALUE! | O8: =IF(O7<>"",IF(OR(WEEKDAY(DATE($K$4,$M$4,O$7),2)>6,COUNTIF('休日情報(要更新) '!$A$5:$J$32,DATE($K$4,$M$4,O$7)) >=1),"○",""),"") -> #VALUE! | P8: =IF(P7<>"",IF(OR(WEEKDAY(DATE($K$4,$M$4,P$7),2)>6,COUNTIF('休日情報(要更新) '!$A$5:$J$32,DATE($K$4,$M$4,P$7)) >=1),"○",""),"") -> #VALUE! | Q8: =IF(Q7<>"",IF(OR(WEEKDAY(DATE($K$4,$M$4,Q$7),2)>6,COUNTIF('休日情報(要更新) '!$A$5:$J$32,DATE($K$4,$M$4,Q$7)) >=1),"○",""),"") -> #VALUE! | R8: =IF(R7<>"",IF(OR(WEEKDAY(DATE($K$4,$M$4,R$7),2)>6,COUNTIF('休日情報(要更新) '!$A$5:$J$32,DATE($K$4,$M$4,R$7)) >=1),"○",""),"") -> #VALUE! | ... AO8: =IF(AO7<>"",IF(OR(WEEKDAY(DATE($K$4,$M$4,AO$7),2)>6,COUNTIF('休日情報(要更新) '!$A$5:$J$32,DATE($K$4,$M$4,AO$7)) >=1),"○",""),"")
B9: 5 | C9: =IF(ISERROR(HLOOKUP($B9,$K$6:$AO$7,2,FALSE)),"無",HLOOKUP($B9,$K$6:$AO$7,2,FALSE)) -> 無 | D9: =IF(C9="無","×",IF(HLOOKUP($B9,$K$6:$AO$8,3,FALSE)="○","祝日",IF($A9="○","特例","平日"))) -> × | F9: =IF(AND($D9="平日",OR($E9=0,ISTEXT($E9))),"○",IF(AND($D9<>"平日",E9>0),"エラー",""))
A10: 計 | D10: =COUNTIF(D5:D9,"平日")+COUNTIF(D5:D9,"特例") -> 0 | F10: =COUNTIF(F5:F9,"○") -> 0
B11: 減算区分： | C11: =IF(F10=D10,"全て",IF(F10>=3,"3日以上",IF(F10=2,"2日",IF(F10=1,"1日","×")))) -> 全て
K12: =YEAR(DATE($K$4,$M$4,1)-1) -> #VALUE! | L12: 年 | M12: =MONTH(DATE($K$4,$M$4,1)-1) -> #VALUE! | N12: 月
A13: 2 前月の利用実績 | C13: =C3-1 -> #VALUE! | J13: 土曜日 | K13: =IF(K15<>"",IF(WEEKDAY(DATE($K$12,$M$12,K$15))=7,1,0),0) -> #VALUE! | L13: =IF(L15<>"",IF(WEEKDAY(DATE($K$12,$M$12,L$15))=7,1,0),0) -> #VALUE! | M13: =IF(M15<>"",IF(WEEKDAY(DATE($K$12,$M$12,M$15))=7,1,0),0) -> #VALUE! | N13: =IF(N15<>"",IF(WEEKDAY(DATE($K$12,$M$12,N$15))=7,1,0),0) -> #VALUE! | O13: =IF(O15<>"",IF(WEEKDAY(DATE($K$12,$M$12,O$15))=7,1,0),0) -> #VALUE! | P13: =IF(P15<>"",IF(WEEKDAY(DATE($K$12,$M$12,P$15))=7,1,0),0) -> #VALUE! | Q13: =IF(Q15<>"",IF(WEEKDAY(DATE($K$12,$M$12,Q$15))=7,1,0),0) -> #VALUE! | R13: =IF(R15<>"",IF(WEEKDAY(DATE($K$12,$M$12,R$15))=7,1,0),0) -> #VALUE! | ... AO13: =IF(AO15<>"",IF(WEEKDAY(DATE($K$12,$M$12,AO$15))=7,1,0),0) -> #VALUE!
A14: 特例※5 | B14: 土曜日 | C14: 日にち | D14: 平日/祝日 | E14: 利用児童数（見込） | F14: 減算(見込) | G14: 利用児童数（実績） | H14: 減算(実績) | J14: 土曜順 | K14: =IF(K13<>1,0,COUNTIF($K$13:K13,1)) -> #VALUE! | L14: =IF(L13<>1,0,COUNTIF($K$13:L13,1)) -> #VALUE! | M14: =IF(M13<>1,0,COUNTIF($K$13:M13,1)) -> #VALUE! | N14: =IF(N13<>1,0,COUNTIF($K$13:N13,1)) -> #VALUE! | O14: =IF(O13<>1,0,COUNTIF($K$13:O13,1)) -> #VALUE! | P14: =IF(P13<>1,0,COUNTIF($K$13:P13,1)) -> #VALUE! | Q14: =IF(Q13<>1,0,COUNTIF($K$13:Q13,1)) -> #VALUE! | R14: =IF(R13<>1,0,COUNTIF($K$13:R13,1)) -> #VALUE! | ... AO14: =IF(AO13<>1,0,COUNTIF($K$13:AO13,1)) -> #VALUE!
B15: 1 | C15: =HLOOKUP($B15,$K$14:$AO$15,2,FALSE) -> #N/A | D15: =IF(C15="無","×",IF(HLOOKUP($B15,$K$14:$AO$16,3,FALSE)="○","祝日",IF($A15="○","特例","平日"))) -> #N/A | F15: =IF(AND($D15="平日",OR($E15=0,ISTEXT($E15))),"○",IF(AND($D15<>"平日",E15>0),"エラー","")) -> #N/A | H15: =IF(AND($D15="平日",OR($G15=0,ISTEXT($G15))),"○",IF(AND($D15<>"平日",$G15>0),"エラー","")) -> #N/A | J15: 日にち | K15: 1 | L15: 2 | M15: 3 | N15: 4 | O15: 5 | P15: 6 | Q15: 7 | R15: 8 | S15: 9 | T15: 10 | U15: 11 | V15: 12 | W15: 13 | X15: 14 | Y15: 15 | Z15: 16 | AA15: 17 | AB15: 18 | AC15: 19 | AD15: 20 | AE15: 21 | AF15: 22 | AG15: 23 | AH15: 24 | AI15: 25 | AJ15: 26 | AK15: 27 | AL15: 28 | AM15: =IF(MONTH(DATE(K12,M12,AL15+1))=M12,AL15+1,"") -> #VALUE! | AN15: =IF(M12<>2,IF(AM15<>"",AM15+1,""),"") -> #VALUE! | AO15: =IF(OR(M12=1,M12=3,M12=5,M12=7,M12=8,M12=10,M12=12),AN15+1,"") -> #VALUE!
B16: 2 | C16: =HLOOKUP($B16,$K$14:$AO$15,2,FALSE) -> #N/A | D16: =IF(C16="無","×",IF(HLOOKUP($B16,$K$14:$AO$16,3,FALSE)="○","祝日",IF($A16="○","特例","平日"))) -> #N/A | F16: =IF(AND($D16="平日",OR($E16=0,ISTEXT($E16))),"○",IF(AND($D16<>"平日",E16>0),"エラー","")) -> #N/A | H16: =IF(AND($D16="平日",OR($G16=0,ISTEXT($G16))),"○",IF(AND($D16<>"平日",$G16>0),"エラー","")) -> #N/A | J16: 祝・休日 | K16: =IF(K15<>"",IF(OR(WEEKDAY(DATE($K$12,$M$12,K$15),2)>6,COUNTIF('休日情報(要更新) '!$A$5:$J$32,DATE($K$12,$M$12,K$15)) >=1),"○",""),"") -> #VALUE! | L16: =IF(L15<>"",IF(OR(WEEKDAY(DATE($K$12,$M$12,L$15),2)>6,COUNTIF('休日情報(要更新) '!$A$5:$J$32,DATE($K$12,$M$12,L$15)) >=1),"○",""),"") -> #VALUE! | M16: =IF(M15<>"",IF(OR(WEEKDAY(DATE($K$12,$M$12,M$15),2)>6,COUNTIF('休日情報(要更新) '!$A$5:$J$32,DATE($K$12,$M$12,M$15)) >=1),"○",""),"") -> #VALUE! | N16: =IF(N15<>"",IF(OR(WEEKDAY(DATE($K$12,$M$12,N$15),2)>6,COUNTIF('休日情報(要更新) '!$A$5:$J$32,DATE($K$12,$M$12,N$15)) >=1),"○",""),"") -> #VALUE! | O16: =IF(O15<>"",IF(OR(WEEKDAY(DATE($K$12,$M$12,O$15),2)>6,COUNTIF('休日情報(要更新) '!$A$5:$J$32,DATE($K$12,$M$12,O$15)) >=1),"○",""),"") -> #VALUE! | P16: =IF(P15<>"",IF(OR(WEEKDAY(DATE($K$12,$M$12,P$15),2)>6,COUNTIF('休日情報(要更新) '!$A$5:$J$32,DATE($K$12,$M$12,P$15)) >=1),"○",""),"") -> #VALUE! | Q16: =IF(Q15<>"",IF(OR(WEEKDAY(DATE($K$12,$M$12,Q$15),2)>6,COUNTIF('休日情報(要更新) '!$A$5:$J$32,DATE($K$12,$M$12,Q$15)) >=1),"○",""),"") -> #VALUE! | R16: =IF(R15<>"",IF(OR(WEEKDAY(DATE($K$12,$M$12,R$15),2)>6,COUNTIF('休日情報(要更新) '!$A$5:$J$32,DATE($K$12,$M$12,R$15)) >=1),"○",""),"") -> #VALUE! | ... AO16: =IF(AO15<>"",IF(OR(WEEKDAY(DATE($K$12,$M$12,AO$15),2)>6,COUNTIF('休日情報(要更新) '!$A$5:$J$32,DATE($K$12,$M$12,AO$15)) >=1),"○",""),"") -> #VALUE!
B17: 3 | C17: =HLOOKUP($B17,$K$14:$AO$15,2,FALSE) -> #N/A | D17: =IF(C17="無","×",IF(HLOOKUP($B17,$K$14:$AO$16,3,FALSE)="○","祝日",IF($A17="○","特例","平日"))) -> #N/A | F17: =IF(AND($D17="平日",OR($E17=0,ISTEXT($E17))),"○",IF(AND($D17<>"平日",E17>0),"エラー","")) -> #N/A | H17: =IF(AND($D17="平日",OR($G17=0,ISTEXT($G17))),"○",IF(AND($D17<>"平日",$G17>0),"エラー","")) -> #N/A
B18: 4 | C18: =HLOOKUP($B18,$K$14:$AO$15,2,FALSE) -> #N/A | D18: =IF(C18="無","×",IF(HLOOKUP($B18,$K$14:$AO$16,3,FALSE)="○","祝日",IF($A18="○","特例","平日"))) -> #N/A | F18: =IF(AND($D18="平日",OR($E18=0,ISTEXT($E18))),"○",IF(AND($D18<>"平日",E18>0),"エラー","")) -> #N/A | H18: =IF(AND($D18="平日",OR($G18=0,ISTEXT($G18))),"○",IF(AND($D18<>"平日",$G18>0),"エラー","")) -> #N/A
B19: 5 | C19: =IF(ISERROR(HLOOKUP($B19,$K$14:$AO$15,2,FALSE)),"無",HLOOKUP($B19,$K$14:$AO$15,2,FALSE)) -> 無 | D19: =IF(C19="無","×",IF(HLOOKUP($B19,$K$14:$AO$16,3,FALSE)="○","祝日",IF($A19="○","特例","平日"))) -> × | F19: =IF(AND($D19="平日",OR($E19=0,ISTEXT($E19))),"○",IF(AND($D19<>"平日",E19>0),"エラー","")) | H19: =IF(AND($D19="平日",OR($G19=0,ISTEXT($G19))),"○",IF(AND($D19<>"平日",$G19>0),"エラー",""))
A20: 計 | D20: =COUNTIF(D15:D19,"平日")+COUNTIF(D15:D19,"特例") -> 0 | F20: =COUNTIF(F15:F19,"○") -> 0 | H20: =COUNTIF(H15:H19,"○") -> 0
B22: 減算区分(見込)： | C22: =IF(F20=D20,"全て",IF(F20>=3,"3日以上",IF(F20=2,"2日",IF(F20=1,"1日","×")))) -> 全て | D22: → | E22: 減算区分(実績)： | F22: =IF(D20=H20,"全て",IF(H20>=3,"3日以上",IF(H20=2,"2日",IF(H20=1,"1日","×")))) -> 全て | G22: =IF(J22,"(変更無)","(変更有)") -> (変更無) | J22: =F22=C22 -> TRUE
A24: ※1 利用児童について、延長保育、一時保育を含めないこと。
A25: ※2 他の保育所等との共同保育により、利用希望者の保育を確保・実施した場合は利用児童数に含めること。 ただし、共同保育により相手施設から受け入れた児童数は含めないこと。
A27: ※3 利用児童数(実績)について、当日キャンセルの児童は含めて良い(前日キャンセルは不可)。なお、運動会等による行事開催が当日キャンセルになった場合も保護者の希望があれば保育を実施する必要があることに留意すること。
A29: ※4 年末年始の閉園日（12/29～31、1/2～3）に土曜日が含まれる場合は祝日扱いとします。
A30: ※5 新型コロナ感染症の影響により休園した場合は「○」を選択すること。なお、常時土曜日を閉所している施設は選択しないこと。

Sheet 【様式2】職員名簿
A1: 【様式2】 | H1: =L2&"様式2"&L3 -> 加-23_月申-様式2-家_Ver.2.00 | L1: 様式名
A2: =【様式１】総括表・個票!AJ2&"年度" -> 2023年度 | E2: 職員名簿 | G2: =+"【"&【様式１】総括表・個票!I10&"月分】" -> 【月分】 | L2: =【様式１】総括表・個票!$AI$2 -> 加-23_月申-
A3: <常勤換算> | L3: =【様式１】総括表・個票!$AI$3 -> -家_Ver.2.00
B4: 常勤職員１人の勤務時間数/月
B5: 就業規則等で定める常勤職員１人の１か月の所定労働時間(休憩時間を含まない。)を記載すること。ただし、150時間未満の場合は根拠・理由を記載すること。 | E5: 時間/月 | J5: 時間
E6: =IF(AND(F5<150,F5>0),"根拠・理由","")
B8: 項目 | C8: 職員数（札幌市確認用） | G8: 常勤換算数
C9: 常勤 | F9: 非常勤※ | G9: 常勤 | H9: 非常勤（一部を担当・兼務する常勤含む） | J9: 計 （常勤＋非常勤）
C10: 正職 | D10: 臨職 | E10: その他 | G10: 人数 | H10: 勤務時間 | I10: 常勤換算数
B11: 家庭的保育者 | C11: =S139 -> 0 | D11: =T139 -> 0 | E11: =SUM(U139,V139) -> 0 | F11: =W139 -> 0 | G11: =Q139 -> 0 | H11: =R139 -> 0 | I11: =IFERROR(H11/$F$5,0) -> 0 | J11: =SUM(G11,I11) -> 0
B12: 家庭的保育補助者 | C12: =S140 -> 0 | D12: =T140 -> 0 | E12: =SUM(U140,V140) -> 0 | F12: =W140 -> 0 | G12: =Q140 -> 0 | H12: =R140 -> 0 | I12: =IFERROR(H12/$F$5,0) -> 0 | J12: =SUM(G12,I12) -> 0
B13: 栄養士 | C13: =S141 -> 0 | D13: =T141 -> 0 | E13: =SUM(U141,V141) -> 0 | F13: =W141 -> 0 | G13: =Q141 -> 0 | H13: =R141 -> 0 | I13: =IFERROR(H13/$F$5,0) -> 0 | J13: =SUM(G13,I13) -> 0
B14: 調理員 | C14: =S142 -> 0 | D14: =T142 -> 0 | E14: =SUM(U142,V142) -> 0 | F14: =W142 -> 0 | G14: =Q142 -> 0 | H14: =R142 -> 0 | I14: =IFERROR(H14/$F$5,0) -> 0 | J14: =SUM(G14,I14) -> 0
B15: 事務員 | C15: =S143 -> 0 | D15: =T143 -> 0 | E15: =SUM(U143,V143) -> 0 | F15: =W143 -> 0 | G15: =Q143 -> 0 | H15: =R143 -> 0 | I15: =IFERROR(H15/$F$5,0) -> 0 | J15: =SUM(G15,I15) -> 0
B16: その他 | C16: =S144 -> 0 | D16: =T144 -> 0 | E16: =SUM(U144,V144) -> 0 | F16: =W144 -> 0 | G16: =Q144 -> 0 | H16: =R144 -> 0 | I16: =IFERROR(H16/$F$5,0) -> 0 | J16: =SUM(G16,I16) -> 0
B17: ※ 非常勤に委託を含む。
A18: <職員名簿>
A19: ① 職員氏名/委託先：「業務委託」➡委託先会社名／「雇用職員」➡職員氏名 を誤りなく記載してください。
A20: ② 職員状況：職種区分として、施設長、教諭（発令有）、教諭（発令無）、栄養士、調理員、事務員、その他 から選択してください。また、初日時点で有給・代替・無給の是非を選択してください。
A21: ③ 形態：業務委託➡自動表示／雇用職員➡常勤、非常勤の選択及び契約形態を選択してください。また、非常勤又は委託の場合は様式3でひと月の勤務時間数を記載してください。
A22: ④ 雇用/契約開始日：雇用（業務委託の場合は契約）開始日を記載してください。記載は西暦で「○○年△月□日」の場合は「○○/△/□」です。
B23: ● 業務委託 | L23: カウント | N23: エラー | Q23: 通常教育 | S23: 札幌市確認 | Y23: リスト（状況に応じて更新）
B24: ・ 委託は「家庭的保育」「家庭的保育補助者」のみ常勤換算数に含まれて計算されます。 | L24: 参入 | M24: 非常勤 | N24: 整合性 | O24: 漏れ | R24: 委託 | Y24: 職種区分 | Z24: 初日時点の契約状況 | AA24: 常勤・非常勤 | AB24: 常勤 | AC24: 非常勤 | AD24: 雇用開始日
A25: ① 委託先 | C25: ②職員状況 | E25: ③形態 | H25: ④契約開始日 | I25: 備考 | J25: 算入区分 | L25: =$Z26 -> 有給 | M25: 委託 | O25: 委託 | AD25: 基準日
A26: No. | B26: 委託先会社名 | C26: 職種区分 | D26: 初日時点の契約状況 | E26: 委託 | F26: - | G26: 勤務時間/月 | H26: ="("&TEXT($AD$26,"YYYY/M/D")&"以前)" -> #VALUE! | Y26: 家庭的保育者 | Z26: 有給 | AA26: 常勤 | AB26: 正職 | AC26: 常勤-時短/兼務 | AD26: =DATE(【様式１】総括表・個票!D10,【様式１】総括表・個票!I10,1) -> #VALUE!
Y27: 家庭的保育補助者 | Z27: 有給（他法活用） | AA27: 非常勤 | AB27: 臨職 | AC27: 雇用契約
A28: =ROW()-ROW($A$27) -> 1 | C28: 家庭的保育者 | E28: =IF($D28="有給","委託","") | F28: =IF(G28>0,"要添付書類➡","-") -> - | J28: =IF(L28,IF(OR(O28,N28),"エラー",C28),"-") -> - | L28: =$D28=$L$25 -> FALSE | M28: =IF($E28<>$M$25,0,COUNTIF($E28:E$28,$M$25)) -> 0 | N28: =$H28>$H$26 -> #VALUE! | O28: =OR(B28=0,C28=0,E28=0,AND($E28=O$25,OR($G28=0,ISTEXT($G28))),$H28=0) -> TRUE | R28: =IF($E28=R$24,$G28,0) -> 0 | Y28: 栄養士 | Z28: 代替（助成金等対象） | AB28: 派遣契約 | AC28: 派遣契約
A29: =ROW()-ROW($A$27) -> 2 | C29: 家庭的保育補助者 | E29: =IF($D29="有給","委託","") | F29: =IF(G29>0,"要添付書類➡","-") -> - | J29: =IF(L29,IF(OR(O29,N29),"エラー",C29),"-") -> - | L29: =$D29=$L$25 -> FALSE | M29: =IF($E29<>$M$25,0,COUNTIF($E$28:E29,$M$25)) -> 0 | N29: =$H29>$H$26 -> #VALUE! | O29: =OR(B29=0,C29=0,E29=0,AND($E29=O$25,OR($G29=0,ISTEXT($G29))),$H29=0) -> TRUE | R29: =IF($E29=R$24,$G29,0) -> 0 | Y29: 調理員 | Z29: 無給 | AB29: 嘱託契約 | AC29: 嘱託契約
A30: =ROW()-ROW($A$27) -> 3 | C30: 栄養士（委託） | E30: =IF($D30="有給","委託","") | F30: =IF(G30>0,"要添付書類➡","-") -> - | J30: =IF(L30,IF(OR(O30,N30),"エラー",C30),"-") -> - | L30: =$D30=$L$25 -> FALSE | M30: =IF($E30<>$M$25,0,COUNTIF($E$28:E30,$M$25)) -> 0 | N30: =$H30>$H$26 -> #VALUE! | O30: =OR(B30=0,C30=0,E30=0,AND($E30=O$25,OR($G30=0,ISTEXT($G30))),$H30=0) -> TRUE | R30: =IF($E30=R$35,$G30,0) -> 0 | Y30: 事務員 | AB30: ↑(数式＞定義された名前＞選択範囲から作成＞上端 で二重線囲部分を名前登録する➡ドロップダウンの範囲登録に使用)
