Workbook
Name b: #REF!
Name d: #REF!
Name 栄養士: #REF!
Name 栄養士: 【様式５】職員数算出表!$BD$7:$BD$112
Name 家庭的保育: #REF!
Name 概算交付申出書: #REF!
Name 学校医: #REF!
Name 学校医: 【様式５】職員数算出表!#REF!
Name 教諭: #REF!
Name 教諭: #REF!
Name 業務委託: #REF!
Name 業務委託: 【様式５】職員数算出表!$BL$7:$BL$11
Name 区分１: #REF!
Name 区分２: #REF!
Name 区分３: #REF!
Name 公設民営: #REF!
Name 厚別区01私立01保育所: '施設状況(要更新)'!$AC$4:$AC$64
Name 厚別区01私立02幼稚園: '施設状況(要更新)'!$AZ$4:$AZ$64
Name 厚別区01私立03認定こども園: '施設状況(要更新)'!$BT$4:$BT$64
Name 厚別区01保育所: '施設状況(要更新)'!$AC$4:$AC$15
Name 厚別区03公立01保育所: '施設状況(要更新)'!$AO$4:$AO$64
Name 厚別区03公立02幼稚園: '施設状況(要更新)'!$BK$4:$BK$64
Name 札幌市あけぼの保育園: '施設状況(要更新)'!$Z$4:$CY$4
Name 札幌市外01私立01保育所: '施設状況(要更新)'!$AI$4:$AI$64
Name 札幌市外01私立02幼稚園: '施設状況(要更新)'!$BF$4:$BF$64
Name 札幌市外01私立03認定こども園: '施設状況(要更新)'!$BZ$4:$BZ$64
Name 札幌市外01私立04小規模A・B・C: '施設状況(要更新)'!$CL$4:$CL$64
Name 札幌市外01私立06事業所内: '施設状況(要更新)'!$CZ$4:$CZ$64
Name 札幌市外02公設民営01保育所: '施設状況(要更新)'!$AL$4:$AL$64
Name 札幌市外03公立01保育所: '施設状況(要更新)'!$AU$4:$AU$64
Name 札幌市外03公立03認定こども園: '施設状況(要更新)'!$CB$4:$CB$64
Name 施設C: #REF!
Name 施設C: #REF!
Name 施設C: #REF!
Name 施設種別: #REF!
Name 施設長: #REF!
Name 施設長: 【様式５】職員数算出表!$AX$7:$AX$111
Name 事業所内保育: #REF!
Name 事務員: #REF!
Name 事務員: 【様式５】職員数算出表!$BH$7:$BH$111
Name 手稲区01私立01保育所: '施設状況(要更新)'!$AH$4:$AH$64
Name 手稲区01私立02幼稚園: '施設状況(要更新)'!$BE$4:$BE$64
Name 手稲区01私立03認定こども園: '施設状況(要更新)'!$BY$4:$BY$64
Name 手稲区01私立04小規模A・B・C: '施設状況(要更新)'!$CK$4:$CK$64
Name 手稲区01私立05家庭的: '施設状況(要更新)'!$CT$4:$CT$64
Name 手稲区01保育所: '施設状況(要更新)'!$AH$4:$AH$16
Name 手稲区03公立01保育所: '施設状況(要更新)'!$AR$4:$AR$64
Name 手稲区03公立02幼稚園: '施設状況(要更新)'!$BO$4:$BO$64
Name 修正後施設マスタ: #REF!
Name 修正後施設マスタ: #REF!
Name 小規模保育: #REF!
Name 常勤: 【様式５】職員数算出表!$BB$7:$BB$111
Name 常勤: 【様式2】職員名簿!$AD$25:$AD$29
Name 常勤事務員: #REF!
Name 常勤事務員: 【様式５】職員数算出表!#REF!
Name 常勤調理員: #REF!
Name 常勤調理員: 【様式５】職員数算出表!#REF!
Name 常勤保育士: #REF!
Name 常勤保育士: 【様式５】職員数算出表!$BB$7:$BB$111
Name 清田区01私立01保育所: '施設状況(要更新)'!$AE$4:$AE$64

Sheet 施設状況(要更新)
A1: 施設C | B1: 公私 | C1: 種別 | E1: 区 | F1: 施設・事業所名 | G1: 認定こども園認可定員内訳 | J1: 認可定員 | K1: 利用定員 | P1: 分園(内数)/従業員枠（外数） | S1: 施設C
C2: 1 | D2: 2 | G2: 1号 | H2: 2号 | I2: 3号 | K2: 1号 | L2: 2号 | M2: 3号（0歳） | N2: 3号（1･2歳） | O2: 3号合計 | P2: 合計 | Q2: （うち２号） | R2: 合計 | Y2: 1 | Z2: 2 | AA2: 3 | AB2: 4 | AC2: 5 | AD2: 6 | AE2: 7 | AF2: 8 | AG2: 9 | AH2: 10 | AI2: 11 | AJ2: 12 | AK2: 13 | AL2: 14 | AM2: 15 | AN2: 16 | AO2: 17 | AP2: 18 | AQ2: 19 | AR2: 20 | AS2: 21 | AT2: 22 | AU2: 23 | AV2: 24 | AW2: 25 | AX2: 26 | AY2: 27 | AZ2: 28 | BA2: 29 | BB2: 30 | BC2: 31 | BD2: 32 | BE2: 33 | BF2: 34 | BG2: 35 | BH2: 36 | BI2: 37 | BJ2: 38 | BK2: 39 | BL2: 40 | BM2: 41 | BN2: 42 | BO2: 43 | BP2: 44 | BQ2: 45 | BR2: 46 | BS2: 47 | BT2: 48 | BU2: 49 | BV2: 50 | BW2: 51 | BX2: 52 | BY2: 53 | BZ2: 54 | CA2: 55 | CB2: 56 | CC2: 57 | CD2: 58 | CE2: 59 | CF2: 60 | CG2: 61 | CH2: 62 | CI2: 63 | CJ2: 64 | CK2: 65 | CL2: 66 | CM2: 67 | CN2: 68 | CO2: 69 | CP2: 70 | CQ2: 71 | CR2: 72 | CS2: 73 | CT2: 74 | CU2: 75 | CV2: 76 | CW2: 77 | CX2: 78 | CY2: 79 | CZ2: 80 | DA2: 81 | DB2: 82 | DC2: 83 | DD2: 84 | DE2: 85 | DF2: 86 | DG2: 87 | DH2: 88 | DI2: 89 | DJ2: 90
A3: ソート① | B3: 列1 | C3: ソート② | D3: 列2 | E3: 列3 | F3: 列4 | G3: 列5 | H3: 列6 | I3: 列7 | J3: 列8 | K3: 列9 | L3: 列10 | M3: 列11 | N3: 列12 | O3: 列13 | P3: 列132 | Q3: 列133 | R3: 列14 | W3: 施設名 | Y3: =VLOOKUP(Y2,$U$4:$V$678,2,FALSE) -> 中央区01保育所 | Z3: =VLOOKUP(Z2,$U$4:$V$678,2,FALSE) -> 北区01保育所 | AA3: =VLOOKUP(AA2,$U$4:$V$678,2,FALSE) -> 東区01保育所 | AB3: =VLOOKUP(AB2,$U$4:$V$678,2,FALSE) -> 白石区01保育所 | AC3: =VLOOKUP(AC2,$U$4:$V$678,2,FALSE) -> 厚別区01保育所 | AD3: =VLOOKUP(AD2,$U$4:$V$678,2,FALSE) -> 豊平区01保育所 | AE3: =VLOOKUP(AE2,$U$4:$V$678,2,FALSE) -> 清田区01保育所 | AF3: =VLOOKUP(AF2,$U$4:$V$678,2,FALSE) -> 南区01保育所 | ... AI3: =VLOOKUP(AI2,$U$4:$V$678,2,FALSE)
A4: 100000 | B4: 01私立 | C4: 01保育所 | D4: 保 | E4: 中央区 | F4: 札幌市未来局保育園【例】 | J4: 175 | K4: 0 | L4: 103 | M4: 18 | N4: 54 | O4: =SUM(テーブル1[[#This Row],[列11]:[列12]]) -> 72 | R4: =SUM(K4,L4,O4) -> 175 | S4: =A4 -> 100000 | T4: =COUNTIF($V$4:V4,V4) -> 1 | U4: =IF(T4=1,COUNTIF($T$4:T4,1),"") -> 1 | V4: ='施設状況(要更新)'!$E4&'施設状況(要更新)'!$C4 -> 中央区01保育所 | W4: ='施設状況(要更新)'!$F4 -> 札幌市未来局保育園【例】
A5: 100004 | B5: 01私立 | C5: 01保育所 | D5: 保 | E5: 中央区 | F5: 救世軍桑園保育所 | J5: 90 | K5: 0 | L5: 48 | M5: 12 | N5: 30 | O5: =SUM(テーブル1[[#This Row],[列11]:[列12]]) -> 42 | R5: =SUM(K5,L5,O5) -> 90 | S5: =A5 -> 100004 | T5: =COUNTIF($V$4:V5,V5) -> 2 | U5: =IF(T5=1,COUNTIF($T$4:T5,1),"") | V5: ='施設状況(要更新)'!$E5&'施設状況(要更新)'!$C5 -> 中央区01保育所 | W5: ='施設状況(要更新)'!$F5 -> 救世軍桑園保育所 | X5: 1 | Y5: =IFERROR(INDEX($T$4:$W$678,MATCH($X5&Y$3,INDEX($T$4:$T$678&$V$4:$V$678,),0),MATCH("施設名",$T$3:$W$3,0)),"") -> 札幌市未来局保育園【例】 | Z5: =IFERROR(INDEX($T$4:$W$678,MATCH($X5&Z$3,INDEX($T$4:$T$678&$V$4:$V$678,),0),MATCH("施設名",$T$3:$W$3,0)),"") -> あいの里協働保育園 | AA5: =IFERROR(INDEX($T$4:$W$678,MATCH($X5&AA$3,INDEX($T$4:$T$678&$V$4:$V$678,),0),MATCH("施設名",$T$3:$W$3,0)),"") -> 札苗保育園 | AB5: =IFERROR(INDEX($T$4:$W$678,MATCH($X5&AB$3,INDEX($T$4:$T$678&$V$4:$V$678,),0),MATCH("施設名",$T$3:$W$3,0)),"") -> 東札幌かすたねっと保育園 | AC5: =IFERROR(INDEX($T$4:$W$678,MATCH($X5&AC$3,INDEX($T$4:$T$678&$V$4:$V$678,),0),MATCH("施設名",$T$3:$W$3,0)),"") -> まごころ保育園 | AD5: =IFERROR(INDEX($T$4:$W$678,MATCH($X5&AD$3,INDEX($T$4:$T$678&$V$4:$V$678,),0),MATCH("施設名",$T$3:$W$3,0)),"") -> 札幌愛隣舘保育園 | AE5: =IFERROR(INDEX($T$4:$W$678,MATCH($X5&AE$3,INDEX($T$4:$T$678&$V$4:$V$678,),0),MATCH("施設名",$T$3:$W$3,0)),"") -> 札幌北野保育園 | AF5: =IFERROR(INDEX($T$4:$W$678,MATCH($X5&AF$3,INDEX($T$4:$T$678&$V$4:$V$678,),0),MATCH("施設名",$T$3:$W$3,0)),"") -> 真駒内保育園 | ... AI5: =IFERROR(INDEX($T$4:$W$678,MATCH($X5&AI$3,INDEX($T$4:$T$678&$V$4:$V$678,),0),MATCH("施設名",$T$3:$W$3,0)),"") -> 0
A6: 100005 | B6: 01私立 | C6: 01保育所 | D6: 保 | E6: 中央区 | F6: 駒鳥保育所 | J6: 90 | K6: 0 | L6: 51 | M6: 9 | N6: 30 | O6: =SUM(テーブル1[[#This Row],[列11]:[列12]]) -> 39 | R6: =SUM(K6,L6,O6) -> 90 | S6: =A6 -> 100005 | T6: =COUNTIF($V$4:V6,V6) -> 3 | U6: =IF(T6=1,COUNTIF($T$4:T6,1),"") | V6: ='施設状況(要更新)'!$E6&'施設状況(要更新)'!$C6 -> 中央区01保育所 | W6: ='施設状況(要更新)'!$F6 -> 駒鳥保育所 | X6: 2 | Y6: =IFERROR(INDEX($T$4:$W$678,MATCH($X6&Y$3,INDEX($T$4:$T$678&$V$4:$V$678,),0),MATCH("施設名",$T$3:$W$3,0)),"") -> 救世軍桑園保育所 | Z6: =IFERROR(INDEX($T$4:$W$678,MATCH($X6&Z$3,INDEX($T$4:$T$678&$V$4:$V$678,),0),MATCH("施設名",$T$3:$W$3,0)),"") -> ドリームキッズ保育園 | AA6: =IFERROR(INDEX($T$4:$W$678,MATCH($X6&AA$3,INDEX($T$4:$T$678&$V$4:$V$678,),0),MATCH("施設名",$T$3:$W$3,0)),"") -> 元町にこにこ保育園 | AB6: =IFERROR(INDEX($T$4:$W$678,MATCH($X6&AB$3,INDEX($T$4:$T$678&$V$4:$V$678,),0),MATCH("施設名",$T$3:$W$3,0)),"") -> 札幌愛隣舘第二保育園 | AC6: =IFERROR(INDEX($T$4:$W$678,MATCH($X6&AC$3,INDEX($T$4:$T$678&$V$4:$V$678,),0),MATCH("施設名",$T$3:$W$3,0)),"") -> ひばりが丘保育園 | AD6: =IFERROR(INDEX($T$4:$W$678,MATCH($X6&AD$3,INDEX($T$4:$T$678&$V$4:$V$678,),0),MATCH("施設名",$T$3:$W$3,0)),"") -> 札幌第１福ちゃん保育園 | AE6: =IFERROR(INDEX($T$4:$W$678,MATCH($X6&AE$3,INDEX($T$4:$T$678&$V$4:$V$678,),0),MATCH("施設名",$T$3:$W$3,0)),"") -> 札幌南清田保育園 | AF6: =IFERROR(INDEX($T$4:$W$678,MATCH($X6&AF$3,INDEX($T$4:$T$678&$V$4:$V$678,),0),MATCH("施設名",$T$3:$W$3,0)),"") -> 藻岩そらいろ保育園 | ... AI6: =IFERROR(INDEX($T$4:$W$678,MATCH($X6&AI$3,INDEX($T$4:$T$678&$V$4:$V$678,),0),MATCH("施設名",$T$3:$W$3,0)),"") -> 0
A7: 100007 | B7: 01私立 | C7: 01保育所 | D7: 保 | E7: 中央区 | F7: 円山北町保育園 | J7: 60 | K7: 0 | L7: 36 | M7: 5 | N7: 19 | O7: =SUM(テーブル1[[#This Row],[列11]:[列12]]) -> 24 | R7: =SUM(K7,L7,O7) -> 60 | S7: =A7 -> 100007 | T7: =COUNTIF($V$4:V7,V7) -> 4 | U7: =IF(T7=1,COUNTIF($T$4:T7,1),"") | V7: ='施設状況(要更新)'!$E7&'施設状況(要更新)'!$C7 -> 中央区01保育所 | W7: ='施設状況(要更新)'!$F7 -> 円山北町保育園 | X7: 3 | Y7: =IFERROR(INDEX($T$4:$W$678,MATCH($X7&Y$3,INDEX($T$4:$T$678&$V$4:$V$678,),0),MATCH("施設名",$T$3:$W$3,0)),"") -> 駒鳥保育所 | Z7: =IFERROR(INDEX($T$4:$W$678,MATCH($X7&Z$3,INDEX($T$4:$T$678&$V$4:$V$678,),0),MATCH("施設名",$T$3:$W$3,0)),"") -> アートチャイルドケア札幌百合が原 | AA7: =IFERROR(INDEX($T$4:$W$678,MATCH($X7&AA$3,INDEX($T$4:$T$678&$V$4:$V$678,),0),MATCH("施設名",$T$3:$W$3,0)),"") -> 札苗北保育園 | AB7: =IFERROR(INDEX($T$4:$W$678,MATCH($X7&AB$3,INDEX($T$4:$T$678&$V$4:$V$678,),0),MATCH("施設名",$T$3:$W$3,0)),"") -> 菊水元町保育園 | AC7: =IFERROR(INDEX($T$4:$W$678,MATCH($X7&AC$3,INDEX($T$4:$T$678&$V$4:$V$678,),0),MATCH("施設名",$T$3:$W$3,0)),"") -> 青葉興正保育園 | AD7: =IFERROR(INDEX($T$4:$W$678,MATCH($X7&AD$3,INDEX($T$4:$T$678&$V$4:$V$678,),0),MATCH("施設名",$T$3:$W$3,0)),"") -> 西岡保育園 | AE7: =IFERROR(INDEX($T$4:$W$678,MATCH($X7&AE$3,INDEX($T$4:$T$678&$V$4:$V$678,),0),MATCH("施設名",$T$3:$W$3,0)),"") -> さわやか保育園 | AF7: =IFERROR(INDEX($T$4:$W$678,MATCH($X7&AF$3,INDEX($T$4:$T$678&$V$4:$V$678,),0),MATCH("施設名",$T$3:$W$3,0)),"") -> まこまないみどりまち保育園 | ... AI7: =IFERROR(INDEX($T$4:$W$678,MATCH($X7&AI$3,INDEX($T$4:$T$678&$V$4:$V$678,),0),MATCH("施設名",$T$3:$W$3,0)),"") -> 0
A8: 100008 | B8: 01私立 | C8: 01保育所 | D8: 保 | E8: 中央区 | F8: 愛育保育園 | J8: 90 | K8: 0 | L8: 45 | M8: 15 | N8: 30 | O8: =SUM(テーブル1[[#This Row],[列11]:[列12]]) -> 45 | R8: =SUM(K8,L8,O8) -> 90 | S8: =A8 -> 100008 | T8: =COUNTIF($V$4:V8,V8) -> 5 | U8: =IF(T8=1,COUNTIF($T$4:T8,1),"") | V8: ='施設状況(要更新)'!$E8&'施設状況(要更新)'!$C8 -> 中央区01保育所 | W8: ='施設状況(要更新)'!$F8 -> 愛育保育園 | X8: 4 | Y8: =IFERROR(INDEX($T$4:$W$678,MATCH($X8&Y$3,INDEX($T$4:$T$678&$V$4:$V$678,),0),MATCH("施設名",$T$3:$W$3,0)),"") -> 円山北町保育園 | Z8: =IFERROR(INDEX($T$4:$W$678,MATCH($X8&Z$3,INDEX($T$4:$T$678&$V$4:$V$678,),0),MATCH("施設名",$T$3:$W$3,0)),"") -> 新琴似南保育園 | AA8: =IFERROR(INDEX($T$4:$W$678,MATCH($X8&AA$3,INDEX($T$4:$T$678&$V$4:$V$678,),0),MATCH("施設名",$T$3:$W$3,0)),"") -> ちゃいれっく北８条東保育園 | AB8: =IFERROR(INDEX($T$4:$W$678,MATCH($X8&AB$3,INDEX($T$4:$T$678&$V$4:$V$678,),0),MATCH("施設名",$T$3:$W$3,0)),"") -> 大谷地たかだ保育園 | AC8: =IFERROR(INDEX($T$4:$W$678,MATCH($X8&AC$3,INDEX($T$4:$T$678&$V$4:$V$678,),0),MATCH("施設名",$T$3:$W$3,0)),"") -> もみじ台北保育園 | AD8: =IFERROR(INDEX($T$4:$W$678,MATCH($X8&AD$3,INDEX($T$4:$T$678&$V$4:$V$678,),0),MATCH("施設名",$T$3:$W$3,0)),"") -> 札幌愛隣舘東山保育園 | AE8: =IFERROR(INDEX($T$4:$W$678,MATCH($X8&AE$3,INDEX($T$4:$T$678&$V$4:$V$678,),0),MATCH("施設名",$T$3:$W$3,0)),"") -> 札幌あさひ保育園 | AF8: =IFERROR(INDEX($T$4:$W$678,MATCH($X8&AF$3,INDEX($T$4:$T$678&$V$4:$V$678,),0),MATCH("施設名",$T$3:$W$3,0)),"") -> 大地の杜保育園 | ... AI8: =IFERROR(INDEX($T$4:$W$678,MATCH($X8&AI$3,INDEX($T$4:$T$678&$V$4:$V$678,),0),MATCH("施設名",$T$3:$W$3,0)),"") -> 0
A9: 100010 | B9: 01私立 | C9: 01保育所 | D9: 保 | E9: 中央区 | F9: 山鼻保育園 | J9: 90 | K9: 0 | L9: 51 | M9: 9 | N9: 30 | O9: =SUM(テーブル1[[#This Row],[列11]:[列12]]) -> 39 | R9: =SUM(K9,L9,O9) -> 90 | S9: =A9 -> 100010 | T9: =COUNTIF($V$4:V9,V9) -> 6 | U9: =IF(T9=1,COUNTIF($T$4:T9,1),"") | V9: ='施設状況(要更新)'!$E9&'施設状況(要更新)'!$C9 -> 中央区01保育所 | W9: ='施設状況(要更新)'!$F9 -> 山鼻保育園 | X9: 5 | Y9: =IFERROR(INDEX($T$4:$W$678,MATCH($X9&Y$3,INDEX($T$4:$T$678&$V$4:$V$678,),0),MATCH("施設名",$T$3:$W$3,0)),"") -> 愛育保育園 | Z9: =IFERROR(INDEX($T$4:$W$678,MATCH($X9&Z$3,INDEX($T$4:$T$678&$V$4:$V$678,),0),MATCH("施設名",$T$3:$W$3,0)),"") -> 屯田保育園 | AA9: =IFERROR(INDEX($T$4:$W$678,MATCH($X9&AA$3,INDEX($T$4:$T$678&$V$4:$V$678,),0),MATCH("施設名",$T$3:$W$3,0)),"") -> 苗穂保育園 | AB9: =IFERROR(INDEX($T$4:$W$678,MATCH($X9&AB$3,INDEX($T$4:$T$678&$V$4:$V$678,),0),MATCH("施設名",$T$3:$W$3,0)),"") -> 南郷保育園 | AC9: =IFERROR(INDEX($T$4:$W$678,MATCH($X9&AC$3,INDEX($T$4:$T$678&$V$4:$V$678,),0),MATCH("施設名",$T$3:$W$3,0)),"") -> 厚別共栄保育園 | AD9: =IFERROR(INDEX($T$4:$W$678,MATCH($X9&AD$3,INDEX($T$4:$T$678&$V$4:$V$678,),0),MATCH("施設名",$T$3:$W$3,0)),"") -> 札幌愛隣舘りんご保育園 | AE9: =IFERROR(INDEX($T$4:$W$678,MATCH($X9&AE$3,INDEX($T$4:$T$678&$V$4:$V$678,),0),MATCH("施設名",$T$3:$W$3,0)),"") -> 札幌真栄東保育園 | AF9: =IFERROR(INDEX($T$4:$W$678,MATCH($X9&AF$3,INDEX($T$4:$T$678&$V$4:$V$678,),0),MATCH("施設名",$T$3:$W$3,0)),"") -> 遊・Ｗｉｎｇ | ... AI9: =IFERROR(INDEX($T$4:$W$678,MATCH($X9&AI$3,INDEX($T$4:$T$678&$V$4:$V$678,),0),MATCH("施設名",$T$3:$W$3,0)),"") -> 0
A10: 100011 | B10: 01私立 | C10: 01保育所 | D10: 保 | E10: 中央区 | F10: 山鼻華園保育園 | J10: 150 | K10: 0 | L10: 80 | M10: 12 | N10: 38 | O10: =SUM(テーブル1[[#This Row],[列11]:[列12]]) -> 50 | R10: =SUM(K10,L10,O10) -> 130 | S10: =A10 -> 100011 | T10: =COUNTIF($V$4:V10,V10) -> 7 | U10: =IF(T10=1,COUNTIF($T$4:T10,1),"") | V10: ='施設状況(要更新)'!$E10&'施設状況(要更新)'!$C10 -> 中央区01保育所 | W10: ='施設状況(要更新)'!$F10 -> 山鼻華園保育園 | X10: 6 | Y10: =IFERROR(INDEX($T$4:$W$678,MATCH($X10&Y$3,INDEX($T$4:$T$678&$V$4:$V$678,),0),MATCH("施設名",$T$3:$W$3,0)),"") -> 山鼻保育園 | Z10: =IFERROR(INDEX($T$4:$W$678,MATCH($X10&Z$3,INDEX($T$4:$T$678&$V$4:$V$678,),0),MATCH("施設名",$T$3:$W$3,0)),"") -> 愛和えるむ保育園 | AA10: =IFERROR(INDEX($T$4:$W$678,MATCH($X10&AA$3,INDEX($T$4:$T$678&$V$4:$V$678,),0),MATCH("施設名",$T$3:$W$3,0)),"") -> 札幌第２福ちゃん保育園 | AB10: =IFERROR(INDEX($T$4:$W$678,MATCH($X10&AB$3,INDEX($T$4:$T$678&$V$4:$V$678,),0),MATCH("施設名",$T$3:$W$3,0)),"") -> 東白石雪ん子保育園 | AC10: =IFERROR(INDEX($T$4:$W$678,MATCH($X10&AC$3,INDEX($T$4:$T$678&$V$4:$V$678,),0),MATCH("施設名",$T$3:$W$3,0)),"") -> もみじ台南保育園 | AD10: =IFERROR(INDEX($T$4:$W$678,MATCH($X10&AD$3,INDEX($T$4:$T$678&$V$4:$V$678,),0),MATCH("施設名",$T$3:$W$3,0)),"") -> 子どもの家保育園 | AE10: =IFERROR(INDEX($T$4:$W$678,MATCH($X10&AE$3,INDEX($T$4:$T$678&$V$4:$V$678,),0),MATCH("施設名",$T$3:$W$3,0)),"") -> ラブクローバーの保育園 札幌清田 | AF10: =IFERROR(INDEX($T$4:$W$678,MATCH($X10&AF$3,INDEX($T$4:$T$678&$V$4:$V$678,),0),MATCH("施設名",$T$3:$W$3,0)),"") -> くまの子保育園 | ... AI10: =IFERROR(INDEX($T$4:$W$678,MATCH($X10&AI$3,INDEX($T$4:$T$678&$V$4:$V$678,),0),MATCH("施設名",$T$3:$W$3,0)),"") -> 0
A11: 100013 | B11: 01私立 | C11: 01保育所 | D11: 保 | E11: 中央区 | F11: 幌南華園保育園 | J11: 90 | K11: 0 | L11: 48 | M11: 12 | N11: 30 | O11: =SUM(テーブル1[[#This Row],[列11]:[列12]]) -> 42 | R11: =SUM(K11,L11,O11) -> 90 | S11: =A11 -> 100013 | T11: =COUNTIF($V$4:V11,V11) -> 8 | U11: =IF(T11=1,COUNTIF($T$4:T11,1),"") | V11: ='施設状況(要更新)'!$E11&'施設状況(要更新)'!$C11 -> 中央区01保育所 | W11: ='施設状況(要更新)'!$F11 -> 幌南華園保育園 | X11: 7 | Y11: =IFERROR(INDEX($T$4:$W$678,MATCH($X11&Y$3,INDEX($T$4:$T$678&$V$4:$V$678,),0),MATCH("施設名",$T$3:$W$3,0)),"") -> 山鼻華園保育園 | Z11: =IFERROR(INDEX($T$4:$W$678,MATCH($X11&Z$3,INDEX($T$4:$T$678&$V$4:$V$678,),0),MATCH("施設名",$T$3:$W$3,0)),"") -> 幌北ゆりかご保育園 | AA11: =IFERROR(INDEX($T$4:$W$678,MATCH($X11&AA$3,INDEX($T$4:$T$678&$V$4:$V$678,),0),MATCH("施設名",$T$3:$W$3,0)),"") -> 札幌厚成福祉会第二保育所 | AB11: =IFERROR(INDEX($T$4:$W$678,MATCH($X11&AB$3,INDEX($T$4:$T$678&$V$4:$V$678,),0),MATCH("施設名",$T$3:$W$3,0)),"") -> こぶし保育園 | AC11: =IFERROR(INDEX($T$4:$W$678,MATCH($X11&AC$3,INDEX($T$4:$T$678&$V$4:$V$678,),0),MATCH("施設名",$T$3:$W$3,0)),"") -> 札幌協働保育園 | AD11: =IFERROR(INDEX($T$4:$W$678,MATCH($X11&AD$3,INDEX($T$4:$T$678&$V$4:$V$678,),0),MATCH("施設名",$T$3:$W$3,0)),"") -> 中の島興正保育園 | AE11: =IFERROR(INDEX($T$4:$W$678,MATCH($X11&AE$3,INDEX($T$4:$T$678&$V$4:$V$678,),0),MATCH("施設名",$T$3:$W$3,0)),"") -> 認可保育園Ｌｉｎｄｏ | AF11: =IFERROR(INDEX($T$4:$W$678,MATCH($X11&AF$3,INDEX($T$4:$T$678&$V$4:$V$678,),0),MATCH("施設名",$T$3:$W$3,0)),"") -> 藤ヶ丘保育園 | ... AI11: =IFERROR(INDEX($T$4:$W$678,MATCH($X11&AI$3,INDEX($T$4:$T$678&$V$4:$V$678,),0),MATCH("施設名",$T$3:$W$3,0)),"") -> 0
A12: 100014 | B12: 01私立 | C12: 01保育所 | D12: 保 | E12: 中央区 | F12: 宮の森保育園 | J12: 90 | K12: 0 | L12: 21 | M12: 3 | N12: 6 | O12: =SUM(テーブル1[[#This Row],[列11]:[列12]]) -> 9 | R12: =SUM(K12,L12,O12) -> 30 | S12: =A12 -> 100014 | T12: =COUNTIF($V$4:V12,V12) -> 9 | U12: =IF(T12=1,COUNTIF($T$4:T12,1),"") | V12: ='施設状況(要更新)'!$E12&'施設状況(要更新)'!$C12 -> 中央区01保育所 | W12: ='施設状況(要更新)'!$F12 -> 宮の森保育園 | X12: 8 | Y12: =IFERROR(INDEX($T$4:$W$678,MATCH($X12&Y$3,INDEX($T$4:$T$678&$V$4:$V$678,),0),MATCH("施設名",$T$3:$W$3,0)),"") -> 幌南華園保育園 | Z12: =IFERROR(INDEX($T$4:$W$678,MATCH($X12&Z$3,INDEX($T$4:$T$678&$V$4:$V$678,),0),MATCH("施設名",$T$3:$W$3,0)),"") -> 札幌はこぶね保育園 | AA12: =IFERROR(INDEX($T$4:$W$678,MATCH($X12&AA$3,INDEX($T$4:$T$678&$V$4:$V$678,),0),MATCH("施設名",$T$3:$W$3,0)),"") -> 明園保育園 | AB12: =IFERROR(INDEX($T$4:$W$678,MATCH($X12&AB$3,INDEX($T$4:$T$678&$V$4:$V$678,),0),MATCH("施設名",$T$3:$W$3,0)),"") -> 北郷こぶし保育園 | AC12: =IFERROR(INDEX($T$4:$W$678,MATCH($X12&AC$3,INDEX($T$4:$T$678&$V$4:$V$678,),0),MATCH("施設名",$T$3:$W$3,0)),"") -> 厚別こま草保育園 | AD12: =IFERROR(INDEX($T$4:$W$678,MATCH($X12&AD$3,INDEX($T$4:$T$678&$V$4:$V$678,),0),MATCH("施設名",$T$3:$W$3,0)),"") -> 吉田学園やしの木保育園 | AE12: =IFERROR(INDEX($T$4:$W$678,MATCH($X12&AE$3,INDEX($T$4:$T$678&$V$4:$V$678,),0),MATCH("施設名",$T$3:$W$3,0)),"") -> ラブクローバーの保育園札幌北野 | AF12: =IFERROR(INDEX($T$4:$W$678,MATCH($X12&AF$3,INDEX($T$4:$T$678&$V$4:$V$678,),0),MATCH("施設名",$T$3:$W$3,0)),"") -> ルンビニー保育園 | ... AI12: =IFERROR(INDEX($T$4:$W$678,MATCH($X12&AI$3,INDEX($T$4:$T$678&$V$4:$V$678,),0),MATCH("施設名",$T$3:$W$3,0)),"") -> 0
A13: 100015 | B13: 01私立 | C13: 01保育所 | D13: 保 | E13: 中央区 | F13: さより保育園 | J13: 70 | K13: 0 | L13: 33 | M13: 8 | N13: 19 | O13: =SUM(テーブル1[[#This Row],[列11]:[列12]]) -> 27 | R13: =SUM(K13,L13,O13) -> 60 | S13: =A13 -> 100015 | T13: =COUNTIF($V$4:V13,V13) -> 10 | U13: =IF(T13=1,COUNTIF($T$4:T13,1),"") | V13: ='施設状況(要更新)'!$E13&'施設状況(要更新)'!$C13 -> 中央区01保育所 | W13: ='施設状況(要更新)'!$F13 -> さより保育園 | X13: 9 | Y13: =IFERROR(INDEX($T$4:$W$678,MATCH($X13&Y$3,INDEX($T$4:$T$678&$V$4:$V$678,),0),MATCH("施設名",$T$3:$W$3,0)),"") -> 宮の森保育園 | Z13: =IFERROR(INDEX($T$4:$W$678,MATCH($X13&Z$3,INDEX($T$4:$T$678&$V$4:$V$678,),0),MATCH("施設名",$T$3:$W$3,0)),"") -> はぐくみ保育園 | AA13: =IFERROR(INDEX($T$4:$W$678,MATCH($X13&AA$3,INDEX($T$4:$T$678&$V$4:$V$678,),0),MATCH("施設名",$T$3:$W$3,0)),"") -> はらっぱ保育園 | AB13: =IFERROR(INDEX($T$4:$W$678,MATCH($X13&AB$3,INDEX($T$4:$T$678&$V$4:$V$678,),0),MATCH("施設名",$T$3:$W$3,0)),"") -> アスク白石保育園 | AC13: =IFERROR(INDEX($T$4:$W$678,MATCH($X13&AC$3,INDEX($T$4:$T$678&$V$4:$V$678,),0),MATCH("施設名",$T$3:$W$3,0)),"") -> 新さっぽろとまと保育園 | AD13: =IFERROR(INDEX($T$4:$W$678,MATCH($X13&AD$3,INDEX($T$4:$T$678&$V$4:$V$678,),0),MATCH("施設名",$T$3:$W$3,0)),"") -> ピッコロ子ども倶楽部月寒園 | AE13: =IFERROR(INDEX($T$4:$W$678,MATCH($X13&AE$3,INDEX($T$4:$T$678&$V$4:$V$678,),0),MATCH("施設名",$T$3:$W$3,0)),"") -> ちゅうわ清田保育園 | AF13: =IFERROR(INDEX($T$4:$W$678,MATCH($X13&AF$3,INDEX($T$4:$T$678&$V$4:$V$678,),0),MATCH("施設名",$T$3:$W$3,0)),"") -> ちびっこの杜保育園 | ... AI13: =IFERROR(INDEX($T$4:$W$678,MATCH($X13&AI$3,INDEX($T$4:$T$678&$V$4:$V$678,),0),MATCH("施設名",$T$3:$W$3,0)),"") -> 0
A14: 100018 | B14: 01私立 | C14: 01保育所 | D14: 保 | E14: 中央区 | F14: つくしの子共同保育所 | J14: 60 | K14: 0 | L14: 30 | M14: 10 | N14: 20 | O14: =SUM(テーブル1[[#This Row],[列11]:[列12]]) -> 30 | R14: =SUM(K14,L14,O14) -> 60 | S14: =A14 -> 100018 | T14: =COUNTIF($V$4:V14,V14) -> 11 | U14: =IF(T14=1,COUNTIF($T$4:T14,1),"") | V14: ='施設状況(要更新)'!$E14&'施設状況(要更新)'!$C14 -> 中央区01保育所 | W14: ='施設状況(要更新)'!$F14 -> つくしの子共同保育所 | X14: 10 | Y14: =IFERROR(INDEX($T$4:$W$678,MATCH($X14&Y$3,INDEX($T$4:$T$678&$V$4:$V$678,),0),MATCH("施設名",$T$3:$W$3,0)),"") -> さより保育園 | Z14: =IFERROR(INDEX($T$4:$W$678,MATCH($X14&Z$3,INDEX($T$4:$T$678&$V$4:$V$678,),0),MATCH("施設名",$T$3:$W$3,0)),"") -> 子どもの園保育園 | AA14: =IFERROR(INDEX($T$4:$W$678,MATCH($X14&AA$3,INDEX($T$4:$T$678&$V$4:$V$678,),0),MATCH("施設名",$T$3:$W$3,0)),"") -> 心の里親保育園 | AB14: =IFERROR(INDEX($T$4:$W$678,MATCH($X14&AB$3,INDEX($T$4:$T$678&$V$4:$V$678,),0),MATCH("施設名",$T$3:$W$3,0)),"") -> ポピンズナーサリースクール札幌白石 | AC14: =IFERROR(INDEX($T$4:$W$678,MATCH($X14&AC$3,INDEX($T$4:$T$678&$V$4:$V$678,),0),MATCH("施設名",$T$3:$W$3,0)),"") -> きっずぱーく厚別保育園 | AD14: =IFERROR(INDEX($T$4:$W$678,MATCH($X14&AD$3,INDEX($T$4:$T$678&$V$4:$V$678,),0),MATCH("施設名",$T$3:$W$3,0)),"") -> ピッコロ子ども倶楽部福住園 | AE14: =IFERROR(INDEX($T$4:$W$678,MATCH($X14&AE$3,INDEX($T$4:$T$678&$V$4:$V$678,),0),MATCH("施設名",$T$3:$W$3,0)),"") -> 緑ヶ丘保育園 | AF14: =IFERROR(INDEX($T$4:$W$678,MATCH($X14&AF$3,INDEX($T$4:$T$678&$V$4:$V$678,),0),MATCH("施設名",$T$3:$W$3,0)),"") -> こどもみらい保育園常盤園 | ... AI14: =IFERROR(INDEX($T$4:$W$678,MATCH($X14&AI$3,INDEX($T$4:$T$678&$V$4:$V$678,),0),MATCH("施設名",$T$3:$W$3,0)),"") -> 0
A15: 100020 | B15: 01私立 | C15: 01保育所 | D15: 保 | E15: 中央区 | F15: 吉田学園くりの木保育園 | J15: 120 | K15: 0 | L15: 63 | M15: 15 | N15: 42 | O15: =SUM(テーブル1[[#This Row],[列11]:[列12]]) -> 57 | R15: =SUM(K15,L15,O15) -> 120 | S15: =A15 -> 100020 | T15: =COUNTIF($V$4:V15,V15) -> 12 | U15: =IF(T15=1,COUNTIF($T$4:T15,1),"") | V15: ='施設状況(要更新)'!$E15&'施設状況(要更新)'!$C15 -> 中央区01保育所 | W15: ='施設状況(要更新)'!$F15 -> 吉田学園くりの木保育園 | X15: 11 | Y15: =IFERROR(INDEX($T$4:$W$678,MATCH($X15&Y$3,INDEX($T$4:$T$678&$V$4:$V$678,),0),MATCH("施設名",$T$3:$W$3,0)),"") -> つくしの子共同保育所 | Z15: =IFERROR(INDEX($T$4:$W$678,MATCH($X15&Z$3,INDEX($T$4:$T$678&$V$4:$V$678,),0),MATCH("施設名",$T$3:$W$3,0)),"") -> アートチャイルドケア新琴似 | AA15: =IFERROR(INDEX($T$4:$W$678,MATCH($X15&AA$3,INDEX($T$4:$T$678&$V$4:$V$678,),0),MATCH("施設名",$T$3:$W$3,0)),"") -> 元町保育園 | AB15: =IFERROR(INDEX($T$4:$W$678,MATCH($X15&AB$3,INDEX($T$4:$T$678&$V$4:$V$678,),0),MATCH("施設名",$T$3:$W$3,0)),"") -> 大藤子ども園 | AC15: =IFERROR(INDEX($T$4:$W$678,MATCH($X15&AC$3,INDEX($T$4:$T$678&$V$4:$V$678,),0),MATCH("施設名",$T$3:$W$3,0)),"") | AD15: =IFERROR(INDEX($T$4:$W$678,MATCH($X15&AD$3,INDEX($T$4:$T$678&$V$4:$V$678,),0),MATCH("施設名",$T$3:$W$3,0)),"") -> 乳幼児保育クラブぞうさん | AE15: =IFERROR(INDEX($T$4:$W$678,MATCH($X15&AE$3,INDEX($T$4:$T$678&$V$4:$V$678,),0),MATCH("施設名",$T$3:$W$3,0)),"") | AF15: =IFERROR(INDEX($T$4:$W$678,MATCH($X15&AF$3,INDEX($T$4:$T$678&$V$4:$V$678,),0),MATCH("施設名",$T$3:$W$3,0)),"") -> 木育こどもの家南の沢保育園 | ... AI15: =IFERROR(INDEX($T$4:$W$678,MATCH($X15&AI$3,INDEX($T$4:$T$678&$V$4:$V$678,),0),MATCH("施設名",$T$3:$W$3,0)),"") -> 0
A16: 100021 | B16: 01私立 | C16: 01保育所 | D16: 保 | E16: 中央区 | F16: こうさい保育園 | J16: 90 | K16: 0 | L16: 45 | M16: 15 | N16: 30 | O16: =SUM(テーブル1[[#This Row],[列11]:[列12]]) -> 45 | R16: =SUM(K16,L16,O16) -> 90 | S16: =A16 -> 100021 | T16: =COUNTIF($V$4:V16,V16) -> 13 | U16: =IF(T16=1,COUNTIF($T$4:T16,1),"") | V16: ='施設状況(要更新)'!$E16&'施設状況(要更新)'!$C16 -> 中央区01保育所 | W16: ='施設状況(要更新)'!$F16 -> こうさい保育園 | X16: 12 | Y16: =IFERROR(INDEX($T$4:$W$678,MATCH($X16&Y$3,INDEX($T$4:$T$678&$V$4:$V$678,),0),MATCH("施設名",$T$3:$W$3,0)),"") -> 吉田学園くりの木保育園 | Z16: =IFERROR(INDEX($T$4:$W$678,MATCH($X16&Z$3,INDEX($T$4:$T$678&$V$4:$V$678,),0),MATCH("施設名",$T$3:$W$3,0)),"") -> つばさ保育園 | AA16: =IFERROR(INDEX($T$4:$W$678,MATCH($X16&AA$3,INDEX($T$4:$T$678&$V$4:$V$678,),0),MATCH("施設名",$T$3:$W$3,0)),"") -> モエレはとポッポ保育園 | AB16: =IFERROR(INDEX($T$4:$W$678,MATCH($X16&AB$3,INDEX($T$4:$T$678&$V$4:$V$678,),0),MATCH("施設名",$T$3:$W$3,0)),"") -> ピッコロ子ども倶楽部東札幌園 | AC16: =IFERROR(INDEX($T$4:$W$678,MATCH($X16&AC$3,INDEX($T$4:$T$678&$V$4:$V$678,),0),MATCH("施設名",$T$3:$W$3,0)),"") | AD16: =IFERROR(INDEX($T$4:$W$678,MATCH($X16&AD$3,INDEX($T$4:$T$678&$V$4:$V$678,),0),MATCH("施設名",$T$3:$W$3,0)),"") -> スクルドエンジェル保育園月寒園 | AE16: =IFERROR(INDEX($T$4:$W$678,MATCH($X16&AE$3,INDEX($T$4:$T$678&$V$4:$V$678,),0),MATCH("施設名",$T$3:$W$3,0)),"") | AF16: =IFERROR(INDEX($T$4:$W$678,MATCH($X16&AF$3,INDEX($T$4:$T$678&$V$4:$V$678,),0),MATCH("施設名",$T$3:$W$3,0)),"") | ... AI16: =IFERROR(INDEX($T$4:$W$678,MATCH($X16&AI$3,INDEX($T$4:$T$678&$V$4:$V$678,),0),MATCH("施設名",$T$3:$W$3,0)),"") -> 0
... A64: 200129 | B64: 01私立 | C64: 01保育所 | D64: 保 | E64: 北区 | F64: 屯田南保育園 | J64: 40 | K64: 0 | L64: 24 | M64: 2 | N64: 14 | O64: =SUM(テーブル1[[#This Row],[列11]:[列12]]) -> 16 | R64: =SUM(K64,L64,O64) -> 40 | S64: =A64 -> 200129 | T64: =COUNTIF($V$4:V64,V64) -> 27 | U64: =IF(T64=1,COUNTIF($T$4:T64,1),"") | V64: ='施設状況(要更新)'!$E64&'施設状況(要更新)'!$C64 -> 北区01保育所 | W64: ='施設状況(要更新)'!$F64 -> 屯田南保育園 | X64: 60 | Y64: =IFERROR(INDEX($T$4:$W$678,MATCH($X64&Y$3,INDEX($T$4:$T$678&$V$4:$V$678,),0),MATCH("施設名",$T$3:$W$3,0)),"") | Z64: =IFERROR(INDEX($T$4:$W$678,MATCH($X64&Z$3,INDEX($T$4:$T$678&$V$4:$V$678,),0),MATCH("施設名",$T$3:$W$3,0)),"") | AA64: =IFERROR(INDEX($T$4:$W$678,MATCH($X64&AA$3,INDEX($T$4:$T$678&$V$4:$V$678,),0),MATCH("施設名",$T$3:$W$3,0)),"") | AB64: =IFERROR(INDEX($T$4:$W$678,MATCH($X64&AB$3,INDEX($T$4:$T$678&$V$4:$V$678,),0),MATCH("施設名",$T$3:$W$3,0)),"") | AC64: =IFERROR(INDEX($T$4:$W$678,MATCH($X64&AC$3,INDEX($T$4:$T$678&$V$4:$V$678,),0),MATCH("施設名",$T$3:$W$3,0)),"") | AD64: =IFERROR(INDEX($T$4:$W$678,MATCH($X64&AD$3,INDEX($T$4:$T$678&$V$4:$V$678,),0),MATCH("施設名",$T$3:$W$3,0)),"") | AE64: =IFERROR(INDEX($T$4:$W$678,MATCH($X64&AE$3,INDEX($T$4:$T$678&$V$4:$V$678,),0),MATCH("施設名",$T$3:$W$3,0)),"") | AF64: =IFERROR(INDEX($T$4:$W$678,MATCH($X64&AF$3,INDEX($T$4:$T$678&$V$4:$V$678,),0),MATCH("施設名",$T$3:$W$3,0)),"") | ... AI64: =IFERROR(INDEX($T$4:$W$678,MATCH($X64&AI$3,INDEX($T$4:$T$678&$V$4:$V$678,),0),MATCH("施設名",$T$3:$W$3,0)),"") -> 0
A65: 300004 | B65: 01私立 | C65: 01保育所 | D65: 保 | E65: 東区 | F65: 札苗保育園 | J65: 70 | K65: 0 | L65: 39 | M65: 7 | N65: 24 | O65: =SUM(テーブル1[[#This Row],[列11]:[列12]]) -> 31 | R65: =SUM(K65,L65,O65) -> 70 | S65: =A65 -> 300004 | T65: =COUNTIF($V$4:V65,V65) -> 1 | U65: =IF(T65=1,COUNTIF($T$4:T65,1),"") -> 3 | V65: ='施設状況(要更新)'!$E65&'施設状況(要更新)'!$C65 -> 東区01保育所 | W65: ='施設状況(要更新)'!$F65 -> 札苗保育園
A66: 300005 | B66: 01私立 | C66: 01保育所 | D66: 保 | E66: 東区 | F66: 元町にこにこ保育園 | J66: 90 | K66: 0 | L66: 52 | M66: 10 | N66: 28 | O66: =SUM(テーブル1[[#This Row],[列11]:[列12]]) -> 38 | R66: =SUM(K66,L66,O66) -> 90 | S66: =A66 -> 300005 | T66: =COUNTIF($V$4:V66,V66) -> 2 | U66: =IF(T66=1,COUNTIF($T$4:T66,1),"") | V66: ='施設状況(要更新)'!$E66&'施設状況(要更新)'!$C66 -> 東区01保育所 | W66: ='施設状況(要更新)'!$F66 -> 元町にこにこ保育園
A67: 300009 | B67: 01私立 | C67: 01保育所 | D67: 保 | E67: 東区 | F67: 札苗北保育園 | J67: 90 | K67: 0 | L67: 50 | M67: 9 | N67: 31 | O67: =SUM(テーブル1[[#This Row],[列11]:[列12]]) -> 40 | R67: =SUM(K67,L67,O67) -> 90 | S67: =A67 -> 300009 | T67: =COUNTIF($V$4:V67,V67) -> 3 | U67: =IF(T67=1,COUNTIF($T$4:T67,1),"") | V67: ='施設状況(要更新)'!$E67&'施設状況(要更新)'!$C67 -> 東区01保育所 | W67: ='施設状況(要更新)'!$F67 -> 札苗北保育園
A68: 300010 | B68: 01私立 | C68: 01保育所 | D68: 保 | E68: 東区 | F68: ちゃいれっく北８条東保育園 | J68: 60 | K68: 0 | L68: 33 | M68: 6 | N68: 21 | O68: =SUM(テーブル1[[#This Row],[列11]:[列12]]) -> 27 | R68: =SUM(K68,L68,O68) -> 60 | S68: =A68 -> 300010 | T68: =COUNTIF($V$4:V68,V68) -> 4 | U68: =IF(T68=1,COUNTIF($T$4:T68,1),"") | V68: ='施設状況(要更新)'!$E68&'施設状況(要更新)'!$C68 -> 東区01保育所 | W68: ='施設状況(要更新)'!$F68 -> ちゃいれっく北８条東保育園
A69: 300012 | B69: 01私立 | C69: 01保育所 | D69: 保 | E69: 東区 | F69: 苗穂保育園 | J69: 94 | K69: 0 | L69: 48 | M69: 10 | N69: 32 | O69: =SUM(テーブル1[[#This Row],[列11]:[列12]]) -> 42 | R69: =SUM(K69,L69,O69) -> 90 | S69: =A69 -> 300012 | T69: =COUNTIF($V$4:V69,V69) -> 5 | U69: =IF(T69=1,COUNTIF($T$4:T69,1),"") | V69: ='施設状況(要更新)'!$E69&'施設状況(要更新)'!$C69 -> 東区01保育所 | W69: ='施設状況(要更新)'!$F69 -> 苗穂保育園
A70: 300014 | B70: 01私立 | C70: 01保育所 | D70: 保 | E70: 東区 | F70: 札幌第２福ちゃん保育園 | J70: 90 | K70: 0 | L70: 48 | M70: 13 | N70: 29 | O70: =SUM(テーブル1[[#This Row],[列11]:[列12]]) -> 42 | R70: =SUM(K70,L70,O70) -> 90 | S70: =A70 -> 300014 | T70: =COUNTIF($V$4:V70,V70) -> 6 | U70: =IF(T70=1,COUNTIF($T$4:T70,1),"") | V70: ='施設状況(要更新)'!$E70&'施設状況(要更新)'!$C70 -> 東区01保育所 | W70: ='施設状況(要更新)'!$F70 -> 札幌第２福ちゃん保育園
A71: 300016 | B71: 01私立 | C71: 01保育所 | D71: 保 | E71: 東区 | F71: 札幌厚成福祉会第二保育所 | J71: 90 | K71: 0 | L71: 54 | M71: 6 | N71: 30 | O71: =SUM(テーブル1[[#This Row],[列11]:[列12]]) -> 36 | R71: =SUM(K71,L71,O71) -> 90 | S71: =A71 -> 300016 | T71: =COUNTIF($V$4:V71,V71) -> 7 | U71: =IF(T71=1,COUNTIF($T$4:T71,1),"") | V71: ='施設状況(要更新)'!$E71&'施設状況(要更新)'!$C71 -> 東区01保育所 | W71: ='施設状況(要更新)'!$F71 -> 札幌厚成福祉会第二保育所
A72: 300019 | B72: 01私立 | C72: 01保育所 | D72: 保 | E72: 東区 | F72: 明園保育園 | J72: 120 | K72: 0 | L72: 69 | M72: 12 | N72: 39 | O72: =SUM(テーブル1[[#This Row],[列11]:[列12]]) -> 51 | R72: =SUM(K72,L72,O72) -> 120 | S72: =A72 -> 300019 | T72: =COUNTIF($V$4:V72,V72) -> 8 | U72: =IF(T72=1,COUNTIF($T$4:T72,1),"") | V72: ='施設状況(要更新)'!$E72&'施設状況(要更新)'!$C72 -> 東区01保育所 | W72: ='施設状況(要更新)'!$F72 -> 明園保育園
A73: 300021 | B73: 01私立 | C73: 01保育所 | D73: 保 | E73: 東区 | F73: はらっぱ保育園 | J73: 120 | K73: 0 | L73: 71 | M73: 8 | N73: 41 | O73: =SUM(テーブル1[[#This Row],[列11]:[列12]]) -> 49 | R73: =SUM(K73,L73,O73) -> 120 | S73: =A73 -> 300021 | T73: =COUNTIF($V$4:V73,V73) -> 9 | U73: =IF(T73=1,COUNTIF($T$4:T73,1),"") | V73: ='施設状況(要更新)'!$E73&'施設状況(要更新)'!$C73 -> 東区01保育所 | W73: ='施設状況(要更新)'!$F73 -> はらっぱ保育園
A74: 300023 | B74: 01私立 | C74: 01保育所 | D74: 保 | E74: 東区 | F74: 心の里親保育園 | J74: 60 | K74: 0 | L74: 30 | M74: 10 | N74: 20 | O74: =SUM(テーブル1[[#This Row],[列11]:[列12]]) -> 30 | R74: =SUM(K74,L74,O74) -> 60 | S74: =A74 -> 300023 | T74: =COUNTIF($V$4:V74,V74) -> 10 | U74: =IF(T74=1,COUNTIF($T$4:T74,1),"") | V74: ='施設状況(要更新)'!$E74&'施設状況(要更新)'!$C74 -> 東区01保育所 | W74: ='施設状況(要更新)'!$F74 -> 心の里親保育園
A75: 300024 | B75: 01私立 | C75: 01保育所 | D75: 保 | E75: 東区 | F75: 元町保育園 | J75: 60 | K75: 0 | L75: 30 | M75: 10 | N75: 20 | O75: =SUM(テーブル1[[#This Row],[列11]:[列12]]) -> 30 | R75: =SUM(K75,L75,O75) -> 60 | S75: =A75 -> 300024 | T75: =COUNTIF($V$4:V75,V75) -> 11 | U75: =IF(T75=1,COUNTIF($T$4:T75,1),"") | V75: ='施設状況(要更新)'!$E75&'施設状況(要更新)'!$C75 -> 東区01保育所 | W75: ='施設状況(要更新)'!$F75 -> 元町保育園
A76: 300027 | B76: 01私立 | C76: 01保育所 | D76: 保 | E76: 東区 | F76: モエレはとポッポ保育園 | J76: 100 | K76: 0 | L76: 49 | M76: 9 | N76: 32 | O76: =SUM(テーブル1[[#This Row],[列11]:[列12]]) -> 41 | R76: =SUM(K76,L76,O76) -> 90 | S76: =A76 -> 300027 | T76: =COUNTIF($V$4:V76,V76) -> 12 | U76: =IF(T76=1,COUNTIF($T$4:T76,1),"") | V76: ='施設状況(要更新)'!$E76&'施設状況(要更新)'!$C76 -> 東区01保育所 | W76: ='施設状況(要更新)'!$F76 -> モエレはとポッポ保育園
... A177: 750009 | B177: 01私立 | C177: 01保育所 | D177: 保 | E177: 手稲区 | F177: さより第２保育園 | J177: 100 | K177: 0 | L177: 48 | M177: 6 | N177: 26 | O177: =SUM(テーブル1[[#This Row],[列11]:[列12]]) -> 32 | R177: =SUM(K177,L177,O177) -> 80 | S177: =A177 -> 750009 | T177: =COUNTIF($V$4:V177,V177) -> 3 | U177: =IF(T177=1,COUNTIF($T$4:T177,1),"") | V177: ='施設状況(要更新)'!$E177&'施設状況(要更新)'!$C177 -> 手稲区01保育所 | W177: ='施設状況(要更新)'!$F177 -> さより第２保育園
A178: 750013 | B178: 01私立 | C178: 01保育所 | D178: 保 | E178: 手稲区 | F178: つくし保育園 | J178: 80 | K178: 0 | L178: 41 | M178: 13 | N178: 26 | O178: =SUM(テーブル1[[#This Row],[列11]:[列12]]) -> 39 | P178: 20 | R178: =SUM(K178,L178,O178) -> 80 | S178: =A178 -> 750013 | T178: =COUNTIF($V$4:V178,V178) -> 4 | U178: =IF(T178=1,COUNTIF($T$4:T178,1),"") | V178: ='施設状況(要更新)'!$E178&'施設状況(要更新)'!$C178 -> 手稲区01保育所 | W178: ='施設状況(要更新)'!$F178 -> つくし保育園
A179: 750014 | B179: 01私立 | C179: 01保育所 | D179: 保 | E179: 手稲区 | F179: 札幌北陽保育園 | J179: 100 | K179: 0 | L179: 55 | M179: 6 | N179: 29 | O179: =SUM(テーブル1[[#This Row],[列11]:[列12]]) -> 35 | R179: =SUM(K179,L179,O179) -> 90 | S179: =A179 -> 750014 | T179: =COUNTIF($V$4:V179,V179) -> 5 | U179: =IF(T179=1,COUNTIF($T$4:T179,1),"") | V179: ='施設状況(要更新)'!$E179&'施設状況(要更新)'!$C179 -> 手稲区01保育所 | W179: ='施設状況(要更新)'!$F179 -> 札幌北陽保育園
A180: 750016 | B180: 01私立 | C180: 01保育所 | D180: 保 | E180: 手稲区 | F180: あすかぜ保育園 | J180: 60 | K180: 0 | L180: 33 | M180: 6 | N180: 21 | O180: =SUM(テーブル1[[#This Row],[列11]:[列12]]) -> 27 | R180: =SUM(K180,L180,O180) -> 60 | S180: =A180 -> 750016 | T180: =COUNTIF($V$4:V180,V180) -> 6 | U180: =IF(T180=1,COUNTIF($T$4:T180,1),"") | V180: ='施設状況(要更新)'!$E180&'施設状況(要更新)'!$C180 -> 手稲区01保育所 | W180: ='施設状況(要更新)'!$F180 -> あすかぜ保育園
A181: 750034 | B181: 01私立 | C181: 01保育所 | D181: 保 | E181: 手稲区 | F181: 手稲桃の花保育園 | J181: 35 | K181: 0 | L181: 19 | M181: 4 | N181: 12 | O181: =SUM(テーブル1[[#This Row],[列11]:[列12]]) -> 16 | R181: =SUM(K181,L181,O181) -> 35 | S181: =A181 -> 750034 | T181: =COUNTIF($V$4:V181,V181) -> 7 | U181: =IF(T181=1,COUNTIF($T$4:T181,1),"") | V181: ='施設状況(要更新)'!$E181&'施設状況(要更新)'!$C181 -> 手稲区01保育所 | W181: ='施設状況(要更新)'!$F181 -> 手稲桃の花保育園
A182: 750043 | B182: 01私立 | C182: 01保育所 | D182: 保 | E182: 手稲区 | F182: 富丘バオバブ保育園 | J182: 40 | K182: 0 | L182: 24 | M182: 2 | N182: 14 | O182: =SUM(テーブル1[[#This Row],[列11]:[列12]]) -> 16 | R182: =SUM(K182,L182,O182) -> 40 | S182: =A182 -> 750043 | T182: =COUNTIF($V$4:V182,V182) -> 8 | U182: =IF(T182=1,COUNTIF($T$4:T182,1),"") | V182: ='施設状況(要更新)'!$E182&'施設状況(要更新)'!$C182 -> 手稲区01保育所 | W182: ='施設状況(要更新)'!$F182 -> 富丘バオバブ保育園
A183: 750047 | B183: 01私立 | C183: 01保育所 | D183: 保 | E183: 手稲区 | F183: スター保育園前田園 | J183: 60 | K183: 0 | L183: 35 | M183: 3 | N183: 22 | O183: =SUM(テーブル1[[#This Row],[列11]:[列12]]) -> 25 | R183: =SUM(K183,L183,O183) -> 60 | S183: =A183 -> 750047 | T183: =COUNTIF($V$4:V183,V183) -> 9 | U183: =IF(T183=1,COUNTIF($T$4:T183,1),"") | V183: ='施設状況(要更新)'!$E183&'施設状況(要更新)'!$C183 -> 手稲区01保育所 | W183: ='施設状況(要更新)'!$F183 -> スター保育園前田園
A184: 750048 | B184: 01私立 | C184: 01保育所 | D184: 保 | E184: 手稲区 | F184: 新発寒みつばち保育園 | J184: 40 | K184: 0 | L184: 24 | M184: 2 | N184: 14 | O184: =SUM(テーブル1[[#This Row],[列11]:[列12]]) -> 16 | R184: =SUM(K184,L184,O184) -> 40 | S184: =A184 -> 750048 | T184: =COUNTIF($V$4:V184,V184) -> 10 | U184: =IF(T184=1,COUNTIF($T$4:T184,1),"") | V184: ='施設状況(要更新)'!$E184&'施設状況(要更新)'!$C184 -> 手稲区01保育所 | W184: ='施設状況(要更新)'!$F184 -> 新発寒みつばち保育園
A185: 750049 | B185: 01私立 | C185: 01保育所 | D185: 保 | E185: 手稲区 | F185: 手稲みつばち保育園 | J185: 40 | K185: 0 | L185: 24 | M185: 2 | N185: 14 | O185: =SUM(テーブル1[[#This Row],[列11]:[列12]]) -> 16 | R185: =SUM(K185,L185,O185) -> 40 | S185: =A185 -> 750049 | T185: =COUNTIF($V$4:V185,V185) -> 11 | U185: =IF(T185=1,COUNTIF($T$4:T185,1),"") | V185: ='施設状況(要更新)'!$E185&'施設状況(要更新)'!$C185 -> 手稲区01保育所 | W185: ='施設状況(要更新)'!$F185 -> 手稲みつばち保育園
A186: 750050 | B186: 01私立 | C186: 01保育所 | D186: 保 | E186: 手稲区 | F186: 手稲中央さら～れ保育園 | J186: 40 | K186: 0 | L186: 24 | M186: 2 | N186: 14 | O186: =SUM(テーブル1[[#This Row],[列11]:[列12]]) -> 16 | R186: =SUM(K186,L186,O186) -> 40 | S186: =A186 -> 750050 | T186: =COUNTIF($V$4:V186,V186) -> 12 | U186: =IF(T186=1,COUNTIF($T$4:T186,1),"") | V186: ='施設状況(要更新)'!$E186&'施設状況(要更新)'!$C186 -> 手稲区01保育所 | W186: ='施設状況(要更新)'!$F186 -> 手稲中央さら～れ保育園
A187: 100016 | B187: 02公設民営 | C187: 01保育所 | D187: 保 | E187: 中央区 | F187: 札幌市大通保育園 | J187: 60 | K187: 0 | L187: 36 | M187: 6 | N187: 18 | O187: =SUM(テーブル1[[#This Row],[列11]:[列12]]) -> 24 | R187: =SUM(K187,L187,O187) -> 60 | S187: =A187 -> 100016 | T187: =COUNTIF($V$4:V187,V187) -> 35 | U187: =IF(T187=1,COUNTIF($T$4:T187,1),"") | V187: ='施設状況(要更新)'!$E187&'施設状況(要更新)'!$C187 -> 中央区01保育所 | W187: ='施設状況(要更新)'!$F187 -> 札幌市大通保育園
...

Sheet 休日情報(要更新)
A1: 【祝日情報】
A2: 当該シートに祝日を入力すると、利用状況表で対応する日が「赤表示」になります。
A3: 2022 | C3: =A3+1 -> 2023 | E3: =C3+1 -> 2024 | G3: =E3+1 -> 2025 | I3: =G3+1 -> 2026
A4: 日付 | B4: 祝日名 | C4: =A4 -> 日付 | D4: =B4 -> 祝日名 | E4: =C4 -> 日付 | F4: =D4 -> 祝日名 | G4: =E4 -> 日付 | H4: =F4 -> 祝日名 | I4: =G4 -> 日付 | J4: =H4 -> 祝日名
A5: 44562 | B5: 元日 | C5: 44927 | D5: 元日 | E5: 45292 | F5: 元日 | G5: 45658 | H5: 元日
A6: 44571 | B6: 成人の日 | C6: 44928 | D6: 振替休日（元日） | E6: 45299 | F6: 成人の日 | G6: 45670 | H6: 成人の日
A7: 44603 | B7: 建国記念の日 | C7: 44935 | D7: 成人の日 | E7: 45333 | F7: 建国記念の日 | G7: 45699 | H7: 建国記念の日
A8: 44615 | B8: 天皇誕生日 | C8: 44968 | D8: 建国記念の日 | E8: 45334 | F8: 振替休日（建国記念の日） | G8: 45711 | H8: 天皇誕生日
A9: 44641 | B9: 春分の日 | C9: 44980 | D9: 天皇誕生日 | E9: 45345 | F9: 天皇誕生日 | G9: 45712 | H9: 振替休日（天皇誕生日）
A10: 44680 | B10: 昭和の日 | C10: 45006 | D10: 春分の日 | E10: 45371 | F10: 春分の日 | G10: 45736 | H10: 春分の日
A11: 44684 | B11: 憲法記念日 | C11: 45045 | D11: 昭和の日 | E11: 45411 | F11: 昭和の日 | G11: 45776 | H11: 昭和の日
A12: 44685 | B12: みどりの日 | C12: 45049 | D12: 憲法記念日 | E12: 45415 | F12: 憲法記念日 | G12: 45780 | H12: 憲法記念日
A13: 44686 | B13: こどもの日 | C13: 45050 | D13: みどりの日 | E13: 45416 | F13: みどりの日 | G13: 45781 | H13: みどりの日
A14: 44760 | B14: 海の日 | C14: 45051 | D14: こどもの日 | E14: 45417 | F14: こどもの日 | G14: 45782 | H14: こどもの日
A15: 44784 | B15: 山の日 | C15: 45124 | D15: 海の日 | E15: 45418 | F15: 振替休日（こどもの日） | G15: 45783 | H15: 振替休日（みどりの日）
A16: 44823 | B16: 敬老の日 | C16: 45149 | D16: 山の日 | E16: 45488 | F16: 海の日 | G16: 45859 | H16: 海の日
... A21: 44926 | B21: ※土曜日 | C21: 45253 | D21: 勤労感謝の日 | E21: 45558 | F21: 振替休日（秋分の日） | G21: 45964 | H21: 文化の日
C22: 45290 | D22: ※土曜日 | E22: 45579 | F22: スポーツの日 | G22: 45984 | H22: 勤労感謝の日
E23: 45599 | F23: 文化の日 | G23: 45985 | H23: 振替休日（勤労感謝の日）
E24: 45600 | F24: 振替休日（文化の日）
E25: 45619 | F25: 勤労感謝の日

Sheet チーム保育単価(要更新)
A2: 定員区分 | C2: チーム保育推進加算
C4: 単価 | E4: 加配人数 | G4: 処遇改善等加算Ⅰ | I4: 基礎分 | K4: 加配人数 | M4: 加算額
A7: 20人 | B7: 1 | C7: 20650 | D7: × | E7: =【様式１】総括表・個票!J127 -> × | F7: ＋ | G7: 200 | H7: × | I7: 12 | J7: ＋ | K7: =E7 -> × | L7: ＝ | M7: =C7*E7+G7*I7*K7 -> #VALUE!
A11: 21人 から 30人 まで | B11: 21 | C11: 13760 | D11: × | E11: =E7 -> × | F11: ＋ | G11: 130 | H11: × | I11: =I7 -> 12 | J11: ＋ | K11: =E11 -> × | L11: ＝ | M11: =C11*E11+G11*I11*K11 -> #VALUE!
A15: 31人 から 40人 まで | B15: 31 | C15: 10320 | D15: × | E15: =E11 -> × | F15: ＋ | G15: 100 | H15: × | I15: =I11 -> 12 | J15: ＋ | K15: =E15 -> × | L15: ＝ | M15: =C15*E15+G15*I15*K15 -> #VALUE!
A19: 41人 から 50人 まで | B19: 41 | C19: 8260 | D19: × | E19: =E15 -> × | F19: ＋ | G19: 80 | H19: × | I19: =I15 -> 12 | J19: ＋ | K19: =E19 -> × | L19: ＝ | M19: =C19*E19+G19*I19*K19 -> #VALUE!
A23: 51人 から 60人 まで | B23: 51 | C23: 6880 | D23: × | E23: =E19 -> × | F23: ＋ | G23: 60 | H23: × | I23: =I19 -> 12 | J23: ＋ | K23: =E23 -> × | L23: ＝ | M23: =C23*E23+G23*I23*K23 -> #VALUE!
A27: 61人 から 70人 まで | B27: 61 | C27: 5900 | D27: × | E27: =E23 -> × | F27: ＋ | G27: 50 | H27: × | I27: =I23 -> 12 | J27: ＋ | K27: =E27 -> × | L27: ＝ | M27: =C27*E27+G27*I27*K27 -> #VALUE!
A31: 71人 から 80人 まで | B31: 71 | C31: 5160 | D31: × | E31: =E27 -> × | F31: ＋ | G31: 50 | H31: × | I31: =I27 -> 12 | J31: ＋ | K31: =E31 -> × | L31: ＝ | M31: =C31*E31+G31*I31*K31 -> #VALUE!
A35: 81人 から 90人 まで | B35: 81 | C35: 4580 | D35: × | E35: =E31 -> × | F35: ＋ | G35: 40 | H35: × | I35: =I31 -> 12 | J35: ＋ | K35: =E35 -> × | L35: ＝ | M35: =C35*E35+G35*I35*K35 -> #VALUE!
A39: 91人 から 100人 まで | B39: 91 | C39: 4130 | D39: × | E39: =E35 -> × | F39: ＋ | G39: 40 | H39: × | I39: =I35 -> 12 | J39: ＋ | K39: =E39 -> × | L39: ＝ | M39: =C39*E39+G39*I39*K39 -> #VALUE!
A43: 101人 から 110人 まで | B43: 101 | C43: 3750 | D43: × | E43: =E39 -> × | F43: ＋ | G43: 30 | H43: × | I43: =I39 -> 12 | J43: ＋ | K43: =E43 -> × | L43: ＝ | M43: =C43*E43+G43*I43*K43 -> #VALUE!
A47: 111人 から 120人 まで | B47: 111 | C47: 3440 | D47: × | E47: =E43 -> × | F47: ＋ | G47: 30 | H47: × | I47: =I43 -> 12 | J47: ＋ | K47: =E47 -> × | L47: ＝ | M47: =C47*E47+G47*I47*K47 -> #VALUE!
A51: 121人 から 130人 まで | B51: 121 | C51: 3170 | D51: × | E51: =E47 -> × | F51: ＋ | G51: 30 | H51: × | I51: =I47 -> 12 | J51: ＋ | K51: =E51 -> × | L51: ＝ | M51: =C51*E51+G51*I51*K51 -> #VALUE!
A55: 131人 から 140人 まで | B55: 131 | C55: 2950 | D55: × | E55: =E51 -> × | F55: ＋ | G55: 20 | H55: × | I55: =I51 -> 12 | J55: ＋ | K55: =E55 -> × | L55: ＝ | M55: =C55*E55+G55*I55*K55 -> #VALUE!
... A71: 171人 以上 | B71: 17 | C71: 2290 | D71: × | E71: =E67 -> × | F71: ＋ | G71: 20 | H71: × | I71: =I67 -> 12 | J71: ＋ | K71: =E71 -> × | L71: ＝ | M71: =C71*E71+G71*I71*K71 -> #VALUE!

Sheet 作成方法
B2: 【作成要領・提出書類チェック表】
B4: 黄色 | C4: 直接手入力してください。
B5: 橙色 | C5: ドロップダウンで選択。
B6: 水色 | C6: 札幌市で入力済の内容です。変更がある場合は、申し出ください。
B7: 白色 | C7: 入力不可
B9: 【提出方法】
B10: ＜Excelデータ 提出先＞
B11: アドレス | C11: kyufuhi@city.sapporo.jp
B12: メール件名 | C12: =IF(【様式１】総括表・個票!$D$12="","※園名を選択",CONCATENATE("【加算申請】",VLOOKUP(【様式１】総括表・個票!$D$12,'施設状況(要更新)'!$F$4:$S$678,14,FALSE),【様式１】総括表・個票!$D$12)) -> ※園名を選択 | D12: ←（【様式１】で園名を選ぶと反映）
B13: パスワード | C13: 29hoiku86 | D13: ← Excelデータをこちらのパスワードで
D14: zipファイル化して、メールに添付してください。
B15: ＜添付書類 郵送先＞
B16: 〒060-0051 | D16: ←「【別添】添付書類の表紙」を付けて郵送してください。
B17: 札幌市中央区南１条東１丁目 大通バスセンタービル３階 | D17: （右隣のシート）
B18: 子ども未来局子育て支援部施設運営課給付係 TEL 011-211-3027
B20: 【お問い合わせについて】
B21: メールでのお問い合わせにご協力ください。（様式の入力がうまくいかない等、データをこちらで確認する必要がある場合はデータも添付してください。）
B22: アドレス | C22: kyufuhi@city.sapporo.jp
B23: メール件名 | C23: =IF(【様式１】総括表・個票!$D$12="","※園名を選択",CONCATENATE("【加算問い合わせ】",VLOOKUP(【様式１】総括表・個票!$D$12,'施設状況(要更新)'!$F$4:$S$678,14,FALSE),【様式１】総括表・個票!$D$12)) -> ※園名を選択 | D23: ←（【様式１】で園名を選ぶと反映）
B25: 【作成にあたって】
B26: 項目 | C26: 説明
B27: 作成ソフト | C27: 本様式はExcel2016（Microsoft社）で作成しておりますので、Excel2016以降での作成を推奨します。このため、Excel2016未満のバージョン（2010、2003等）及びMicrosoft社製以外の表計算ソフト（Kingsoft、Numbers等）での動作は保証いたしません。
B28: 作成手順 | C28: (0) （前月分を作成済みの場合）ファイルをコピーして別名で保存
C29: (1) 様式1(総括表)：申請月、所在区、施設名入力→利用定員が正しいか確認
C30: (2) 様式1(個票)：申請する加算入力(一部様式2～5の入力状況を引用)
C31: (3) 別紙1～7：必要に応じて入力
C32: (4) 様式2：月初日時点の職員配置を入力
C33: (5) 様式3：非常勤職員がいる場合は、該当月の勤務予定時間を入力
C34: (6) 様式4：クラス編成状況を記載
C35: (7) 様式5：初日児童数、基本配置・加算・補助金対象職員選択
C36: (8) 様式1：様式2～5入力後に選択できる箇所が一部あるため再度確認(チーム保育加配等)
C37: (9) 様式6：年度開始月(4月)～申請月までを埋める
B38: 参考資料 | C38: ・ 依頼文 （各月分の申請期限はこちらでご確認ください。）
C39: ・ 様式内の「作成方法」シート、各シート印刷範囲外の説明書き
C40: ・ 加算・調整項目申請書作成要領 （依頼時に送付）
C41: ・ 国通知「特定教育・保育等に要する費用の額の算定に関する基準等の改正に伴う実施上の留意事項について」 （令和5年2月20日改正） 内閣府HP：https://www8.cao.go.jp/shoushi/shinseido/law/tsuuchi.html

Sheet 【別添】添付書類の表紙
B1: 【お問い合わせについて】 | E1: 月 | F1: 施設コード | G1: 施設名
B2: アドレス | C2: kyufuhi@city.sapporo.jp | E2: =【様式１】総括表・個票!I10&"月" -> 月 | F2: =VLOOKUP(【様式１】総括表・個票!D12,'施設状況(要更新)'!$F$4:$S$189,14,FALSE) -> #N/A | G2: =【様式１】総括表・個票!D12 -> 0
B3: メール件名 | C3: ="【問合せ】"&E2&"加算"&F2&G2 -> #N/A | D3: ←メールの件名はこちらをコピーして使用してください。
B4: ※問い合わせの際は、作成途中の申請書（エクセル）を一緒に添付してください。
B5: 【提出先】
B6: アドレス | C6: kyufuhi@city.sapporo.jp
B7: メール件名 | C7: ="【提出】"&E2&"加算"&F2&G2 -> #N/A | D7: ←メールの件名はこちらをコピーして使用してください。
B8: パスワード | C8: 29hoiku86 | D8: ←Excelデータをこちらのパスワードでお願いします。
B9: エクセルデータの名前 | C9: =E2&"加算"&F2&G2 -> #N/A | D9: ←申請書（エクセル）の名前はこちらをコピーして使用してください。
B10: 添付書類（PDF)の名前 | C10: 以下のリストから名前をコピーしてください。
C14: 添付書類が必要な加算 | D14: 挙証書類の名前
B15: 添付書類① | C15: {=IFERROR(INDIRECT("G"&SMALL($J$16:$J$28,ROW()/3-4)),"")} -> 休日保育加算 | D15: =IF($C$15="","",$F$2&"_"&C15&"添付書類①") -> #N/A | G15: 添付書類が必要な加算 | H15: 適用可否 | I15: 変換 | J15: 判定
D16: =IF($C$15="","",$F$2&"_"&C15&"添付書類②") -> #N/A | E16: =C15="" -> FALSE | G16: 休日保育加算 | H16: =INDEX(【様式１】総括表・個票!$B$18:$B$41,MATCH(G16,【様式１】総括表・個票!$F$18:F$41,0)) -> 適用月エラー | I16: =IF(H16="エラー","×","○") -> ○ | J16: =IF(I16="○",ROW(),"") -> 16
D17: =IF($C$15="","",$F$2&"_"&C15&"添付書類③") -> #N/A | E17: =E16 -> FALSE | G17: 減価償却費加算 | H17: =INDEX(【様式１】総括表・個票!$B$18:$B$41,MATCH(G17,【様式１】総括表・個票!$F$18:F$41,0)) -> 適用月エラー | I17: =H17 -> 適用月エラー | J17: =IF(I17="○",ROW(),"")
B18: 添付書類② | C18: {=IFERROR(INDIRECT("G"&SMALL($J$16:$J$28,ROW()/3-4)),"")} | D18: =IF($C$15="","",$F$2&"_"&C18&"添付書類①") -> #N/A | E18: =E16 -> FALSE | G18: 賃借料加算 | H18: =INDEX(【様式１】総括表・個票!$B$18:$B$41,MATCH(G18,【様式１】総括表・個票!$F$18:F$41,0)) -> 適用月エラー | I18: =H18 -> 適用月エラー | J18: =IF(I18="○",ROW(),"")
D19: =IF($C$15="","",$F$2&"_"&C18&"添付書類②") -> #N/A | E19: =C18="" -> TRUE | G19: 施設長を配置していない場合(減算） | H19: =INDEX(【様式１】総括表・個票!$B$18:$B$41,MATCH(G19,【様式１】総括表・個票!$F$18:F$41,0)) -> 適用月エラー | I19: =IF(H19="×","○","×") -> × | J19: =IF(I19="○",ROW(),"")
D20: =IF($C$15="","",$F$2&"_"&C18&"添付書類③") -> #N/A | E20: =E19 -> TRUE | G20: 主任保育士専任加算 | H20: =INDEX(【様式１】総括表・個票!$B$18:$B$41,MATCH(G20,【様式１】総括表・個票!$F$18:F$41,0)) -> 適用月エラー | I20: =H20 -> 適用月エラー | J20: =IF(I20="○",ROW(),"")
B21: 添付書類③ | C21: {=IFERROR(INDIRECT("G"&SMALL($J$16:$J$28,ROW()/3-4)),"")} | D21: =IF($C$15="","",$F$2&"_"&C21&"添付書類①") -> #N/A | E21: =E19 -> TRUE | G21: 療育支援加算 | H21: =INDEX(【様式１】総括表・個票!$B$18:$B$41,MATCH(G21,【様式１】総括表・個票!$F$18:F$41,0)) -> 適用月エラー | I21: =IF(OR(H21="特児",H21="その他"),"○","×") -> × | J21: =IF(I21="○",ROW(),"")
D22: =IF($C$15="","",$F$2&"_"&C21&"添付書類②") -> #N/A | E22: =C21="" -> TRUE | G22: 事務職員雇上費加算 | H22: =INDEX(【様式１】総括表・個票!$B$18:$B$41,MATCH(G22,【様式１】総括表・個票!$F$18:F$41,0)) -> 適用月エラー | I22: =H22 -> 適用月エラー | J22: =IF(I22="○",ROW(),"")
D23: =IF($C$15="","",$F$2&"_"&C21&"添付書類③") -> #N/A | E23: =E22 -> TRUE | G23: 栄養管理加算 | H23: =INDEX(【様式１】総括表・個票!$B$18:$B$41,MATCH(G23,【様式１】総括表・個票!$F$18:F$41,0)) -> 適用月エラー | I23: =IF(H23="×","×",IF(H23="適用月エラー","×","○")) -> × | J23: =IF(I23="○",ROW(),"")
B24: 添付書類④ | C24: {=IFERROR(INDIRECT("G"&SMALL($J$16:$J$28,ROW()/3-4)),"")} | D24: =IF($C$15="","",$F$2&"_"&C24&"添付書類①") -> #N/A | E24: =E22 -> TRUE
D25: =IF($C$15="","",$F$2&"_"&C24&"添付書類②") -> #N/A | E25: =C24="" -> TRUE
D26: =IF($C$15="","",$F$2&"_"&C24&"添付書類③") -> #N/A | E26: =E25 -> TRUE
B27: 添付書類⑤ | C27: {=IFERROR(INDIRECT("G"&SMALL($J$16:$J$28,ROW()/3-4)),"")} | D27: =IF($C$15="","",$F$2&"_"&C27&"添付書類①") -> #N/A | E27: =E25 -> TRUE
D28: =IF($C$15="","",$F$2&"_"&C27&"添付書類②") -> #N/A | E28: =C27="" -> TRUE
D29: =IF($C$15="","",$F$2&"_"&C27&"添付書類③") -> #N/A | E29: =E28 -> TRUE
B30: 添付書類⑥ | C30: {=IFERROR(INDIRECT("G"&SMALL($J$16:$J$28,ROW()/3-4)),"")} | D30: =IF($C$15="","",$F$2&"_"&C30&"添付書類①") -> #N/A | E30: =E28 -> TRUE
D31: =IF($C$15="","",$F$2&"_"&C30&"添付書類②") -> #N/A | E31: =C30="" -> TRUE
D32: =IF($C$15="","",$F$2&"_"&C30&"添付書類③") -> #N/A | E32: =E31 -> TRUE
B33: 添付書類⑦ | C33: {=IFERROR(INDIRECT("G"&SMALL($J$16:$J$28,ROW()/3-4)),"")} | D33: =IF($C$15="","",$F$2&"_"&C33&"添付書類①") -> #N/A | E33: =E31 -> TRUE
D34: =IF($C$15="","",$F$2&"_"&C33&"添付書類②") -> #N/A | E34: =C33="" -> TRUE
D35: =IF($C$15="","",$F$2&"_"&C33&"添付書類③") -> #N/A | E35: =E34 -> TRUE
B36: 添付書類⑧ | C36: {=IFERROR(INDIRECT("G"&SMALL($J$16:$J$28,ROW()/3-4)),"")} | D36: =IF($C$15="","",$F$2&"_"&C36&"添付書類①") -> #N/A | E36: =E34 -> TRUE
D37: =IF($C$15="","",$F$2&"_"&C36&"添付書類②") -> #N/A | E37: =C36="" -> TRUE
D38: =IF($C$15="","",$F$2&"_"&C36&"添付書類③") -> #N/A | E38: =E37 -> TRUE
B39: 添付書類⑨ | C39: {=IFERROR(INDIRECT("G"&SMALL($J$16:$J$28,ROW()/3-4)),"")} | D39: =IF($C$15="","",$F$2&"_"&C39&"添付書類①") -> #N/A | E39: =E37 -> TRUE
D40: =IF($C$15="","",$F$2&"_"&C39&"添付書類②") -> #N/A | E40: =C39="" -> TRUE
D41: =IF($C$15="","",$F$2&"_"&C39&"添付書類③") -> #N/A | E41: =E40 -> TRUE
B42: 添付書類⑩ | C42: {=IFERROR(INDIRECT("G"&SMALL($J$16:$J$28,ROW()/3-4)),"")} | D42: =IF($C$15="","",$F$2&"_"&C42&"添付書類①") -> #N/A | E42: =E40 -> TRUE
D43: =IF($C$15="","",$F$2&"_"&C42&"添付書類②") -> #N/A | E43: =C42="" -> TRUE
...

Sheet 【様式１】総括表・個票
A1: 【様式１：保育所】 | X1: =AJ2&"様式１"&AJ3 -> 加-23_月申-様式１-保_Ver.2.01 | AJ1: 様式名 | AK1: 西暦 | AL1: 月 | AN1: 所在区 | AO1: 施設種別 | AP1: 選択 | AQ1: 申請 | AR1: 療育 | AS1: チーム | AU1: 給食 | AV1: 定員超過① | AW1: 定員超過② | AX1: 特例
AJ2: ="加-"&MID($AK$2,3,2)&"_"&$I$10&"月"&"申-" -> 加-23_月申- | AK2: 2023 | AO2: 01保育所
A3: =+AK2&"年度施設型給付費等にかかる加算（調整）適用申請書（試算様式）" -> 2023年度施設型給付費等にかかる加算（調整）適用申請書（試算様式） | AJ3: ="-"&MID(AO2,3,1)&IFERROR(VLOOKUP($D$12,'施設状況(要更新)'!$F$4:$S$678,14,FALSE),"")&"_Ver."&TEXT(ver!$B$18,"#.00") -> -保_Ver.2.01 | AK3: =AK2+1 -> 2024 | AL3: 4 | AM3: 1 | AN3: 中央区 | AP3: ○ | AQ3: 申請する | AR3: その他 | AS3: 1 | AT3: =【様式５】職員数算出表!AP3 | AU3: 1 | AV3: 1 | AW3: 定員見直し | AX3: ①
W4: =VLOOKUP(I10,$AL$18:$AM$29,2,0) -> #N/A | AL4: 5 | AM4: 2 | AN4: 北区 | AP4: × | AQ4: 申請しない | AR4: 特児 | AS4: 2 | AT4: =【様式５】職員数算出表!AP4 | AU4: 2 | AV4: 2 | AW4: 受入人数見直し | AX4: ②
A5: （あて先）札幌市長 | AL5: 6 | AM5: 3 | AN5: 東区 | AS5: 3 | AU5: 3 | AV5: 3 | AX5: ③
P6: 法人名 | AL6: 7 | AM6: 4 | AN6: 白石区 | AS6: 3.5 | AU6: 4 | AV6: 4 | AX6: ④
P7: 代表者名 | AL7: 8 | AM7: 5 | AN7: 厚別区 | AS7: 4 | AU7: 5 | AV7: 5
A8: =+" "&AK2&"年度において、下記のとおり申請します。" -> 2023年度において、下記のとおり申請します。 | AL8: 9 | AM8: 6 | AN8: 豊平区 | AS8: 4.5 | AV8: 6
A9: Ⅰ 総括表 | AL9: 10 | AM9: 7 | AN9: 清田区 | AS9: 5 | AV9: 7
A10: 申請月 | D10: =IF(I10>=4,$AK$2,IF(AND($I$10>0,$I$10<=3),$AK$2+1,"")) | G10: 年 | L10: 月現在 | AL10: 11 | AM10: 8 | AN10: 南区 | AS10: 5.5 | AV10: 8
A11: 所在区 | AL11: 12 | AM11: 9 | AN11: 西区 | AS11: 6 | AV11: 9
A12: 施設名 | AL12: 1 | AM12: 10 | AN12: 手稲区 | AS12: 6.5 | AV12: 10
A13: 所在地 | AI13: 2号 | AJ13: 3号 | AL13: 2 | AM13: 11 | AS13: 7 | AV13: 11
A14: 利用定員 | D14: 本園 | F14: 2号 | J14: 名 | K14: 3号 | O14: 名 | P14: 合計 | R14: =H14+M14 -> 0 | T14: 名 | AI14: =VLOOKUP($D$12,'施設状況(要更新)'!$F$4:$R$678,7,FALSE) -> #N/A | AJ14: =VLOOKUP($D$12,'施設状況(要更新)'!$F$4:$R$678,10,FALSE)-AJ15 -> #N/A | AL14: 3 | AM14: 12 | AS14: 7.5 | AV14: 12
D15: 分園 | F15: 2号 | J15: 名 | K15: 3号 | O15: 名 | P15: 合計 | R15: =+H15+M15 -> 0 | T15: 名 | AI15: =VLOOKUP($D$12,'施設状況(要更新)'!$F$4:$R$678,12,FALSE) -> #N/A | AJ15: =VLOOKUP($D$12,'施設状況(要更新)'!$F$4:$R$678,11,FALSE)-$AI$15 -> #N/A | AL15: 0 | AM15: 0 | AS15: 8 | AV15: 13
A16: ↓【判定】…個票を入力することで、申請の有無に「〇」又は該当する区分が表示されます。 | AV16: 14
A17: No. | B17: 申請の有無 | F17: 加算・調整項目 | V17: 加算適用開始(変更)月 | Z17: 備考 | AI17: 適否判定 | AL17: 提出日 | AV17: 15
A18: 0 | B18: =AI18 -> × | F18: 基本配置職員 | AI18: =J54 -> × | AL18: 4 | AM18: 45084 | AV18: 16
A19: 基本加算部分 | V19: ↓加算適用を開始(変更)した月を入力してください。 | AI19: =VLOOKUP($I$10,$AL$3:$AM$15,2,FALSE) -> 0 | AL19: 5 | AM19: =AM18 -> 45084 | AV19: 17
A20: 1 | B20: =IFERROR(IF(AI20,AJ20,"適用月エラー"),"－") -> 適用月エラー | F20: 処遇改善等加算Ⅰ | V20: 4 | AI20: =VLOOKUP(V20,$AL$3:$AM$14,2,FALSE)<=$AI$19 -> FALSE | AJ20: =J70 -> × | AL20: 6 | AM20: =AM19 -> 45084 | AV20: 18
A21: 2 | B21: =IFERROR(IF(AI21,AJ21,"適用月エラー"),"－") -> 適用月エラー | F21: 3歳児配置改善加算 | V21: 4 | AI21: =VLOOKUP(V21,$AL$3:$AM$14,2,FALSE)<=$AI$19 -> FALSE | AJ21: =J75 -> × | AL21: 7 | AM21: 45175 | AV21: 19
A22: 3 | B22: =IFERROR(IF(AI22,AJ22,"適用月エラー"),"－") -> 適用月エラー | F22: 休日保育加算 | V22: 4 | AI22: =VLOOKUP(V22,$AL$3:$AM$14,2,FALSE)<=$AI$19 -> FALSE | AJ22: =J81 -> エラー | AL22: 8 | AM22: =AM21 -> 45175 | AV22: 20
A23: 4 | F23: 夜間保育加算 | Z23: 札幌市に適用施設はありません。 | AL23: 9 | AM23: =AM22 -> 45175 | AV23: 21
A24: 5 | B24: =IFERROR(IF(AI24,AJ24,"適用月エラー"),"－") -> 適用月エラー | F24: 減価償却費加算 | V24: 4 | Z24: 都市部 | AI24: =VLOOKUP(V24,$AL$3:$AM$14,2,FALSE)<=$AI$19 -> FALSE | AJ24: =J104 -> × | AL24: 10 | AM24: 45266 | AV24: 22
A25: 6 | B25: =IFERROR(IF(AI25,AJ25,"適用月エラー"),"－") -> 適用月エラー | F25: 賃借料加算 | V25: 4 | Z25: d地域-都市部 | AI25: =VLOOKUP(V25,$AL$3:$AM$14,2,FALSE)<=$AI$19 -> FALSE | AJ25: =J119 -> × | AL25: 11 | AM25: =AM24 -> 45266 | AV25: 23
A26: 7 | B26: =IFERROR(IF(AI26,AJ26,"適用月エラー"),"－") -> 適用月エラー | F26: チーム保育推進加算 | V26: 4 | AI26: =VLOOKUP(V26,$AL$3:$AM$14,2,FALSE)<=$AI$19 -> FALSE | AJ26: =J127 -> × | AL26: 12 | AM26: =AM25 -> 45266 | AV26: 24
A27: 8 | B27: ○ | F27: 副食費徴収免除加算(２号) | V27: =IF(DATE($AK$2,4,1)>=$AI$194,4,MONTH($AI$194)) -> 4 | Z27: 全月適用 | AL27: 1 | AM27: 44988 | AV27: 25
A28: 加減調整部分 | AL28: 2 | AM28: =AM27 -> 44988 | AV28: 26
A29: 9 | B29: =IFERROR(IF(AI29,AJ29,"適用月エラー"),AJ29) -> 適用月エラー | F29: 分園の場合（減算） | V29: 4 | AI29: =VLOOKUP(V29,$AL$3:$AM$14,2,FALSE)<=$AI$19 -> FALSE | AJ29: =J150 -> × | AL29: 3 | AM29: =AM28 -> 44988 | AV29: 27
A30: 10 | B30: =IFERROR(IF(AI30,AJ30,"適用月エラー"),AJ30) -> 適用月エラー | F30: 施設長を配置していない場合(減算） | V30: 4 | AI30: =VLOOKUP(V30,$AL$3:$AM$14,2,FALSE)<=$AI$19 -> FALSE | AJ30: =J153 -> ○ | AV30: 28
A31: 11 | B31: =IFERROR(IF(AI31,AJ31,"適用月エラー"),AJ31) -> × | F31: 土曜日に閉所する場合（前月分実績は備考欄に記載）(減算） | V31: =I10 -> 0 | Z31: =IF(I10=4,"","前月:"&F184) -> 前月:(変更無)全て → 全て | AI31: =VLOOKUP(V31,$AL$3:$AM$14,2,FALSE)<=$AI$19 -> #N/A | AJ31: =J179 -> × | AV31: 29
A32: 乗除調整部分 | AV32: 30
A33: 12 | B33: =IFERROR(IF(AI33,AJ33,"適用月エラー"),AJ33) -> 未入力エラー | F33: 定員を恒常的に超過する場合(減算） | V33: =IF(I10=0,0,4) -> 0 | Z33: =H218 -> エラー | AI33: =VLOOKUP(V33,$AL$3:$AM$14,2,FALSE)<=$AI$19 -> #N/A | AJ33: =J188 -> 未入力エラー | AV33: 31
A34: 特定加算部分
A35: 13 | B35: =IFERROR(IF(AI35,AJ35,"適用月エラー"),"－") -> 適用月エラー | F35: 主任保育士専任加算 | V35: 4 | AI35: =VLOOKUP(V35,$AL$3:$AM$14,2,FALSE)<=$AI$19 -> FALSE | AJ35: =J222 -> ×
A36: 14 | B36: =IFERROR(IF(AI36,AJ36,"適用月エラー"),"－") -> 適用月エラー | F36: 療育支援加算 | V36: 4 | AI36: =VLOOKUP(V36,$AL$3:$AM$14,2,FALSE)<=$AI$19 -> FALSE | AJ36: =J248 -> ×
A37: 15 | B37: =IFERROR(IF(AI37,AJ37,"適用月エラー"),"－") -> 適用月エラー | F37: 事務職員雇上費加算 | V37: 4 | AI37: =VLOOKUP(V37,$AL$3:$AM$14,2,FALSE)<=$AI$19 -> FALSE | AJ37: =J261 -> ×
A38: 16 | B38: =IFERROR(IF(AI38,AJ38,"適用月エラー"),"－") -> 適用月エラー | F38: 処遇改善等加算Ⅱ | V38: 4 | AI38: =VLOOKUP(V38,$AL$3:$AM$14,2,FALSE)<=$AI$19 -> FALSE | AJ38: =J288 -> ×
A39: 17 | B39: =IFERROR(IF(AI39,AJ39,"適用月エラー"),"－") -> 適用月エラー | F39: 処遇改善等加算Ⅲ | V39: 4 | AI39: =VLOOKUP(V39,$AL$3:$AM$14,2,FALSE)<=$AI$19 -> FALSE | AJ39: =J292 -> ×
A40: 18 | B40: =IFERROR(IF(AI40,AJ40,"適用月エラー"),"－") -> 適用月エラー | F40: 栄養管理加算 | V40: 4 | AI40: =VLOOKUP(V40,$AL$3:$AM$14,2,FALSE)<=$AI$19 -> FALSE | AJ40: =J296 -> ×
...

Sheet (別紙１)施設長設置
A1: 別紙１（「減算：施設長を設置していない場合」の添付書類） | E1: =$I$2&"別紙1-1"&$I$3 -> 加-23_月申-別紙1-1-保_Ver.2.01 | I1: 様式名
I2: =【様式１】総括表・個票!$AJ$2 -> 加-23_月申-
A3: １ 所長の経歴 | I3: =【様式１】総括表・個票!$AJ$3 -> -保_Ver.2.01
A4: 基本情報 | B4: 項目 | C4: 入力欄
B5: 氏名
B6: 生年月日
B7: 年齢
B8: 住所
A9: 学歴 | B9: 年月日 | C9: 学校名と入学・中退・卒業等を記載
A20: 職歴 | B20: 年月日 | C20: 会社名と経歴等を記載
C40: 現施設の施設長に就任～現在に至る
A41: 資格 | B41: 取得年月日 | C41: 資格名等を記載
A53: ２ 同一又は系列園での施設長の重複確認
A54: ・同一又は系列法人内で運営する施設及び事業について全て記載すること。
A55: ・施設の認可の有無は問わない(認可・認可外施設全て含んで、園長を兼務しているかどうかを確認します。)。
A56: No. | B56: 施設名・事業名 | C56: 施設長名 | E56: No. | F56: 施設名・事業名 | G56: 施設長名
A57: 1 | B57: =CONCATENATE(【様式１】総括表・個票!D12) | C57: =CONCATENATE(C5) | E57: 51
A58: 2 | E58: 52
A59: 3 | E59: 53
A60: 4 | E60: 54
A61: 5 | E61: 55
A62: 6 | E62: 56
A63: 7 | E63: 57
A64: 8 | E64: 58
A65: 9 | E65: 59
A66: 10 | E66: 60
A67: 11 | E67: 61
A68: 12 | E68: 62
A69: 13 | E69: 63
... A106: 50 | E106: 100

Sheet (別紙2)土曜閉所
A1: 別紙２（「減算：土曜日に閉所する場合」の添付書類） | F1: =J2&"別紙2"&J3 -> 加-23_月申-別紙2-保_Ver.2.01 | J1: 様式名 | K1: 選択
A2: 毎月分作成する必要があります。また、前月実績の区分が変更となった場合は、前月に遡及して減算を適用します。 | J2: =【様式１】総括表・個票!$AJ$2 -> 加-23_月申-
A3: １ 当該月の利用見込み | C3: =DATE(K4,M4,1) -> #VALUE! | J3: =【様式１】総括表・個票!$AJ$3 -> -保_Ver.2.01 | K3: ○
B4: 土曜日 | C4: 日にち | D4: 平日/祝日 | E4: 利用児童数（見込） | F4: 減算 | K4: =【様式１】総括表・個票!D10 | L4: 年 | M4: =【様式１】総括表・個票!I10 -> 0 | N4: 月
B5: 1 | C5: =HLOOKUP($B5,$K$6:$AO$7,2,FALSE) -> #N/A | D5: =IF(C5="無","×",IF(HLOOKUP($B5,$K$6:$AO$8,3,FALSE)="○","祝日",IF($A5="○","特例","平日"))) -> #N/A | F5: =IF(AND($D5="平日",OR($E5=0,ISTEXT($E5))),"○",IF(AND($D5<>"平日",E5>0),"エラー","")) -> #N/A | J5: 土曜日 | K5: =IF(K7<>"",IF(WEEKDAY(DATE($K$4,$M$4,K$7))=7,1,0),0) -> #VALUE! | L5: =IF(L7<>"",IF(WEEKDAY(DATE($K$4,$M$4,L$7))=7,1,0),0) -> #VALUE! | M5: =IF(M7<>"",IF(WEEKDAY(DATE($K$4,$M$4,M$7))=7,1,0),0) -> #VALUE! | N5: =IF(N7<>"",IF(WEEKDAY(DATE($K$4,$M$4,N$7))=7,1,0),0) -> #VALUE! | O5: =IF(O7<>"",IF(WEEKDAY(DATE($K$4,$M$4,O$7))=7,1,0),0) -> #VALUE! | P5: =IF(P7<>"",IF(WEEKDAY(DATE($K$4,$M$4,P$7))=7,1,0),0) -> #VALUE! | Q5: =IF(Q7<>"",IF(WEEKDAY(DATE($K$4,$M$4,Q$7))=7,1,0),0) -> #VALUE! | R5: =IF(R7<>"",IF(WEEKDAY(DATE($K$4,$M$4,R$7))=7,1,0),0) -> #VALUE! | ... AO5: =IF(AO7<>"",IF(WEEKDAY(DATE($K$4,$M$4,AO$7))=7,1,0),0) -> 0
B6: 2 | C6: =HLOOKUP($B6,$K$6:$AO$7,2,FALSE) -> #N/A | D6: =IF(C6="無","×",IF(HLOOKUP($B6,$K$6:$AO$8,3,FALSE)="○","祝日",IF($A6="○","特例","平日"))) -> #N/A | F6: =IF(AND($D6="平日",OR($E6=0,ISTEXT($E6))),"○",IF(AND($D6<>"平日",E6>0),"エラー","")) -> #N/A | J6: 土曜順 | K6: =IF(K5<>1,0,COUNTIF($K$5:K5,1)) -> #VALUE! | L6: =IF(L5<>1,0,COUNTIF($K$5:L5,1)) -> #VALUE! | M6: =IF(M5<>1,0,COUNTIF($K$5:M5,1)) -> #VALUE! | N6: =IF(N5<>1,0,COUNTIF($K$5:N5,1)) -> #VALUE! | O6: =IF(O5<>1,0,COUNTIF($K$5:O5,1)) -> #VALUE! | P6: =IF(P5<>1,0,COUNTIF($K$5:P5,1)) -> #VALUE! | Q6: =IF(Q5<>1,0,COUNTIF($K$5:Q5,1)) -> #VALUE! | R6: =IF(R5<>1,0,COUNTIF($K$5:R5,1)) -> #VALUE! | ... AO6: =IF(AO5<>1,0,COUNTIF($K$5:AO5,1)) -> 0
B7: 3 | C7: =HLOOKUP($B7,$K$6:$AO$7,2,FALSE) -> #N/A | D7: =IF(C7="無","×",IF(HLOOKUP($B7,$K$6:$AO$8,3,FALSE)="○","祝日",IF($A7="○","特例","平日"))) -> #N/A | F7: =IF(AND($D7="平日",OR($E7=0,ISTEXT($E7))),"○",IF(AND($D7<>"平日",E7>0),"エラー","")) -> #N/A | J7: 日にち | K7: 1 | L7: 2 | M7: 3 | N7: 4 | O7: 5 | P7: 6 | Q7: 7 | R7: 8 | S7: 9 | T7: 10 | U7: 11 | V7: 12 | W7: 13 | X7: 14 | Y7: 15 | Z7: 16 | AA7: 17 | AB7: 18 | AC7: 19 | AD7: 20 | AE7: 21 | AF7: 22 | AG7: 23 | AH7: 24 | AI7: 25 | AJ7: 26 | AK7: 27 | AL7: 28 | AM7: =IF(MONTH(DATE(K4,M4,AL7+1))=M4,AL7+1,"") -> #VALUE! | AN7: =IF(M4<>2,IF(AM7<>"",AM7+1,""),"") -> #VALUE! | AO7: =IF(OR(M4=1,M4=3,M4=5,M4=7,M4=8,M4=10,M4=12),AN7+1,"")
B8: 4 | C8: =HLOOKUP($B8,$K$6:$AO$7,2,FALSE) -> #N/A | D8: =IF(C8="無","×",IF(HLOOKUP($B8,$K$6:$AO$8,3,FALSE)="○","祝日",IF($A8="○","特例","平日"))) -> #N/A | F8: =IF(AND($D8="平日",OR($E8=0,ISTEXT($E8))),"○",IF(AND($D8<>"平日",E8>0),"エラー","")) -> #N/A | J8: 祝・休日 | K8: =IF(K7<>"",IF(OR(WEEKDAY(DATE($K$4,$M$4,K$7),2)>6,COUNTIF('休日情報(要更新)'!$A$5:$J$32,DATE($K$4,$M$4,K$7)) >=1),"○",""),"") -> #VALUE! | L8: =IF(L7<>"",IF(OR(WEEKDAY(DATE($K$4,$M$4,L$7),2)>6,COUNTIF('休日情報(要更新)'!$A$5:$J$32,DATE($K$4,$M$4,L$7)) >=1),"○",""),"") -> #VALUE! | M8: =IF(M7<>"",IF(OR(WEEKDAY(DATE($K$4,$M$4,M$7),2)>6,COUNTIF('休日情報(要更新)'!$A$5:$J$32,DATE($K$4,$M$4,M$7)) >=1),"○",""),"") -> #VALUE! | N8: =IF(N7<>"",IF(OR(WEEKDAY(DATE($K$4,$M$4,N$7),2)>6,COUNTIF('休日情報(要更新)'!$A$5:$J$32,DATE($K$4,$M$4,N$7)) >=1),"○",""),"") -> #VALUE! | O8: =IF(O7<>"",IF(OR(WEEKDAY(DATE($K$4,$M$4,O$7),2)>6,COUNTIF('休日情報(要更新)'!$A$5:$J$32,DATE($K$4,$M$4,O$7)) >=1),"○",""),"") -> #VALUE! | P8: =IF(P7<>"",IF(OR(WEEKDAY(DATE($K$4,$M$4,P$7),2)>6,COUNTIF('休日情報(要更新)'!$A$5:$J$32,DATE($K$4,$M$4,P$7)) >=1),"○",""),"") -> #VALUE! | Q8: =IF(Q7<>"",IF(OR(WEEKDAY(DATE($K$4,$M$4,Q$7),2)>6,COUNTIF('休日情報(要更新)'!$A$5:$J$32,DATE($K$4,$M$4,Q$7)) >=1),"○",""),"") -> #VALUE! | R8: =IF(R7<>"",IF(OR(WEEKDAY(DATE($K$4,$M$4,R$7),2)>6,COUNTIF('休日情報(要更新)'!$A$5:$J$32,DATE($K$4,$M$4,R$7)) >=1),"○",""),"") -> #VALUE! | ... AO8: =IF(AO7<>"",IF(OR(WEEKDAY(DATE($K$4,$M$4,AO$7),2)>6,COUNTIF('休日情報(要更新)'!$A$5:$J$32,DATE($K$4,$M$4,AO$7)) >=1),"○",""),"")
B9: 5 | C9: =IF(ISERROR(HLOOKUP($B9,$K$6:$AO$7,2,FALSE)),"無",HLOOKUP($B9,$K$6:$AO$7,2,FALSE)) -> 無 | D9: =IF(C9="無","×",IF(HLOOKUP($B9,$K$6:$AO$8,3,FALSE)="○","祝日",IF($A9="○","特例","平日"))) -> × | F9: =IF(AND($D9="平日",OR($E9=0,ISTEXT($E9))),"○",IF(AND($D9<>"平日",E9>0),"エラー",""))
A10: 計 | D10: =COUNTIF(D5:D9,"平日")+COUNTIF(D5:D9,"特例") -> 0 | F10: =COUNTIF(F5:F9,"○") -> 0
B11: 減算区分： | C11: =IF(F10=D10,"全て",IF(F10>=3,"3日以上",IF(F10=2,"2日",IF(F10=1,"1日","×")))) -> 全て
K12: =YEAR(DATE($K$4,$M$4,1)-1) -> #VALUE! | L12: 年 | M12: =MONTH(DATE($K$4,$M$4,1)-1) -> #VALUE! | N12: 月
A13: 2 前月の利用実績 | C13: =C3-1 -> #VALUE! | J13: 土曜日 | K13: =IF(K15<>"",IF(WEEKDAY(DATE($K$12,$M$12,K$15))=7,1,0),0) -> #VALUE! | L13: =IF(L15<>"",IF(WEEKDAY(DATE($K$12,$M$12,L$15))=7,1,0),0) -> #VALUE! | M13: =IF(M15<>"",IF(WEEKDAY(DATE($K$12,$M$12,M$15))=7,1,0),0) -> #VALUE! | N13: =IF(N15<>"",IF(WEEKDAY(DATE($K$12,$M$12,N$15))=7,1,0),0) -> #VALUE! | O13: =IF(O15<>"",IF(WEEKDAY(DATE($K$12,$M$12,O$15))=7,1,0),0) -> #VALUE! | P13: =IF(P15<>"",IF(WEEKDAY(DATE($K$12,$M$12,P$15))=7,1,0),0) -> #VALUE! | Q13: =IF(Q15<>"",IF(WEEKDAY(DATE($K$12,$M$12,Q$15))=7,1,0),0) -> #VALUE! | R13: =IF(R15<>"",IF(WEEKDAY(DATE($K$12,$M$12,R$15))=7,1,0),0) -> #VALUE! | ... AO13: =IF(AO15<>"",IF(WEEKDAY(DATE($K$12,$M$12,AO$15))=7,1,0),0) -> #VALUE!
B14: 土曜日 | C14: 日にち | D14: 平日/祝日 | E14: 利用児童数（見込） | F14: 減算(見込) | G14: 利用児童数（実績） | H14: 減算(実績) | J14: 土曜順 | K14: =IF(K13<>1,0,COUNTIF($K$13:K13,1)) -> #VALUE! | L14: =IF(L13<>1,0,COUNTIF($K$13:L13,1)) -> #VALUE! | M14: =IF(M13<>1,0,COUNTIF($K$13:M13,1)) -> #VALUE! | N14: =IF(N13<>1,0,COUNTIF($K$13:N13,1)) -> #VALUE! | O14: =IF(O13<>1,0,COUNTIF($K$13:O13,1)) -> #VALUE! | P14: =IF(P13<>1,0,COUNTIF($K$13:P13,1)) -> #VALUE! | Q14: =IF(Q13<>1,0,COUNTIF($K$13:Q13,1)) -> #VALUE! | R14: =IF(R13<>1,0,COUNTIF($K$13:R13,1)) -> #VALUE! | ... AO14: =IF(AO13<>1,0,COUNTIF($K$13:AO13,1)) -> #VALUE!
B15: 1 | C15: =HLOOKUP($B15,$K$14:$AO$15,2,FALSE) -> #N/A | D15: =IF(C15="無","×",IF(HLOOKUP($B15,$K$14:$AO$16,3,FALSE)="○","祝日",IF($A15="○","特例","平日"))) -> #N/A | F15: =IF(AND($D15="平日",OR($E15=0,ISTEXT($E15))),"○",IF(AND($D15<>"平日",E15>0),"エラー","")) -> #N/A | H15: =IF(AND($D15="平日",OR($G15=0,ISTEXT($G15))),"○",IF(AND($D15<>"平日",$G15>0),"エラー","")) -> #N/A | J15: 日にち | K15: 1 | L15: 2 | M15: 3 | N15: 4 | O15: 5 | P15: 6 | Q15: 7 | R15: 8 | S15: 9 | T15: 10 | U15: 11 | V15: 12 | W15: 13 | X15: 14 | Y15: 15 | Z15: 16 | AA15: 17 | AB15: 18 | AC15: 19 | AD15: 20 | AE15: 21 | AF15: 22 | AG15: 23 | AH15: 24 | AI15: 25 | AJ15: 26 | AK15: 27 | AL15: 28 | AM15: =IF(MONTH(DATE(K12,M12,AL15+1))=M12,AL15+1,"") -> #VALUE! | AN15: =IF(M12<>2,IF(AM15<>"",AM15+1,""),"") -> #VALUE! | AO15: =IF(OR(M12=1,M12=3,M12=5,M12=7,M12=8,M12=10,M12=12),AN15+1,"") -> #VALUE!
B16: 2 | C16: =HLOOKUP($B16,$K$14:$AO$15,2,FALSE) -> #N/A | D16: =IF(C16="無","×",IF(HLOOKUP($B16,$K$14:$AO$16,3,FALSE)="○","祝日",IF($A16="○","特例","平日"))) -> #N/A | F16: =IF(AND($D16="平日",OR($E16=0,ISTEXT($E16))),"○",IF(AND($D16<>"平日",E16>0),"エラー","")) -> #N/A | H16: =IF(AND($D16="平日",OR($G16=0,ISTEXT($G16))),"○",IF(AND($D16<>"平日",$G16>0),"エラー","")) -> #N/A | J16: 祝・休日 | K16: =IF(K15<>"",IF(OR(WEEKDAY(DATE($K$12,$M$12,K$15),2)>6,COUNTIF('休日情報(要更新)'!$A$5:$J$32,DATE($K$12,$M$12,K$15)) >=1),"○",""),"") -> #VALUE! | L16: =IF(L15<>"",IF(OR(WEEKDAY(DATE($K$12,$M$12,L$15),2)>6,COUNTIF('休日情報(要更新)'!$A$5:$J$32,DATE($K$12,$M$12,L$15)) >=1),"○",""),"") -> #VALUE! | M16: =IF(M15<>"",IF(OR(WEEKDAY(DATE($K$12,$M$12,M$15),2)>6,COUNTIF('休日情報(要更新)'!$A$5:$J$32,DATE($K$12,$M$12,M$15)) >=1),"○",""),"") -> #VALUE! | N16: =IF(N15<>"",IF(OR(WEEKDAY(DATE($K$12,$M$12,N$15),2)>6,COUNTIF('休日情報(要更新)'!$A$5:$J$32,DATE($K$12,$M$12,N$15)) >=1),"○",""),"") -> #VALUE! | O16: =IF(O15<>"",IF(OR(WEEKDAY(DATE($K$12,$M$12,O$15),2)>6,COUNTIF('休日情報(要更新)'!$A$5:$J$32,DATE($K$12,$M$12,O$15)) >=1),"○",""),"") -> #VALUE! | P16: =IF(P15<>"",IF(OR(WEEKDAY(DATE($K$12,$M$12,P$15),2)>6,COUNTIF('休日情報(要更新)'!$A$5:$J$32,DATE($K$12,$M$12,P$15)) >=1),"○",""),"") -> #VALUE! | Q16: =IF(Q15<>"",IF(OR(WEEKDAY(DATE($K$12,$M$12,Q$15),2)>6,COUNTIF('休日情報(要更新)'!$A$5:$J$32,DATE($K$12,$M$12,Q$15)) >=1),"○",""),"") -> #VALUE! | R16: =IF(R15<>"",IF(OR(WEEKDAY(DATE($K$12,$M$12,R$15),2)>6,COUNTIF('休日情報(要更新)'!$A$5:$J$32,DATE($K$12,$M$12,R$15)) >=1),"○",""),"") -> #VALUE! | ... AO16: =IF(AO15<>"",IF(OR(WEEKDAY(DATE($K$12,$M$12,AO$15),2)>6,COUNTIF('休日情報(要更新)'!$A$5:$J$32,DATE($K$12,$M$12,AO$15)) >=1),"○",""),"") -> #VALUE!
