Workbook
Name 名簿一覧: 施設用作成シート【入力例】!$B$17:$M$117

Sheet （第９号様式）請求額通知書【入力例】
A2: （第９号様式）
J4: 令和 年 月 日
C7: 【日常生活支援住居施設】請求額通知書 | I7: ="（"&施設用作成シート【入力例】!$C$10&"年"&施設用作成シート【入力例】!$D$10&"月分）" -> （2022年2月分）
B10: A福祉事務所 | E10: 御中
G12: 法人名 | I12: =リスト【入力例】!$E$2 -> NPO法人ニチジュウ
G13: 施設名 | I13: =リスト【入力例】!$E$3 -> 日住一番館
G14: 所在地 | I14: =リスト【入力例】!$E$4 -> 東京都千代田区麹町1-1-1
G15: 責任者 | I15: =リスト【入力例】!$E$5 -> 理事長 支援 太郎
B17: 日常生活支援住居施設に係る日常生活支援委託事務費について、下記のとおり請求いたします。
D19: 請求金額 | F19: =SUMIF(施設用作成シート【入力例】!$C$18:$C$117,$B$10,施設用作成シート【入力例】!$M$18:$M$117) -> 345915 | I19: 円
B22: 【事業所基本情報】
B23: 定員 | C23: 一般事務費単価 | E23: 支援体制加算 | G23: 宿直体制加算 | I23: 委託事務費 支弁基準額 | L23: 人員欠如の状況
B24: =施設用作成シート【入力例】!$G$7 -> 20 | C24: =施設用作成シート【入力例】!$H$7 -> 770 | E24: =施設用作成シート【入力例】!$I$7 -> 530 | G24: =施設用作成シート【入力例】!$J$7 -> 240 | I24: =施設用作成シート【入力例】!$K$7 -> 1540 | L24: =施設用作成シート【入力例】!$L$7 -> 充足
B27: 【事業実績】(貴福祉事務所分）
B28: 委託対象 世帯 | C28: 委託事務費 算定対象日数 | E28: 個別支援計画未作成 | G28: 重点的 要支援者 | I28: 本人支払額 合計
E29: 3月未満 | F29: 3月以上
B30: =COUNTIFS(施設用作成シート【入力例】!$C$18:$C$117,$B$10,施設用作成シート【入力例】!$I$18:$I$117,">0") -> 10 | C30: =SUMIF(施設用作成シート【入力例】!$C$18:$C$117,$B$10,施設用作成シート【入力例】!$I$18:$I$117) -> 237 | E30: =COUNTIFS(施設用作成シート【入力例】!$C$19:$C$118,$B$10,施設用作成シート【入力例】!$J$19:$J$118,"未作成（3月未満）") -> 1 | F30: =COUNTIFS(施設用作成シート【入力例】!$C$19:$C$118,$B$10,施設用作成シート【入力例】!$J$19:$J$118,"未作成（3月以上）") -> 0 | G30: =COUNTIFS(施設用作成シート【入力例】!$C$18:$C$118,$B$10,施設用作成シート【入力例】!$N$18:$N$118,"該当") -> 5 | I30: =SUMIF(施設用作成シート【入力例】!$C$18:$C$117,$B$10,施設用作成シート【入力例】!$L$18:$L$117) -> 12345
B33: 【内訳】 | C33: 委託入所者一覧表（請求額通知書第１号様式）のとおり
B35: 【振込先】
C36: 金融機関 | E36: =リスト【入力例】!$E$6 -> スイカ銀行
C37: 支店名 | E37: =リスト【入力例】!$E$7 -> 小玉西瓜支店
C38: 口座番号 | E38: =リスト【入力例】!$E$8 -> （普通）1234567
C39: 口座名義 | E39: =リスト【入力例】!$E$9 -> NPO法人ニチジュウ

Sheet （請求額通知書第１号様式）委託入所者一覧表【入力例】
H2: 委託対象世帯数 | I2: 委託事務費 算定対象日数 | J2: 個別支援計画未作成 | L2: 本人支払額 合計 | M2: 委託事務費 合計 | N2: 重点的要支援者
J3: ３月未満 | K3: 3月以上 | N3: 該当世帯数
H4: =COUNTIF($C$12:$C$111,$D$8) -> 10 | I4: =SUM($I$12:$I$111) -> 237 | J4: =COUNTIF(J12:J111,リスト【入力例】!$H$4) -> 1 | K4: =COUNTIF(J12:J111,リスト【入力例】!$H$5) -> 0 | L4: =SUM(L12:L111) -> 12345 | M4: =SUM(M12:M111) -> 345915 | N4: =COUNTIF(N12:N111,リスト【入力例】!$I$3) -> 5
D6: （請求額通知書第１号様式） | F6: 委 託 入 所 者 一 覧 表
D7: 福祉事務所名 | F7: 対象年月 | O7: 施設名
D8: A福祉事務所 | F8: =""&施設用作成シート【入力例】!$C$10&"年"&施設用作成シート【入力例】!$D$10&"月" -> 2022年2月 | O8: =リスト【入力例】!E3 -> 日住一番館
F10: 月途中での委託の開始及び終了 | I10: 委託事務費 | J10: 個別支援計画 | K10: 個別支援計画
B11: NO. | C11: 福祉事務所名 | D11: 氏名 | E11: （かな） | F11: 開始日 | G11: 終了日 | H11: 入院期間 | I11: 算定対象日数 | J11: の作成状況 | K11: 未作成の減算掛率 | L11: 本人支払額 | M11: 委託事務費 | N11: 重点的要支援者 | O11: 備 考
B12: {=IFERROR(INDEX(施設用作成シート【入力例】!$B$18:$P$117,MATCH(LARGE((施設用作成シート【入力例】!$C$18:$C$117=$D$8)*1/ROW(施設用作成シート【入力例】!$B$18:$B$117),ROWS($B$12:$B12)),1/ROW(施設用作成シート【入力例】!$B$18:$B$117),0),COLUMNS($B$11:B$11)),"")} -> 1 | C12: {=IFERROR(INDEX(施設用作成シート【入力例】!$B$18:$P$117,MATCH(LARGE((施設用作成シート【入力例】!$C$18:$C$117=$D$8)*1/ROW(施設用作成シート【入力例】!$B$18:$B$117),ROWS($B$12:$B12)),1/ROW(施設用作成シート【入力例】!$B$18:$B$117),0),COLUMNS($B$11:C$11)),"")} -> A福祉事務所 | D12: {=IFERROR(INDEX(施設用作成シート【入力例】!$B$18:$P$117,MATCH(LARGE((施設用作成シート【入力例】!$C$18:$C$117=$D$8)*1/ROW(施設用作成シート【入力例】!$B$18:$B$117),ROWS($B$12:$B12)),1/ROW(施設用作成シート【入力例】!$B$18:$B$117),0),COLUMNS($B$11:D$11)),"")} -> 生業 一郎 | E12: {=IFERROR(INDEX(施設用作成シート【入力例】!$B$18:$P$117,MATCH(LARGE((施設用作成シート【入力例】!$C$18:$C$117=$D$8)*1/ROW(施設用作成シート【入力例】!$B$18:$B$117),ROWS($B$12:$B12)),1/ROW(施設用作成シート【入力例】!$B$18:$B$117),0),COLUMNS($B$11:E$11)),"")} -> せいぎょう いちろう | F12: {=IFERROR(INDEX(施設用作成シート【入力例】!$B$18:$P$117,MATCH(LARGE((施設用作成シート【入力例】!$C$18:$C$117=$D$8)*1/ROW(施設用作成シート【入力例】!$B$18:$B$117),ROWS($B$12:$B12)),1/ROW(施設用作成シート【入力例】!$B$18:$B$117),0),COLUMNS($B$11:F$11)),"")} -> 0 | G12: {=IFERROR(INDEX(施設用作成シート【入力例】!$B$18:$P$117,MATCH(LARGE((施設用作成シート【入力例】!$C$18:$C$117=$D$8)*1/ROW(施設用作成シート【入力例】!$B$18:$B$117),ROWS($B$12:$B12)),1/ROW(施設用作成シート【入力例】!$B$18:$B$117),0),COLUMNS($B$11:G$11)),"")} -> 0 | H12: {=IFERROR(INDEX(施設用作成シート【入力例】!$B$18:$P$117,MATCH(LARGE((施設用作成シート【入力例】!$C$18:$C$117=$D$8)*1/ROW(施設用作成シート【入力例】!$B$18:$B$117),ROWS($B$12:$B12)),1/ROW(施設用作成シート【入力例】!$B$18:$B$117),0),COLUMNS($B$11:H$11)),"")} -> 0 | I12: {=IFERROR(INDEX(施設用作成シート【入力例】!$B$18:$P$117,MATCH(LARGE((施設用作成シート【入力例】!$C$18:$C$117=$D$8)*1/ROW(施設用作成シート【入力例】!$B$18:$B$117),ROWS($B$12:$B12)),1/ROW(施設用作成シート【入力例】!$B$18:$B$117),0),COLUMNS($B$11:I$11)),"")} -> 28 | ... O12: {=IFERROR(INDEX(施設用作成シート【入力例】!$B$18:$P$117,MATCH(LARGE((施設用作成シート【入力例】!$C$18:$C$117=$D$8)*1/ROW(施設用作成シート【入力例】!$B$18:$B$117),ROWS($B$12:$B12)),1/ROW(施設用作成シート【入力例】!$B$18:$B$117),0),COLUMNS($B$11:O$11)),"")} -> 0
B13: {=IFERROR(INDEX(施設用作成シート【入力例】!$B$18:$P$117,MATCH(LARGE((施設用作成シート【入力例】!$C$18:$C$117=$D$8)*1/ROW(施設用作成シート【入力例】!$B$18:$B$117),ROWS($B$12:$B13)),1/ROW(施設用作成シート【入力例】!$B$18:$B$117),0),COLUMNS($B$11:B$11)),"")} -> 2 | C13: {=IFERROR(INDEX(施設用作成シート【入力例】!$B$18:$P$117,MATCH(LARGE((施設用作成シート【入力例】!$C$18:$C$117=$D$8)*1/ROW(施設用作成シート【入力例】!$B$18:$B$117),ROWS($B$12:$B13)),1/ROW(施設用作成シート【入力例】!$B$18:$B$117),0),COLUMNS($B$11:C$11)),"")} -> A福祉事務所 | D13: {=IFERROR(INDEX(施設用作成シート【入力例】!$B$18:$P$117,MATCH(LARGE((施設用作成シート【入力例】!$C$18:$C$117=$D$8)*1/ROW(施設用作成シート【入力例】!$B$18:$B$117),ROWS($B$12:$B13)),1/ROW(施設用作成シート【入力例】!$B$18:$B$117),0),COLUMNS($B$11:D$11)),"")} -> 生業 二郎 | E13: {=IFERROR(INDEX(施設用作成シート【入力例】!$B$18:$P$117,MATCH(LARGE((施設用作成シート【入力例】!$C$18:$C$117=$D$8)*1/ROW(施設用作成シート【入力例】!$B$18:$B$117),ROWS($B$12:$B13)),1/ROW(施設用作成シート【入力例】!$B$18:$B$117),0),COLUMNS($B$11:E$11)),"")} -> せいぎょう じろう | F13: {=IFERROR(INDEX(施設用作成シート【入力例】!$B$18:$P$117,MATCH(LARGE((施設用作成シート【入力例】!$C$18:$C$117=$D$8)*1/ROW(施設用作成シート【入力例】!$B$18:$B$117),ROWS($B$12:$B13)),1/ROW(施設用作成シート【入力例】!$B$18:$B$117),0),COLUMNS($B$11:F$11)),"")} -> 10 | G13: {=IFERROR(INDEX(施設用作成シート【入力例】!$B$18:$P$117,MATCH(LARGE((施設用作成シート【入力例】!$C$18:$C$117=$D$8)*1/ROW(施設用作成シート【入力例】!$B$18:$B$117),ROWS($B$12:$B13)),1/ROW(施設用作成シート【入力例】!$B$18:$B$117),0),COLUMNS($B$11:G$11)),"")} -> 0 | H13: {=IFERROR(INDEX(施設用作成シート【入力例】!$B$18:$P$117,MATCH(LARGE((施設用作成シート【入力例】!$C$18:$C$117=$D$8)*1/ROW(施設用作成シート【入力例】!$B$18:$B$117),ROWS($B$12:$B13)),1/ROW(施設用作成シート【入力例】!$B$18:$B$117),0),COLUMNS($B$11:H$11)),"")} -> 0 | I13: {=IFERROR(INDEX(施設用作成シート【入力例】!$B$18:$P$117,MATCH(LARGE((施設用作成シート【入力例】!$C$18:$C$117=$D$8)*1/ROW(施設用作成シート【入力例】!$B$18:$B$117),ROWS($B$12:$B13)),1/ROW(施設用作成シート【入力例】!$B$18:$B$117),0),COLUMNS($B$11:I$11)),"")} -> 19 | ... O13: {=IFERROR(INDEX(施設用作成シート【入力例】!$B$18:$P$117,MATCH(LARGE((施設用作成シート【入力例】!$C$18:$C$117=$D$8)*1/ROW(施設用作成シート【入力例】!$B$18:$B$117),ROWS($B$12:$B13)),1/ROW(施設用作成シート【入力例】!$B$18:$B$117),0),COLUMNS($B$11:O$11)),"")} -> 0
B14: {=IFERROR(INDEX(施設用作成シート【入力例】!$B$18:$P$117,MATCH(LARGE((施設用作成シート【入力例】!$C$18:$C$117=$D$8)*1/ROW(施設用作成シート【入力例】!$B$18:$B$117),ROWS($B$12:$B14)),1/ROW(施設用作成シート【入力例】!$B$18:$B$117),0),COLUMNS($B$11:B$11)),"")} -> 3 | C14: {=IFERROR(INDEX(施設用作成シート【入力例】!$B$18:$P$117,MATCH(LARGE((施設用作成シート【入力例】!$C$18:$C$117=$D$8)*1/ROW(施設用作成シート【入力例】!$B$18:$B$117),ROWS($B$12:$B14)),1/ROW(施設用作成シート【入力例】!$B$18:$B$117),0),COLUMNS($B$11:C$11)),"")} -> A福祉事務所 | D14: {=IFERROR(INDEX(施設用作成シート【入力例】!$B$18:$P$117,MATCH(LARGE((施設用作成シート【入力例】!$C$18:$C$117=$D$8)*1/ROW(施設用作成シート【入力例】!$B$18:$B$117),ROWS($B$12:$B14)),1/ROW(施設用作成シート【入力例】!$B$18:$B$117),0),COLUMNS($B$11:D$11)),"")} -> 生業 三郎 | E14: {=IFERROR(INDEX(施設用作成シート【入力例】!$B$18:$P$117,MATCH(LARGE((施設用作成シート【入力例】!$C$18:$C$117=$D$8)*1/ROW(施設用作成シート【入力例】!$B$18:$B$117),ROWS($B$12:$B14)),1/ROW(施設用作成シート【入力例】!$B$18:$B$117),0),COLUMNS($B$11:E$11)),"")} -> せいぎょう さぶろう | F14: {=IFERROR(INDEX(施設用作成シート【入力例】!$B$18:$P$117,MATCH(LARGE((施設用作成シート【入力例】!$C$18:$C$117=$D$8)*1/ROW(施設用作成シート【入力例】!$B$18:$B$117),ROWS($B$12:$B14)),1/ROW(施設用作成シート【入力例】!$B$18:$B$117),0),COLUMNS($B$11:F$11)),"")} -> 0 | G14: {=IFERROR(INDEX(施設用作成シート【入力例】!$B$18:$P$117,MATCH(LARGE((施設用作成シート【入力例】!$C$18:$C$117=$D$8)*1/ROW(施設用作成シート【入力例】!$B$18:$B$117),ROWS($B$12:$B14)),1/ROW(施設用作成シート【入力例】!$B$18:$B$117),0),COLUMNS($B$11:G$11)),"")} -> 30 | H14: {=IFERROR(INDEX(施設用作成シート【入力例】!$B$18:$P$117,MATCH(LARGE((施設用作成シート【入力例】!$C$18:$C$117=$D$8)*1/ROW(施設用作成シート【入力例】!$B$18:$B$117),ROWS($B$12:$B14)),1/ROW(施設用作成シート【入力例】!$B$18:$B$117),0),COLUMNS($B$11:H$11)),"")} -> 0 | I14: {=IFERROR(INDEX(施設用作成シート【入力例】!$B$18:$P$117,MATCH(LARGE((施設用作成シート【入力例】!$C$18:$C$117=$D$8)*1/ROW(施設用作成シート【入力例】!$B$18:$B$117),ROWS($B$12:$B14)),1/ROW(施設用作成シート【入力例】!$B$18:$B$117),0),COLUMNS($B$11:I$11)),"")} -> 30 | ... O14: {=IFERROR(INDEX(施設用作成シート【入力例】!$B$18:$P$117,MATCH(LARGE((施設用作成シート【入力例】!$C$18:$C$117=$D$8)*1/ROW(施設用作成シート【入力例】!$B$18:$B$117),ROWS($B$12:$B14)),1/ROW(施設用作成シート【入力例】!$B$18:$B$117),0),COLUMNS($B$11:O$11)),"")} -> 0
B15: {=IFERROR(INDEX(施設用作成シート【入力例】!$B$18:$P$117,MATCH(LARGE((施設用作成シート【入力例】!$C$18:$C$117=$D$8)*1/ROW(施設用作成シート【入力例】!$B$18:$B$117),ROWS($B$12:$B15)),1/ROW(施設用作成シート【入力例】!$B$18:$B$117),0),COLUMNS($B$11:B$11)),"")} -> 4 | C15: {=IFERROR(INDEX(施設用作成シート【入力例】!$B$18:$P$117,MATCH(LARGE((施設用作成シート【入力例】!$C$18:$C$117=$D$8)*1/ROW(施設用作成シート【入力例】!$B$18:$B$117),ROWS($B$12:$B15)),1/ROW(施設用作成シート【入力例】!$B$18:$B$117),0),COLUMNS($B$11:C$11)),"")} -> A福祉事務所 | D15: {=IFERROR(INDEX(施設用作成シート【入力例】!$B$18:$P$117,MATCH(LARGE((施設用作成シート【入力例】!$C$18:$C$117=$D$8)*1/ROW(施設用作成シート【入力例】!$B$18:$B$117),ROWS($B$12:$B15)),1/ROW(施設用作成シート【入力例】!$B$18:$B$117),0),COLUMNS($B$11:D$11)),"")} -> 生業 四郎 | E15: {=IFERROR(INDEX(施設用作成シート【入力例】!$B$18:$P$117,MATCH(LARGE((施設用作成シート【入力例】!$C$18:$C$117=$D$8)*1/ROW(施設用作成シート【入力例】!$B$18:$B$117),ROWS($B$12:$B15)),1/ROW(施設用作成シート【入力例】!$B$18:$B$117),0),COLUMNS($B$11:E$11)),"")} -> せいぎょう しろう | F15: {=IFERROR(INDEX(施設用作成シート【入力例】!$B$18:$P$117,MATCH(LARGE((施設用作成シート【入力例】!$C$18:$C$117=$D$8)*1/ROW(施設用作成シート【入力例】!$B$18:$B$117),ROWS($B$12:$B15)),1/ROW(施設用作成シート【入力例】!$B$18:$B$117),0),COLUMNS($B$11:F$11)),"")} -> 0 | G15: {=IFERROR(INDEX(施設用作成シート【入力例】!$B$18:$P$117,MATCH(LARGE((施設用作成シート【入力例】!$C$18:$C$117=$D$8)*1/ROW(施設用作成シート【入力例】!$B$18:$B$117),ROWS($B$12:$B15)),1/ROW(施設用作成シート【入力例】!$B$18:$B$117),0),COLUMNS($B$11:G$11)),"")} -> 0 | H15: {=IFERROR(INDEX(施設用作成シート【入力例】!$B$18:$P$117,MATCH(LARGE((施設用作成シート【入力例】!$C$18:$C$117=$D$8)*1/ROW(施設用作成シート【入力例】!$B$18:$B$117),ROWS($B$12:$B15)),1/ROW(施設用作成シート【入力例】!$B$18:$B$117),0),COLUMNS($B$11:H$11)),"")} -> 3 | I15: {=IFERROR(INDEX(施設用作成シート【入力例】!$B$18:$P$117,MATCH(LARGE((施設用作成シート【入力例】!$C$18:$C$117=$D$8)*1/ROW(施設用作成シート【入力例】!$B$18:$B$117),ROWS($B$12:$B15)),1/ROW(施設用作成シート【入力例】!$B$18:$B$117),0),COLUMNS($B$11:I$11)),"")} -> 28 | ... O15: {=IFERROR(INDEX(施設用作成シート【入力例】!$B$18:$P$117,MATCH(LARGE((施設用作成シート【入力例】!$C$18:$C$117=$D$8)*1/ROW(施設用作成シート【入力例】!$B$18:$B$117),ROWS($B$12:$B15)),1/ROW(施設用作成シート【入力例】!$B$18:$B$117),0),COLUMNS($B$11:O$11)),"")} -> 0
B16: {=IFERROR(INDEX(施設用作成シート【入力例】!$B$18:$P$117,MATCH(LARGE((施設用作成シート【入力例】!$C$18:$C$117=$D$8)*1/ROW(施設用作成シート【入力例】!$B$18:$B$117),ROWS($B$12:$B16)),1/ROW(施設用作成シート【入力例】!$B$18:$B$117),0),COLUMNS($B$11:B$11)),"")} -> 5 | C16: {=IFERROR(INDEX(施設用作成シート【入力例】!$B$18:$P$117,MATCH(LARGE((施設用作成シート【入力例】!$C$18:$C$117=$D$8)*1/ROW(施設用作成シート【入力例】!$B$18:$B$117),ROWS($B$12:$B16)),1/ROW(施設用作成シート【入力例】!$B$18:$B$117),0),COLUMNS($B$11:C$11)),"")} -> A福祉事務所 | D16: {=IFERROR(INDEX(施設用作成シート【入力例】!$B$18:$P$117,MATCH(LARGE((施設用作成シート【入力例】!$C$18:$C$117=$D$8)*1/ROW(施設用作成シート【入力例】!$B$18:$B$117),ROWS($B$12:$B16)),1/ROW(施設用作成シート【入力例】!$B$18:$B$117),0),COLUMNS($B$11:D$11)),"")} -> 生業 五郎 | E16: {=IFERROR(INDEX(施設用作成シート【入力例】!$B$18:$P$117,MATCH(LARGE((施設用作成シート【入力例】!$C$18:$C$117=$D$8)*1/ROW(施設用作成シート【入力例】!$B$18:$B$117),ROWS($B$12:$B16)),1/ROW(施設用作成シート【入力例】!$B$18:$B$117),0),COLUMNS($B$11:E$11)),"")} -> せいぎょう ごろう | F16: {=IFERROR(INDEX(施設用作成シート【入力例】!$B$18:$P$117,MATCH(LARGE((施設用作成シート【入力例】!$C$18:$C$117=$D$8)*1/ROW(施設用作成シート【入力例】!$B$18:$B$117),ROWS($B$12:$B16)),1/ROW(施設用作成シート【入力例】!$B$18:$B$117),0),COLUMNS($B$11:F$11)),"")} -> 0 | G16: {=IFERROR(INDEX(施設用作成シート【入力例】!$B$18:$P$117,MATCH(LARGE((施設用作成シート【入力例】!$C$18:$C$117=$D$8)*1/ROW(施設用作成シート【入力例】!$B$18:$B$117),ROWS($B$12:$B16)),1/ROW(施設用作成シート【入力例】!$B$18:$B$117),0),COLUMNS($B$11:G$11)),"")} -> 0 | H16: {=IFERROR(INDEX(施設用作成シート【入力例】!$B$18:$P$117,MATCH(LARGE((施設用作成シート【入力例】!$C$18:$C$117=$D$8)*1/ROW(施設用作成シート【入力例】!$B$18:$B$117),ROWS($B$12:$B16)),1/ROW(施設用作成シート【入力例】!$B$18:$B$117),0),COLUMNS($B$11:H$11)),"")} -> 6 | I16: {=IFERROR(INDEX(施設用作成シート【入力例】!$B$18:$P$117,MATCH(LARGE((施設用作成シート【入力例】!$C$18:$C$117=$D$8)*1/ROW(施設用作成シート【入力例】!$B$18:$B$117),ROWS($B$12:$B16)),1/ROW(施設用作成シート【入力例】!$B$18:$B$117),0),COLUMNS($B$11:I$11)),"")} -> 28 | ... O16: {=IFERROR(INDEX(施設用作成シート【入力例】!$B$18:$P$117,MATCH(LARGE((施設用作成シート【入力例】!$C$18:$C$117=$D$8)*1/ROW(施設用作成シート【入力例】!$B$18:$B$117),ROWS($B$12:$B16)),1/ROW(施設用作成シート【入力例】!$B$18:$B$117),0),COLUMNS($B$11:O$11)),"")} -> 0
B17: {=IFERROR(INDEX(施設用作成シート【入力例】!$B$18:$P$117,MATCH(LARGE((施設用作成シート【入力例】!$C$18:$C$117=$D$8)*1/ROW(施設用作成シート【入力例】!$B$18:$B$117),ROWS($B$12:$B17)),1/ROW(施設用作成シート【入力例】!$B$18:$B$117),0),COLUMNS($B$11:B$11)),"")} -> 6 | C17: {=IFERROR(INDEX(施設用作成シート【入力例】!$B$18:$P$117,MATCH(LARGE((施設用作成シート【入力例】!$C$18:$C$117=$D$8)*1/ROW(施設用作成シート【入力例】!$B$18:$B$117),ROWS($B$12:$B17)),1/ROW(施設用作成シート【入力例】!$B$18:$B$117),0),COLUMNS($B$11:C$11)),"")} -> A福祉事務所 | D17: {=IFERROR(INDEX(施設用作成シート【入力例】!$B$18:$P$117,MATCH(LARGE((施設用作成シート【入力例】!$C$18:$C$117=$D$8)*1/ROW(施設用作成シート【入力例】!$B$18:$B$117),ROWS($B$12:$B17)),1/ROW(施設用作成シート【入力例】!$B$18:$B$117),0),COLUMNS($B$11:D$11)),"")} -> 生業 六郎 | E17: {=IFERROR(INDEX(施設用作成シート【入力例】!$B$18:$P$117,MATCH(LARGE((施設用作成シート【入力例】!$C$18:$C$117=$D$8)*1/ROW(施設用作成シート【入力例】!$B$18:$B$117),ROWS($B$12:$B17)),1/ROW(施設用作成シート【入力例】!$B$18:$B$117),0),COLUMNS($B$11:E$11)),"")} -> せいぎょう ろくろう | F17: {=IFERROR(INDEX(施設用作成シート【入力例】!$B$18:$P$117,MATCH(LARGE((施設用作成シート【入力例】!$C$18:$C$117=$D$8)*1/ROW(施設用作成シート【入力例】!$B$18:$B$117),ROWS($B$12:$B17)),1/ROW(施設用作成シート【入力例】!$B$18:$B$117),0),COLUMNS($B$11:F$11)),"")} -> 0 | G17: {=IFERROR(INDEX(施設用作成シート【入力例】!$B$18:$P$117,MATCH(LARGE((施設用作成シート【入力例】!$C$18:$C$117=$D$8)*1/ROW(施設用作成シート【入力例】!$B$18:$B$117),ROWS($B$12:$B17)),1/ROW(施設用作成シート【入力例】!$B$18:$B$117),0),COLUMNS($B$11:G$11)),"")} -> 0 | H17: {=IFERROR(INDEX(施設用作成シート【入力例】!$B$18:$P$117,MATCH(LARGE((施設用作成シート【入力例】!$C$18:$C$117=$D$8)*1/ROW(施設用作成シート【入力例】!$B$18:$B$117),ROWS($B$12:$B17)),1/ROW(施設用作成シート【入力例】!$B$18:$B$117),0),COLUMNS($B$11:H$11)),"")} -> 7 | I17: {=IFERROR(INDEX(施設用作成シート【入力例】!$B$18:$P$117,MATCH(LARGE((施設用作成シート【入力例】!$C$18:$C$117=$D$8)*1/ROW(施設用作成シート【入力例】!$B$18:$B$117),ROWS($B$12:$B17)),1/ROW(施設用作成シート【入力例】!$B$18:$B$117),0),COLUMNS($B$11:I$11)),"")} -> 27 | ... O17: {=IFERROR(INDEX(施設用作成シート【入力例】!$B$18:$P$117,MATCH(LARGE((施設用作成シート【入力例】!$C$18:$C$117=$D$8)*1/ROW(施設用作成シート【入力例】!$B$18:$B$117),ROWS($B$12:$B17)),1/ROW(施設用作成シート【入力例】!$B$18:$B$117),0),COLUMNS($B$11:O$11)),"")} -> 0
B18: {=IFERROR(INDEX(施設用作成シート【入力例】!$B$18:$P$117,MATCH(LARGE((施設用作成シート【入力例】!$C$18:$C$117=$D$8)*1/ROW(施設用作成シート【入力例】!$B$18:$B$117),ROWS($B$12:$B18)),1/ROW(施設用作成シート【入力例】!$B$18:$B$117),0),COLUMNS($B$11:B$11)),"")} -> 7 | C18: {=IFERROR(INDEX(施設用作成シート【入力例】!$B$18:$P$117,MATCH(LARGE((施設用作成シート【入力例】!$C$18:$C$117=$D$8)*1/ROW(施設用作成シート【入力例】!$B$18:$B$117),ROWS($B$12:$B18)),1/ROW(施設用作成シート【入力例】!$B$18:$B$117),0),COLUMNS($B$11:C$11)),"")} -> A福祉事務所 | D18: {=IFERROR(INDEX(施設用作成シート【入力例】!$B$18:$P$117,MATCH(LARGE((施設用作成シート【入力例】!$C$18:$C$117=$D$8)*1/ROW(施設用作成シート【入力例】!$B$18:$B$117),ROWS($B$12:$B18)),1/ROW(施設用作成シート【入力例】!$B$18:$B$117),0),COLUMNS($B$11:D$11)),"")} -> 生業 七郎 | E18: {=IFERROR(INDEX(施設用作成シート【入力例】!$B$18:$P$117,MATCH(LARGE((施設用作成シート【入力例】!$C$18:$C$117=$D$8)*1/ROW(施設用作成シート【入力例】!$B$18:$B$117),ROWS($B$12:$B18)),1/ROW(施設用作成シート【入力例】!$B$18:$B$117),0),COLUMNS($B$11:E$11)),"")} -> せいぎょう しちろう | F18: {=IFERROR(INDEX(施設用作成シート【入力例】!$B$18:$P$117,MATCH(LARGE((施設用作成シート【入力例】!$C$18:$C$117=$D$8)*1/ROW(施設用作成シート【入力例】!$B$18:$B$117),ROWS($B$12:$B18)),1/ROW(施設用作成シート【入力例】!$B$18:$B$117),0),COLUMNS($B$11:F$11)),"")} -> 0 | G18: {=IFERROR(INDEX(施設用作成シート【入力例】!$B$18:$P$117,MATCH(LARGE((施設用作成シート【入力例】!$C$18:$C$117=$D$8)*1/ROW(施設用作成シート【入力例】!$B$18:$B$117),ROWS($B$12:$B18)),1/ROW(施設用作成シート【入力例】!$B$18:$B$117),0),COLUMNS($B$11:G$11)),"")} -> 0 | H18: {=IFERROR(INDEX(施設用作成シート【入力例】!$B$18:$P$117,MATCH(LARGE((施設用作成シート【入力例】!$C$18:$C$117=$D$8)*1/ROW(施設用作成シート【入力例】!$B$18:$B$117),ROWS($B$12:$B18)),1/ROW(施設用作成シート【入力例】!$B$18:$B$117),0),COLUMNS($B$11:H$11)),"")} -> 31 | I18: {=IFERROR(INDEX(施設用作成シート【入力例】!$B$18:$P$117,MATCH(LARGE((施設用作成シート【入力例】!$C$18:$C$117=$D$8)*1/ROW(施設用作成シート【入力例】!$B$18:$B$117),ROWS($B$12:$B18)),1/ROW(施設用作成シート【入力例】!$B$18:$B$117),0),COLUMNS($B$11:I$11)),"")} -> 3 | ... O18: {=IFERROR(INDEX(施設用作成シート【入力例】!$B$18:$P$117,MATCH(LARGE((施設用作成シート【入力例】!$C$18:$C$117=$D$8)*1/ROW(施設用作成シート【入力例】!$B$18:$B$117),ROWS($B$12:$B18)),1/ROW(施設用作成シート【入力例】!$B$18:$B$117),0),COLUMNS($B$11:O$11)),"")} -> 0
B19: {=IFERROR(INDEX(施設用作成シート【入力例】!$B$18:$P$117,MATCH(LARGE((施設用作成シート【入力例】!$C$18:$C$117=$D$8)*1/ROW(施設用作成シート【入力例】!$B$18:$B$117),ROWS($B$12:$B19)),1/ROW(施設用作成シート【入力例】!$B$18:$B$117),0),COLUMNS($B$11:B$11)),"")} -> 8 | C19: {=IFERROR(INDEX(施設用作成シート【入力例】!$B$18:$P$117,MATCH(LARGE((施設用作成シート【入力例】!$C$18:$C$117=$D$8)*1/ROW(施設用作成シート【入力例】!$B$18:$B$117),ROWS($B$12:$B19)),1/ROW(施設用作成シート【入力例】!$B$18:$B$117),0),COLUMNS($B$11:C$11)),"")} -> A福祉事務所 | D19: {=IFERROR(INDEX(施設用作成シート【入力例】!$B$18:$P$117,MATCH(LARGE((施設用作成シート【入力例】!$C$18:$C$117=$D$8)*1/ROW(施設用作成シート【入力例】!$B$18:$B$117),ROWS($B$12:$B19)),1/ROW(施設用作成シート【入力例】!$B$18:$B$117),0),COLUMNS($B$11:D$11)),"")} -> 生業 八郎 | E19: {=IFERROR(INDEX(施設用作成シート【入力例】!$B$18:$P$117,MATCH(LARGE((施設用作成シート【入力例】!$C$18:$C$117=$D$8)*1/ROW(施設用作成シート【入力例】!$B$18:$B$117),ROWS($B$12:$B19)),1/ROW(施設用作成シート【入力例】!$B$18:$B$117),0),COLUMNS($B$11:E$11)),"")} -> せいぎょう はちろう | F19: {=IFERROR(INDEX(施設用作成シート【入力例】!$B$18:$P$117,MATCH(LARGE((施設用作成シート【入力例】!$C$18:$C$117=$D$8)*1/ROW(施設用作成シート【入力例】!$B$18:$B$117),ROWS($B$12:$B19)),1/ROW(施設用作成シート【入力例】!$B$18:$B$117),0),COLUMNS($B$11:F$11)),"")} -> 3 | G19: {=IFERROR(INDEX(施設用作成シート【入力例】!$B$18:$P$117,MATCH(LARGE((施設用作成シート【入力例】!$C$18:$C$117=$D$8)*1/ROW(施設用作成シート【入力例】!$B$18:$B$117),ROWS($B$12:$B19)),1/ROW(施設用作成シート【入力例】!$B$18:$B$117),0),COLUMNS($B$11:G$11)),"")} -> 28 | H19: {=IFERROR(INDEX(施設用作成シート【入力例】!$B$18:$P$117,MATCH(LARGE((施設用作成シート【入力例】!$C$18:$C$117=$D$8)*1/ROW(施設用作成シート【入力例】!$B$18:$B$117),ROWS($B$12:$B19)),1/ROW(施設用作成シート【入力例】!$B$18:$B$117),0),COLUMNS($B$11:H$11)),"")} -> 0 | I19: {=IFERROR(INDEX(施設用作成シート【入力例】!$B$18:$P$117,MATCH(LARGE((施設用作成シート【入力例】!$C$18:$C$117=$D$8)*1/ROW(施設用作成シート【入力例】!$B$18:$B$117),ROWS($B$12:$B19)),1/ROW(施設用作成シート【入力例】!$B$18:$B$117),0),COLUMNS($B$11:I$11)),"")} -> 26 | ... O19: {=IFERROR(INDEX(施設用作成シート【入力例】!$B$18:$P$117,MATCH(LARGE((施設用作成シート【入力例】!$C$18:$C$117=$D$8)*1/ROW(施設用作成シート【入力例】!$B$18:$B$117),ROWS($B$12:$B19)),1/ROW(施設用作成シート【入力例】!$B$18:$B$117),0),COLUMNS($B$11:O$11)),"")} -> 0
B20: {=IFERROR(INDEX(施設用作成シート【入力例】!$B$18:$P$117,MATCH(LARGE((施設用作成シート【入力例】!$C$18:$C$117=$D$8)*1/ROW(施設用作成シート【入力例】!$B$18:$B$117),ROWS($B$12:$B20)),1/ROW(施設用作成シート【入力例】!$B$18:$B$117),0),COLUMNS($B$11:B$11)),"")} -> 9 | C20: {=IFERROR(INDEX(施設用作成シート【入力例】!$B$18:$P$117,MATCH(LARGE((施設用作成シート【入力例】!$C$18:$C$117=$D$8)*1/ROW(施設用作成シート【入力例】!$B$18:$B$117),ROWS($B$12:$B20)),1/ROW(施設用作成シート【入力例】!$B$18:$B$117),0),COLUMNS($B$11:C$11)),"")} -> A福祉事務所 | D20: {=IFERROR(INDEX(施設用作成シート【入力例】!$B$18:$P$117,MATCH(LARGE((施設用作成シート【入力例】!$C$18:$C$117=$D$8)*1/ROW(施設用作成シート【入力例】!$B$18:$B$117),ROWS($B$12:$B20)),1/ROW(施設用作成シート【入力例】!$B$18:$B$117),0),COLUMNS($B$11:D$11)),"")} -> 生業 九郎 | E20: {=IFERROR(INDEX(施設用作成シート【入力例】!$B$18:$P$117,MATCH(LARGE((施設用作成シート【入力例】!$C$18:$C$117=$D$8)*1/ROW(施設用作成シート【入力例】!$B$18:$B$117),ROWS($B$12:$B20)),1/ROW(施設用作成シート【入力例】!$B$18:$B$117),0),COLUMNS($B$11:E$11)),"")} -> せいぎょう きゅうろう | F20: {=IFERROR(INDEX(施設用作成シート【入力例】!$B$18:$P$117,MATCH(LARGE((施設用作成シート【入力例】!$C$18:$C$117=$D$8)*1/ROW(施設用作成シート【入力例】!$B$18:$B$117),ROWS($B$12:$B20)),1/ROW(施設用作成シート【入力例】!$B$18:$B$117),0),COLUMNS($B$11:F$11)),"")} -> 3 | G20: {=IFERROR(INDEX(施設用作成シート【入力例】!$B$18:$P$117,MATCH(LARGE((施設用作成シート【入力例】!$C$18:$C$117=$D$8)*1/ROW(施設用作成シート【入力例】!$B$18:$B$117),ROWS($B$12:$B20)),1/ROW(施設用作成シート【入力例】!$B$18:$B$117),0),COLUMNS($B$11:G$11)),"")} -> 28 | H20: {=IFERROR(INDEX(施設用作成シート【入力例】!$B$18:$P$117,MATCH(LARGE((施設用作成シート【入力例】!$C$18:$C$117=$D$8)*1/ROW(施設用作成シート【入力例】!$B$18:$B$117),ROWS($B$12:$B20)),1/ROW(施設用作成シート【入力例】!$B$18:$B$117),0),COLUMNS($B$11:H$11)),"")} -> 5 | I20: {=IFERROR(INDEX(施設用作成シート【入力例】!$B$18:$P$117,MATCH(LARGE((施設用作成シート【入力例】!$C$18:$C$117=$D$8)*1/ROW(施設用作成シート【入力例】!$B$18:$B$117),ROWS($B$12:$B20)),1/ROW(施設用作成シート【入力例】!$B$18:$B$117),0),COLUMNS($B$11:I$11)),"")} -> 26 | ... O20: {=IFERROR(INDEX(施設用作成シート【入力例】!$B$18:$P$117,MATCH(LARGE((施設用作成シート【入力例】!$C$18:$C$117=$D$8)*1/ROW(施設用作成シート【入力例】!$B$18:$B$117),ROWS($B$12:$B20)),1/ROW(施設用作成シート【入力例】!$B$18:$B$117),0),COLUMNS($B$11:O$11)),"")} -> 0
B21: {=IFERROR(INDEX(施設用作成シート【入力例】!$B$18:$P$117,MATCH(LARGE((施設用作成シート【入力例】!$C$18:$C$117=$D$8)*1/ROW(施設用作成シート【入力例】!$B$18:$B$117),ROWS($B$12:$B21)),1/ROW(施設用作成シート【入力例】!$B$18:$B$117),0),COLUMNS($B$11:B$11)),"")} -> 10 | C21: {=IFERROR(INDEX(施設用作成シート【入力例】!$B$18:$P$117,MATCH(LARGE((施設用作成シート【入力例】!$C$18:$C$117=$D$8)*1/ROW(施設用作成シート【入力例】!$B$18:$B$117),ROWS($B$12:$B21)),1/ROW(施設用作成シート【入力例】!$B$18:$B$117),0),COLUMNS($B$11:C$11)),"")} -> A福祉事務所 | D21: {=IFERROR(INDEX(施設用作成シート【入力例】!$B$18:$P$117,MATCH(LARGE((施設用作成シート【入力例】!$C$18:$C$117=$D$8)*1/ROW(施設用作成シート【入力例】!$B$18:$B$117),ROWS($B$12:$B21)),1/ROW(施設用作成シート【入力例】!$B$18:$B$117),0),COLUMNS($B$11:D$11)),"")} -> 生業 十郎 | E21: {=IFERROR(INDEX(施設用作成シート【入力例】!$B$18:$P$117,MATCH(LARGE((施設用作成シート【入力例】!$C$18:$C$117=$D$8)*1/ROW(施設用作成シート【入力例】!$B$18:$B$117),ROWS($B$12:$B21)),1/ROW(施設用作成シート【入力例】!$B$18:$B$117),0),COLUMNS($B$11:E$11)),"")} -> せいぎょう じゅうろう | F21: {=IFERROR(INDEX(施設用作成シート【入力例】!$B$18:$P$117,MATCH(LARGE((施設用作成シート【入力例】!$C$18:$C$117=$D$8)*1/ROW(施設用作成シート【入力例】!$B$18:$B$117),ROWS($B$12:$B21)),1/ROW(施設用作成シート【入力例】!$B$18:$B$117),0),COLUMNS($B$11:F$11)),"")} -> 3 | G21: {=IFERROR(INDEX(施設用作成シート【入力例】!$B$18:$P$117,MATCH(LARGE((施設用作成シート【入力例】!$C$18:$C$117=$D$8)*1/ROW(施設用作成シート【入力例】!$B$18:$B$117),ROWS($B$12:$B21)),1/ROW(施設用作成シート【入力例】!$B$18:$B$117),0),COLUMNS($B$11:G$11)),"")} -> 28 | H21: {=IFERROR(INDEX(施設用作成シート【入力例】!$B$18:$P$117,MATCH(LARGE((施設用作成シート【入力例】!$C$18:$C$117=$D$8)*1/ROW(施設用作成シート【入力例】!$B$18:$B$117),ROWS($B$12:$B21)),1/ROW(施設用作成シート【入力例】!$B$18:$B$117),0),COLUMNS($B$11:H$11)),"")} -> 10 | I21: {=IFERROR(INDEX(施設用作成シート【入力例】!$B$18:$P$117,MATCH(LARGE((施設用作成シート【入力例】!$C$18:$C$117=$D$8)*1/ROW(施設用作成シート【入力例】!$B$18:$B$117),ROWS($B$12:$B21)),1/ROW(施設用作成シート【入力例】!$B$18:$B$117),0),COLUMNS($B$11:I$11)),"")} -> 22 | ... O21: {=IFERROR(INDEX(施設用作成シート【入力例】!$B$18:$P$117,MATCH(LARGE((施設用作成シート【入力例】!$C$18:$C$117=$D$8)*1/ROW(施設用作成シート【入力例】!$B$18:$B$117),ROWS($B$12:$B21)),1/ROW(施設用作成シート【入力例】!$B$18:$B$117),0),COLUMNS($B$11:O$11)),"")} -> 0
B22: {=IFERROR(INDEX(施設用作成シート【入力例】!$B$18:$P$117,MATCH(LARGE((施設用作成シート【入力例】!$C$18:$C$117=$D$8)*1/ROW(施設用作成シート【入力例】!$B$18:$B$117),ROWS($B$12:$B22)),1/ROW(施設用作成シート【入力例】!$B$18:$B$117),0),COLUMNS($B$11:B$11)),"")} | C22: {=IFERROR(INDEX(施設用作成シート【入力例】!$B$18:$P$117,MATCH(LARGE((施設用作成シート【入力例】!$C$18:$C$117=$D$8)*1/ROW(施設用作成シート【入力例】!$B$18:$B$117),ROWS($B$12:$B22)),1/ROW(施設用作成シート【入力例】!$B$18:$B$117),0),COLUMNS($B$11:C$11)),"")} | D22: {=IFERROR(INDEX(施設用作成シート【入力例】!$B$18:$P$117,MATCH(LARGE((施設用作成シート【入力例】!$C$18:$C$117=$D$8)*1/ROW(施設用作成シート【入力例】!$B$18:$B$117),ROWS($B$12:$B22)),1/ROW(施設用作成シート【入力例】!$B$18:$B$117),0),COLUMNS($B$11:D$11)),"")} | E22: {=IFERROR(INDEX(施設用作成シート【入力例】!$B$18:$P$117,MATCH(LARGE((施設用作成シート【入力例】!$C$18:$C$117=$D$8)*1/ROW(施設用作成シート【入力例】!$B$18:$B$117),ROWS($B$12:$B22)),1/ROW(施設用作成シート【入力例】!$B$18:$B$117),0),COLUMNS($B$11:E$11)),"")} | F22: {=IFERROR(INDEX(施設用作成シート【入力例】!$B$18:$P$117,MATCH(LARGE((施設用作成シート【入力例】!$C$18:$C$117=$D$8)*1/ROW(施設用作成シート【入力例】!$B$18:$B$117),ROWS($B$12:$B22)),1/ROW(施設用作成シート【入力例】!$B$18:$B$117),0),COLUMNS($B$11:F$11)),"")} | G22: {=IFERROR(INDEX(施設用作成シート【入力例】!$B$18:$P$117,MATCH(LARGE((施設用作成シート【入力例】!$C$18:$C$117=$D$8)*1/ROW(施設用作成シート【入力例】!$B$18:$B$117),ROWS($B$12:$B22)),1/ROW(施設用作成シート【入力例】!$B$18:$B$117),0),COLUMNS($B$11:G$11)),"")} | H22: {=IFERROR(INDEX(施設用作成シート【入力例】!$B$18:$P$117,MATCH(LARGE((施設用作成シート【入力例】!$C$18:$C$117=$D$8)*1/ROW(施設用作成シート【入力例】!$B$18:$B$117),ROWS($B$12:$B22)),1/ROW(施設用作成シート【入力例】!$B$18:$B$117),0),COLUMNS($B$11:H$11)),"")} | I22: {=IFERROR(INDEX(施設用作成シート【入力例】!$B$18:$P$117,MATCH(LARGE((施設用作成シート【入力例】!$C$18:$C$117=$D$8)*1/ROW(施設用作成シート【入力例】!$B$18:$B$117),ROWS($B$12:$B22)),1/ROW(施設用作成シート【入力例】!$B$18:$B$117),0),COLUMNS($B$11:I$11)),"")} | ... O22: {=IFERROR(INDEX(施設用作成シート【入力例】!$B$18:$P$117,MATCH(LARGE((施設用作成シート【入力例】!$C$18:$C$117=$D$8)*1/ROW(施設用作成シート【入力例】!$B$18:$B$117),ROWS($B$12:$B22)),1/ROW(施設用作成シート【入力例】!$B$18:$B$117),0),COLUMNS($B$11:O$11)),"")}
B23: {=IFERROR(INDEX(施設用作成シート【入力例】!$B$18:$P$117,MATCH(LARGE((施設用作成シート【入力例】!$C$18:$C$117=$D$8)*1/ROW(施設用作成シート【入力例】!$B$18:$B$117),ROWS($B$12:$B23)),1/ROW(施設用作成シート【入力例】!$B$18:$B$117),0),COLUMNS($B$11:B$11)),"")} | C23: {=IFERROR(INDEX(施設用作成シート【入力例】!$B$18:$P$117,MATCH(LARGE((施設用作成シート【入力例】!$C$18:$C$117=$D$8)*1/ROW(施設用作成シート【入力例】!$B$18:$B$117),ROWS($B$12:$B23)),1/ROW(施設用作成シート【入力例】!$B$18:$B$117),0),COLUMNS($B$11:C$11)),"")} | D23: {=IFERROR(INDEX(施設用作成シート【入力例】!$B$18:$P$117,MATCH(LARGE((施設用作成シート【入力例】!$C$18:$C$117=$D$8)*1/ROW(施設用作成シート【入力例】!$B$18:$B$117),ROWS($B$12:$B23)),1/ROW(施設用作成シート【入力例】!$B$18:$B$117),0),COLUMNS($B$11:D$11)),"")} | E23: {=IFERROR(INDEX(施設用作成シート【入力例】!$B$18:$P$117,MATCH(LARGE((施設用作成シート【入力例】!$C$18:$C$117=$D$8)*1/ROW(施設用作成シート【入力例】!$B$18:$B$117),ROWS($B$12:$B23)),1/ROW(施設用作成シート【入力例】!$B$18:$B$117),0),COLUMNS($B$11:E$11)),"")} | F23: {=IFERROR(INDEX(施設用作成シート【入力例】!$B$18:$P$117,MATCH(LARGE((施設用作成シート【入力例】!$C$18:$C$117=$D$8)*1/ROW(施設用作成シート【入力例】!$B$18:$B$117),ROWS($B$12:$B23)),1/ROW(施設用作成シート【入力例】!$B$18:$B$117),0),COLUMNS($B$11:F$11)),"")} | G23: {=IFERROR(INDEX(施設用作成シート【入力例】!$B$18:$P$117,MATCH(LARGE((施設用作成シート【入力例】!$C$18:$C$117=$D$8)*1/ROW(施設用作成シート【入力例】!$B$18:$B$117),ROWS($B$12:$B23)),1/ROW(施設用作成シート【入力例】!$B$18:$B$117),0),COLUMNS($B$11:G$11)),"")} | H23: {=IFERROR(INDEX(施設用作成シート【入力例】!$B$18:$P$117,MATCH(LARGE((施設用作成シート【入力例】!$C$18:$C$117=$D$8)*1/ROW(施設用作成シート【入力例】!$B$18:$B$117),ROWS($B$12:$B23)),1/ROW(施設用作成シート【入力例】!$B$18:$B$117),0),COLUMNS($B$11:H$11)),"")} | I23: {=IFERROR(INDEX(施設用作成シート【入力例】!$B$18:$P$117,MATCH(LARGE((施設用作成シート【入力例】!$C$18:$C$117=$D$8)*1/ROW(施設用作成シート【入力例】!$B$18:$B$117),ROWS($B$12:$B23)),1/ROW(施設用作成シート【入力例】!$B$18:$B$117),0),COLUMNS($B$11:I$11)),"")} | ... O23: {=IFERROR(INDEX(施設用作成シート【入力例】!$B$18:$P$117,MATCH(LARGE((施設用作成シート【入力例】!$C$18:$C$117=$D$8)*1/ROW(施設用作成シート【入力例】!$B$18:$B$117),ROWS($B$12:$B23)),1/ROW(施設用作成シート【入力例】!$B$18:$B$117),0),COLUMNS($B$11:O$11)),"")}
... B96: {=IFERROR(INDEX(施設用作成シート【入力例】!$B$18:$P$117,MATCH(LARGE((施設用作成シート【入力例】!$C$18:$C$117=$D$8)*1/ROW(施設用作成シート【入力例】!$B$18:$B$117),ROWS($B$12:$B96)),1/ROW(施設用作成シート【入力例】!$B$18:$B$117),0),COLUMNS($B$11:B$11)),"")} | C96: {=IFERROR(INDEX(施設用作成シート【入力例】!$B$18:$P$117,MATCH(LARGE((施設用作成シート【入力例】!$C$18:$C$117=$D$8)*1/ROW(施設用作成シート【入力例】!$B$18:$B$117),ROWS($B$12:$B96)),1/ROW(施設用作成シート【入力例】!$B$18:$B$117),0),COLUMNS($B$11:C$11)),"")} | D96: {=IFERROR(INDEX(施設用作成シート【入力例】!$B$18:$P$117,MATCH(LARGE((施設用作成シート【入力例】!$C$18:$C$117=$D$8)*1/ROW(施設用作成シート【入力例】!$B$18:$B$117),ROWS($B$12:$B96)),1/ROW(施設用作成シート【入力例】!$B$18:$B$117),0),COLUMNS($B$11:D$11)),"")} | E96: {=IFERROR(INDEX(施設用作成シート【入力例】!$B$18:$P$117,MATCH(LARGE((施設用作成シート【入力例】!$C$18:$C$117=$D$8)*1/ROW(施設用作成シート【入力例】!$B$18:$B$117),ROWS($B$12:$B96)),1/ROW(施設用作成シート【入力例】!$B$18:$B$117),0),COLUMNS($B$11:E$11)),"")} | F96: {=IFERROR(INDEX(施設用作成シート【入力例】!$B$18:$P$117,MATCH(LARGE((施設用作成シート【入力例】!$C$18:$C$117=$D$8)*1/ROW(施設用作成シート【入力例】!$B$18:$B$117),ROWS($B$12:$B96)),1/ROW(施設用作成シート【入力例】!$B$18:$B$117),0),COLUMNS($B$11:F$11)),"")} | G96: {=IFERROR(INDEX(施設用作成シート【入力例】!$B$18:$P$117,MATCH(LARGE((施設用作成シート【入力例】!$C$18:$C$117=$D$8)*1/ROW(施設用作成シート【入力例】!$B$18:$B$117),ROWS($B$12:$B96)),1/ROW(施設用作成シート【入力例】!$B$18:$B$117),0),COLUMNS($B$11:G$11)),"")} | H96: {=IFERROR(INDEX(施設用作成シート【入力例】!$B$18:$P$117,MATCH(LARGE((施設用作成シート【入力例】!$C$18:$C$117=$D$8)*1/ROW(施設用作成シート【入力例】!$B$18:$B$117),ROWS($B$12:$B96)),1/ROW(施設用作成シート【入力例】!$B$18:$B$117),0),COLUMNS($B$11:H$11)),"")} | I96: {=IFERROR(INDEX(施設用作成シート【入力例】!$B$18:$P$117,MATCH(LARGE((施設用作成シート【入力例】!$C$18:$C$117=$D$8)*1/ROW(施設用作成シート【入力例】!$B$18:$B$117),ROWS($B$12:$B96)),1/ROW(施設用作成シート【入力例】!$B$18:$B$117),0),COLUMNS($B$11:I$11)),"")} | ... O96: {=IFERROR(INDEX(施設用作成シート【入力例】!$B$18:$P$117,MATCH(LARGE((施設用作成シート【入力例】!$C$18:$C$117=$D$8)*1/ROW(施設用作成シート【入力例】!$B$18:$B$117),ROWS($B$12:$B96)),1/ROW(施設用作成シート【入力例】!$B$18:$B$117),0),COLUMNS($B$11:O$11)),"")}
B97: {=IFERROR(INDEX(施設用作成シート【入力例】!$B$18:$P$117,MATCH(LARGE((施設用作成シート【入力例】!$C$18:$C$117=$D$8)*1/ROW(施設用作成シート【入力例】!$B$18:$B$117),ROWS($B$12:$B97)),1/ROW(施設用作成シート【入力例】!$B$18:$B$117),0),COLUMNS($B$11:B$11)),"")} | C97: {=IFERROR(INDEX(施設用作成シート【入力例】!$B$18:$P$117,MATCH(LARGE((施設用作成シート【入力例】!$C$18:$C$117=$D$8)*1/ROW(施設用作成シート【入力例】!$B$18:$B$117),ROWS($B$12:$B97)),1/ROW(施設用作成シート【入力例】!$B$18:$B$117),0),COLUMNS($B$11:C$11)),"")} | D97: {=IFERROR(INDEX(施設用作成シート【入力例】!$B$18:$P$117,MATCH(LARGE((施設用作成シート【入力例】!$C$18:$C$117=$D$8)*1/ROW(施設用作成シート【入力例】!$B$18:$B$117),ROWS($B$12:$B97)),1/ROW(施設用作成シート【入力例】!$B$18:$B$117),0),COLUMNS($B$11:D$11)),"")} | E97: {=IFERROR(INDEX(施設用作成シート【入力例】!$B$18:$P$117,MATCH(LARGE((施設用作成シート【入力例】!$C$18:$C$117=$D$8)*1/ROW(施設用作成シート【入力例】!$B$18:$B$117),ROWS($B$12:$B97)),1/ROW(施設用作成シート【入力例】!$B$18:$B$117),0),COLUMNS($B$11:E$11)),"")} | G97: {=IFERROR(INDEX(施設用作成シート【入力例】!$B$18:$P$117,MATCH(LARGE((施設用作成シート【入力例】!$C$18:$C$117=$D$8)*1/ROW(施設用作成シート【入力例】!$B$18:$B$117),ROWS($B$12:$B97)),1/ROW(施設用作成シート【入力例】!$B$18:$B$117),0),COLUMNS($B$11:G$11)),"")} | H97: {=IFERROR(INDEX(施設用作成シート【入力例】!$B$18:$P$117,MATCH(LARGE((施設用作成シート【入力例】!$C$18:$C$117=$D$8)*1/ROW(施設用作成シート【入力例】!$B$18:$B$117),ROWS($B$12:$B97)),1/ROW(施設用作成シート【入力例】!$B$18:$B$117),0),COLUMNS($B$11:H$11)),"")} | I97: {=IFERROR(INDEX(施設用作成シート【入力例】!$B$18:$P$117,MATCH(LARGE((施設用作成シート【入力例】!$C$18:$C$117=$D$8)*1/ROW(施設用作成シート【入力例】!$B$18:$B$117),ROWS($B$12:$B97)),1/ROW(施設用作成シート【入力例】!$B$18:$B$117),0),COLUMNS($B$11:I$11)),"")} | J97: {=IFERROR(INDEX(施設用作成シート【入力例】!$B$18:$P$117,MATCH(LARGE((施設用作成シート【入力例】!$C$18:$C$117=$D$8)*1/ROW(施設用作成シート【入力例】!$B$18:$B$117),ROWS($B$12:$B97)),1/ROW(施設用作成シート【入力例】!$B$18:$B$117),0),COLUMNS($B$11:J$11)),"")} | K97: {=IFERROR(INDEX(施設用作成シート【入力例】!$B$18:$P$117,MATCH(LARGE((施設用作成シート【入力例】!$C$18:$C$117=$D$8)*1/ROW(施設用作成シート【入力例】!$B$18:$B$117),ROWS($B$12:$B97)),1/ROW(施設用作成シート【入力例】!$B$18:$B$117),0),COLUMNS($B$11:K$11)),"")} | L97: {=IFERROR(INDEX(施設用作成シート【入力例】!$B$18:$P$117,MATCH(LARGE((施設用作成シート【入力例】!$C$18:$C$117=$D$8)*1/ROW(施設用作成シート【入力例】!$B$18:$B$117),ROWS($B$12:$B97)),1/ROW(施設用作成シート【入力例】!$B$18:$B$117),0),COLUMNS($B$11:L$11)),"")} | M97: {=IFERROR(INDEX(施設用作成シート【入力例】!$B$18:$P$117,MATCH(LARGE((施設用作成シート【入力例】!$C$18:$C$117=$D$8)*1/ROW(施設用作成シート【入力例】!$B$18:$B$117),ROWS($B$12:$B97)),1/ROW(施設用作成シート【入力例】!$B$18:$B$117),0),COLUMNS($B$11:M$11)),"")} | N97: {=IFERROR(INDEX(施設用作成シート【入力例】!$B$18:$P$117,MATCH(LARGE((施設用作成シート【入力例】!$C$18:$C$117=$D$8)*1/ROW(施設用作成シート【入力例】!$B$18:$B$117),ROWS($B$12:$B97)),1/ROW(施設用作成シート【入力例】!$B$18:$B$117),0),COLUMNS($B$11:N$11)),"")} | O97: {=IFERROR(INDEX(施設用作成シート【入力例】!$B$18:$P$117,MATCH(LARGE((施設用作成シート【入力例】!$C$18:$C$117=$D$8)*1/ROW(施設用作成シート【入力例】!$B$18:$B$117),ROWS($B$12:$B97)),1/ROW(施設用作成シート【入力例】!$B$18:$B$117),0),COLUMNS($B$11:O$11)),"")}
B98: {=IFERROR(INDEX(施設用作成シート【入力例】!$B$18:$P$117,MATCH(LARGE((施設用作成シート【入力例】!$C$18:$C$117=$D$8)*1/ROW(施設用作成シート【入力例】!$B$18:$B$117),ROWS($B$12:$B98)),1/ROW(施設用作成シート【入力例】!$B$18:$B$117),0),COLUMNS($B$11:B$11)),"")} | C98: {=IFERROR(INDEX(施設用作成シート【入力例】!$B$18:$P$117,MATCH(LARGE((施設用作成シート【入力例】!$C$18:$C$117=$D$8)*1/ROW(施設用作成シート【入力例】!$B$18:$B$117),ROWS($B$12:$B98)),1/ROW(施設用作成シート【入力例】!$B$18:$B$117),0),COLUMNS($B$11:C$11)),"")} | D98: {=IFERROR(INDEX(施設用作成シート【入力例】!$B$18:$P$117,MATCH(LARGE((施設用作成シート【入力例】!$C$18:$C$117=$D$8)*1/ROW(施設用作成シート【入力例】!$B$18:$B$117),ROWS($B$12:$B98)),1/ROW(施設用作成シート【入力例】!$B$18:$B$117),0),COLUMNS($B$11:D$11)),"")} | E98: {=IFERROR(INDEX(施設用作成シート【入力例】!$B$18:$P$117,MATCH(LARGE((施設用作成シート【入力例】!$C$18:$C$117=$D$8)*1/ROW(施設用作成シート【入力例】!$B$18:$B$117),ROWS($B$12:$B98)),1/ROW(施設用作成シート【入力例】!$B$18:$B$117),0),COLUMNS($B$11:E$11)),"")} | F98: {=IFERROR(INDEX(施設用作成シート【入力例】!$B$18:$P$117,MATCH(LARGE((施設用作成シート【入力例】!$C$18:$C$117=$D$8)*1/ROW(施設用作成シート【入力例】!$B$18:$B$117),ROWS($B$12:$B98)),1/ROW(施設用作成シート【入力例】!$B$18:$B$117),0),COLUMNS($B$11:F$11)),"")} | G98: {=IFERROR(INDEX(施設用作成シート【入力例】!$B$18:$P$117,MATCH(LARGE((施設用作成シート【入力例】!$C$18:$C$117=$D$8)*1/ROW(施設用作成シート【入力例】!$B$18:$B$117),ROWS($B$12:$B98)),1/ROW(施設用作成シート【入力例】!$B$18:$B$117),0),COLUMNS($B$11:G$11)),"")} | H98: {=IFERROR(INDEX(施設用作成シート【入力例】!$B$18:$P$117,MATCH(LARGE((施設用作成シート【入力例】!$C$18:$C$117=$D$8)*1/ROW(施設用作成シート【入力例】!$B$18:$B$117),ROWS($B$12:$B98)),1/ROW(施設用作成シート【入力例】!$B$18:$B$117),0),COLUMNS($B$11:H$11)),"")} | I98: {=IFERROR(INDEX(施設用作成シート【入力例】!$B$18:$P$117,MATCH(LARGE((施設用作成シート【入力例】!$C$18:$C$117=$D$8)*1/ROW(施設用作成シート【入力例】!$B$18:$B$117),ROWS($B$12:$B98)),1/ROW(施設用作成シート【入力例】!$B$18:$B$117),0),COLUMNS($B$11:I$11)),"")} | ... O98: {=IFERROR(INDEX(施設用作成シート【入力例】!$B$18:$P$117,MATCH(LARGE((施設用作成シート【入力例】!$C$18:$C$117=$D$8)*1/ROW(施設用作成シート【入力例】!$B$18:$B$117),ROWS($B$12:$B98)),1/ROW(施設用作成シート【入力例】!$B$18:$B$117),0),COLUMNS($B$11:O$11)),"")}
B99: {=IFERROR(INDEX(施設用作成シート【入力例】!$B$18:$P$117,MATCH(LARGE((施設用作成シート【入力例】!$C$18:$C$117=$D$8)*1/ROW(施設用作成シート【入力例】!$B$18:$B$117),ROWS($B$12:$B99)),1/ROW(施設用作成シート【入力例】!$B$18:$B$117),0),COLUMNS($B$11:B$11)),"")} | C99: {=IFERROR(INDEX(施設用作成シート【入力例】!$B$18:$P$117,MATCH(LARGE((施設用作成シート【入力例】!$C$18:$C$117=$D$8)*1/ROW(施設用作成シート【入力例】!$B$18:$B$117),ROWS($B$12:$B99)),1/ROW(施設用作成シート【入力例】!$B$18:$B$117),0),COLUMNS($B$11:C$11)),"")} | D99: {=IFERROR(INDEX(施設用作成シート【入力例】!$B$18:$P$117,MATCH(LARGE((施設用作成シート【入力例】!$C$18:$C$117=$D$8)*1/ROW(施設用作成シート【入力例】!$B$18:$B$117),ROWS($B$12:$B99)),1/ROW(施設用作成シート【入力例】!$B$18:$B$117),0),COLUMNS($B$11:D$11)),"")} | E99: {=IFERROR(INDEX(施設用作成シート【入力例】!$B$18:$P$117,MATCH(LARGE((施設用作成シート【入力例】!$C$18:$C$117=$D$8)*1/ROW(施設用作成シート【入力例】!$B$18:$B$117),ROWS($B$12:$B99)),1/ROW(施設用作成シート【入力例】!$B$18:$B$117),0),COLUMNS($B$11:E$11)),"")} | F99: {=IFERROR(INDEX(施設用作成シート【入力例】!$B$18:$P$117,MATCH(LARGE((施設用作成シート【入力例】!$C$18:$C$117=$D$8)*1/ROW(施設用作成シート【入力例】!$B$18:$B$117),ROWS($B$12:$B99)),1/ROW(施設用作成シート【入力例】!$B$18:$B$117),0),COLUMNS($B$11:F$11)),"")} | G99: {=IFERROR(INDEX(施設用作成シート【入力例】!$B$18:$P$117,MATCH(LARGE((施設用作成シート【入力例】!$C$18:$C$117=$D$8)*1/ROW(施設用作成シート【入力例】!$B$18:$B$117),ROWS($B$12:$B99)),1/ROW(施設用作成シート【入力例】!$B$18:$B$117),0),COLUMNS($B$11:G$11)),"")} | H99: {=IFERROR(INDEX(施設用作成シート【入力例】!$B$18:$P$117,MATCH(LARGE((施設用作成シート【入力例】!$C$18:$C$117=$D$8)*1/ROW(施設用作成シート【入力例】!$B$18:$B$117),ROWS($B$12:$B99)),1/ROW(施設用作成シート【入力例】!$B$18:$B$117),0),COLUMNS($B$11:H$11)),"")} | I99: {=IFERROR(INDEX(施設用作成シート【入力例】!$B$18:$P$117,MATCH(LARGE((施設用作成シート【入力例】!$C$18:$C$117=$D$8)*1/ROW(施設用作成シート【入力例】!$B$18:$B$117),ROWS($B$12:$B99)),1/ROW(施設用作成シート【入力例】!$B$18:$B$117),0),COLUMNS($B$11:I$11)),"")} | ... O99: {=IFERROR(INDEX(施設用作成シート【入力例】!$B$18:$P$117,MATCH(LARGE((施設用作成シート【入力例】!$C$18:$C$117=$D$8)*1/ROW(施設用作成シート【入力例】!$B$18:$B$117),ROWS($B$12:$B99)),1/ROW(施設用作成シート【入力例】!$B$18:$B$117),0),COLUMNS($B$11:O$11)),"")}
B100: {=IFERROR(INDEX(施設用作成シート【入力例】!$B$18:$P$117,MATCH(LARGE((施設用作成シート【入力例】!$C$18:$C$117=$D$8)*1/ROW(施設用作成シート【入力例】!$B$18:$B$117),ROWS($B$12:$B100)),1/ROW(施設用作成シート【入力例】!$B$18:$B$117),0),COLUMNS($B$11:B$11)),"")} | C100: {=IFERROR(INDEX(施設用作成シート【入力例】!$B$18:$P$117,MATCH(LARGE((施設用作成シート【入力例】!$C$18:$C$117=$D$8)*1/ROW(施設用作成シート【入力例】!$B$18:$B$117),ROWS($B$12:$B100)),1/ROW(施設用作成シート【入力例】!$B$18:$B$117),0),COLUMNS($B$11:C$11)),"")} | D100: {=IFERROR(INDEX(施設用作成シート【入力例】!$B$18:$P$117,MATCH(LARGE((施設用作成シート【入力例】!$C$18:$C$117=$D$8)*1/ROW(施設用作成シート【入力例】!$B$18:$B$117),ROWS($B$12:$B100)),1/ROW(施設用作成シート【入力例】!$B$18:$B$117),0),COLUMNS($B$11:D$11)),"")} | E100: {=IFERROR(INDEX(施設用作成シート【入力例】!$B$18:$P$117,MATCH(LARGE((施設用作成シート【入力例】!$C$18:$C$117=$D$8)*1/ROW(施設用作成シート【入力例】!$B$18:$B$117),ROWS($B$12:$B100)),1/ROW(施設用作成シート【入力例】!$B$18:$B$117),0),COLUMNS($B$11:E$11)),"")} | F100: {=IFERROR(INDEX(施設用作成シート【入力例】!$B$18:$P$117,MATCH(LARGE((施設用作成シート【入力例】!$C$18:$C$117=$D$8)*1/ROW(施設用作成シート【入力例】!$B$18:$B$117),ROWS($B$12:$B100)),1/ROW(施設用作成シート【入力例】!$B$18:$B$117),0),COLUMNS($B$11:F$11)),"")} | G100: {=IFERROR(INDEX(施設用作成シート【入力例】!$B$18:$P$117,MATCH(LARGE((施設用作成シート【入力例】!$C$18:$C$117=$D$8)*1/ROW(施設用作成シート【入力例】!$B$18:$B$117),ROWS($B$12:$B100)),1/ROW(施設用作成シート【入力例】!$B$18:$B$117),0),COLUMNS($B$11:G$11)),"")} | H100: {=IFERROR(INDEX(施設用作成シート【入力例】!$B$18:$P$117,MATCH(LARGE((施設用作成シート【入力例】!$C$18:$C$117=$D$8)*1/ROW(施設用作成シート【入力例】!$B$18:$B$117),ROWS($B$12:$B100)),1/ROW(施設用作成シート【入力例】!$B$18:$B$117),0),COLUMNS($B$11:H$11)),"")} | I100: {=IFERROR(INDEX(施設用作成シート【入力例】!$B$18:$P$117,MATCH(LARGE((施設用作成シート【入力例】!$C$18:$C$117=$D$8)*1/ROW(施設用作成シート【入力例】!$B$18:$B$117),ROWS($B$12:$B100)),1/ROW(施設用作成シート【入力例】!$B$18:$B$117),0),COLUMNS($B$11:I$11)),"")} | ... O100: {=IFERROR(INDEX(施設用作成シート【入力例】!$B$18:$P$117,MATCH(LARGE((施設用作成シート【入力例】!$C$18:$C$117=$D$8)*1/ROW(施設用作成シート【入力例】!$B$18:$B$117),ROWS($B$12:$B100)),1/ROW(施設用作成シート【入力例】!$B$18:$B$117),0),COLUMNS($B$11:O$11)),"")}
B101: {=IFERROR(INDEX(施設用作成シート【入力例】!$B$18:$P$117,MATCH(LARGE((施設用作成シート【入力例】!$C$18:$C$117=$D$8)*1/ROW(施設用作成シート【入力例】!$B$18:$B$117),ROWS($B$12:$B101)),1/ROW(施設用作成シート【入力例】!$B$18:$B$117),0),COLUMNS($B$11:B$11)),"")} | C101: {=IFERROR(INDEX(施設用作成シート【入力例】!$B$18:$P$117,MATCH(LARGE((施設用作成シート【入力例】!$C$18:$C$117=$D$8)*1/ROW(施設用作成シート【入力例】!$B$18:$B$117),ROWS($B$12:$B101)),1/ROW(施設用作成シート【入力例】!$B$18:$B$117),0),COLUMNS($B$11:C$11)),"")} | D101: {=IFERROR(INDEX(施設用作成シート【入力例】!$B$18:$P$117,MATCH(LARGE((施設用作成シート【入力例】!$C$18:$C$117=$D$8)*1/ROW(施設用作成シート【入力例】!$B$18:$B$117),ROWS($B$12:$B101)),1/ROW(施設用作成シート【入力例】!$B$18:$B$117),0),COLUMNS($B$11:D$11)),"")} | E101: {=IFERROR(INDEX(施設用作成シート【入力例】!$B$18:$P$117,MATCH(LARGE((施設用作成シート【入力例】!$C$18:$C$117=$D$8)*1/ROW(施設用作成シート【入力例】!$B$18:$B$117),ROWS($B$12:$B101)),1/ROW(施設用作成シート【入力例】!$B$18:$B$117),0),COLUMNS($B$11:E$11)),"")} | F101: {=IFERROR(INDEX(施設用作成シート【入力例】!$B$18:$P$117,MATCH(LARGE((施設用作成シート【入力例】!$C$18:$C$117=$D$8)*1/ROW(施設用作成シート【入力例】!$B$18:$B$117),ROWS($B$12:$B101)),1/ROW(施設用作成シート【入力例】!$B$18:$B$117),0),COLUMNS($B$11:F$11)),"")} | G101: {=IFERROR(INDEX(施設用作成シート【入力例】!$B$18:$P$117,MATCH(LARGE((施設用作成シート【入力例】!$C$18:$C$117=$D$8)*1/ROW(施設用作成シート【入力例】!$B$18:$B$117),ROWS($B$12:$B101)),1/ROW(施設用作成シート【入力例】!$B$18:$B$117),0),COLUMNS($B$11:G$11)),"")} | H101: {=IFERROR(INDEX(施設用作成シート【入力例】!$B$18:$P$117,MATCH(LARGE((施設用作成シート【入力例】!$C$18:$C$117=$D$8)*1/ROW(施設用作成シート【入力例】!$B$18:$B$117),ROWS($B$12:$B101)),1/ROW(施設用作成シート【入力例】!$B$18:$B$117),0),COLUMNS($B$11:H$11)),"")} | I101: {=IFERROR(INDEX(施設用作成シート【入力例】!$B$18:$P$117,MATCH(LARGE((施設用作成シート【入力例】!$C$18:$C$117=$D$8)*1/ROW(施設用作成シート【入力例】!$B$18:$B$117),ROWS($B$12:$B101)),1/ROW(施設用作成シート【入力例】!$B$18:$B$117),0),COLUMNS($B$11:I$11)),"")} | ... O101: {=IFERROR(INDEX(施設用作成シート【入力例】!$B$18:$P$117,MATCH(LARGE((施設用作成シート【入力例】!$C$18:$C$117=$D$8)*1/ROW(施設用作成シート【入力例】!$B$18:$B$117),ROWS($B$12:$B101)),1/ROW(施設用作成シート【入力例】!$B$18:$B$117),0),COLUMNS($B$11:O$11)),"")}
B102: {=IFERROR(INDEX(施設用作成シート【入力例】!$B$18:$P$117,MATCH(LARGE((施設用作成シート【入力例】!$C$18:$C$117=$D$8)*1/ROW(施設用作成シート【入力例】!$B$18:$B$117),ROWS($B$12:$B102)),1/ROW(施設用作成シート【入力例】!$B$18:$B$117),0),COLUMNS($B$11:B$11)),"")} | C102: {=IFERROR(INDEX(施設用作成シート【入力例】!$B$18:$P$117,MATCH(LARGE((施設用作成シート【入力例】!$C$18:$C$117=$D$8)*1/ROW(施設用作成シート【入力例】!$B$18:$B$117),ROWS($B$12:$B102)),1/ROW(施設用作成シート【入力例】!$B$18:$B$117),0),COLUMNS($B$11:C$11)),"")} | D102: {=IFERROR(INDEX(施設用作成シート【入力例】!$B$18:$P$117,MATCH(LARGE((施設用作成シート【入力例】!$C$18:$C$117=$D$8)*1/ROW(施設用作成シート【入力例】!$B$18:$B$117),ROWS($B$12:$B102)),1/ROW(施設用作成シート【入力例】!$B$18:$B$117),0),COLUMNS($B$11:D$11)),"")} | E102: {=IFERROR(INDEX(施設用作成シート【入力例】!$B$18:$P$117,MATCH(LARGE((施設用作成シート【入力例】!$C$18:$C$117=$D$8)*1/ROW(施設用作成シート【入力例】!$B$18:$B$117),ROWS($B$12:$B102)),1/ROW(施設用作成シート【入力例】!$B$18:$B$117),0),COLUMNS($B$11:E$11)),"")} | F102: {=IFERROR(INDEX(施設用作成シート【入力例】!$B$18:$P$117,MATCH(LARGE((施設用作成シート【入力例】!$C$18:$C$117=$D$8)*1/ROW(施設用作成シート【入力例】!$B$18:$B$117),ROWS($B$12:$B102)),1/ROW(施設用作成シート【入力例】!$B$18:$B$117),0),COLUMNS($B$11:F$11)),"")} | G102: {=IFERROR(INDEX(施設用作成シート【入力例】!$B$18:$P$117,MATCH(LARGE((施設用作成シート【入力例】!$C$18:$C$117=$D$8)*1/ROW(施設用作成シート【入力例】!$B$18:$B$117),ROWS($B$12:$B102)),1/ROW(施設用作成シート【入力例】!$B$18:$B$117),0),COLUMNS($B$11:G$11)),"")} | H102: {=IFERROR(INDEX(施設用作成シート【入力例】!$B$18:$P$117,MATCH(LARGE((施設用作成シート【入力例】!$C$18:$C$117=$D$8)*1/ROW(施設用作成シート【入力例】!$B$18:$B$117),ROWS($B$12:$B102)),1/ROW(施設用作成シート【入力例】!$B$18:$B$117),0),COLUMNS($B$11:H$11)),"")} | I102: {=IFERROR(INDEX(施設用作成シート【入力例】!$B$18:$P$117,MATCH(LARGE((施設用作成シート【入力例】!$C$18:$C$117=$D$8)*1/ROW(施設用作成シート【入力例】!$B$18:$B$117),ROWS($B$12:$B102)),1/ROW(施設用作成シート【入力例】!$B$18:$B$117),0),COLUMNS($B$11:I$11)),"")} | ... O102: {=IFERROR(INDEX(施設用作成シート【入力例】!$B$18:$P$117,MATCH(LARGE((施設用作成シート【入力例】!$C$18:$C$117=$D$8)*1/ROW(施設用作成シート【入力例】!$B$18:$B$117),ROWS($B$12:$B102)),1/ROW(施設用作成シート【入力例】!$B$18:$B$117),0),COLUMNS($B$11:O$11)),"")}
B103: {=IFERROR(INDEX(施設用作成シート【入力例】!$B$18:$P$117,MATCH(LARGE((施設用作成シート【入力例】!$C$18:$C$117=$D$8)*1/ROW(施設用作成シート【入力例】!$B$18:$B$117),ROWS($B$12:$B103)),1/ROW(施設用作成シート【入力例】!$B$18:$B$117),0),COLUMNS($B$11:B$11)),"")} | C103: {=IFERROR(INDEX(施設用作成シート【入力例】!$B$18:$P$117,MATCH(LARGE((施設用作成シート【入力例】!$C$18:$C$117=$D$8)*1/ROW(施設用作成シート【入力例】!$B$18:$B$117),ROWS($B$12:$B103)),1/ROW(施設用作成シート【入力例】!$B$18:$B$117),0),COLUMNS($B$11:C$11)),"")} | D103: {=IFERROR(INDEX(施設用作成シート【入力例】!$B$18:$P$117,MATCH(LARGE((施設用作成シート【入力例】!$C$18:$C$117=$D$8)*1/ROW(施設用作成シート【入力例】!$B$18:$B$117),ROWS($B$12:$B103)),1/ROW(施設用作成シート【入力例】!$B$18:$B$117),0),COLUMNS($B$11:D$11)),"")} | E103: {=IFERROR(INDEX(施設用作成シート【入力例】!$B$18:$P$117,MATCH(LARGE((施設用作成シート【入力例】!$C$18:$C$117=$D$8)*1/ROW(施設用作成シート【入力例】!$B$18:$B$117),ROWS($B$12:$B103)),1/ROW(施設用作成シート【入力例】!$B$18:$B$117),0),COLUMNS($B$11:E$11)),"")} | F103: {=IFERROR(INDEX(施設用作成シート【入力例】!$B$18:$P$117,MATCH(LARGE((施設用作成シート【入力例】!$C$18:$C$117=$D$8)*1/ROW(施設用作成シート【入力例】!$B$18:$B$117),ROWS($B$12:$B103)),1/ROW(施設用作成シート【入力例】!$B$18:$B$117),0),COLUMNS($B$11:F$11)),"")} | G103: {=IFERROR(INDEX(施設用作成シート【入力例】!$B$18:$P$117,MATCH(LARGE((施設用作成シート【入力例】!$C$18:$C$117=$D$8)*1/ROW(施設用作成シート【入力例】!$B$18:$B$117),ROWS($B$12:$B103)),1/ROW(施設用作成シート【入力例】!$B$18:$B$117),0),COLUMNS($B$11:G$11)),"")} | H103: {=IFERROR(INDEX(施設用作成シート【入力例】!$B$18:$P$117,MATCH(LARGE((施設用作成シート【入力例】!$C$18:$C$117=$D$8)*1/ROW(施設用作成シート【入力例】!$B$18:$B$117),ROWS($B$12:$B103)),1/ROW(施設用作成シート【入力例】!$B$18:$B$117),0),COLUMNS($B$11:H$11)),"")} | I103: {=IFERROR(INDEX(施設用作成シート【入力例】!$B$18:$P$117,MATCH(LARGE((施設用作成シート【入力例】!$C$18:$C$117=$D$8)*1/ROW(施設用作成シート【入力例】!$B$18:$B$117),ROWS($B$12:$B103)),1/ROW(施設用作成シート【入力例】!$B$18:$B$117),0),COLUMNS($B$11:I$11)),"")} | ... O103: {=IFERROR(INDEX(施設用作成シート【入力例】!$B$18:$P$117,MATCH(LARGE((施設用作成シート【入力例】!$C$18:$C$117=$D$8)*1/ROW(施設用作成シート【入力例】!$B$18:$B$117),ROWS($B$12:$B103)),1/ROW(施設用作成シート【入力例】!$B$18:$B$117),0),COLUMNS($B$11:O$11)),"")}
B104: {=IFERROR(INDEX(施設用作成シート【入力例】!$B$18:$P$117,MATCH(LARGE((施設用作成シート【入力例】!$C$18:$C$117=$D$8)*1/ROW(施設用作成シート【入力例】!$B$18:$B$117),ROWS($B$12:$B104)),1/ROW(施設用作成シート【入力例】!$B$18:$B$117),0),COLUMNS($B$11:B$11)),"")} | C104: {=IFERROR(INDEX(施設用作成シート【入力例】!$B$18:$P$117,MATCH(LARGE((施設用作成シート【入力例】!$C$18:$C$117=$D$8)*1/ROW(施設用作成シート【入力例】!$B$18:$B$117),ROWS($B$12:$B104)),1/ROW(施設用作成シート【入力例】!$B$18:$B$117),0),COLUMNS($B$11:C$11)),"")} | D104: {=IFERROR(INDEX(施設用作成シート【入力例】!$B$18:$P$117,MATCH(LARGE((施設用作成シート【入力例】!$C$18:$C$117=$D$8)*1/ROW(施設用作成シート【入力例】!$B$18:$B$117),ROWS($B$12:$B104)),1/ROW(施設用作成シート【入力例】!$B$18:$B$117),0),COLUMNS($B$11:D$11)),"")} | E104: {=IFERROR(INDEX(施設用作成シート【入力例】!$B$18:$P$117,MATCH(LARGE((施設用作成シート【入力例】!$C$18:$C$117=$D$8)*1/ROW(施設用作成シート【入力例】!$B$18:$B$117),ROWS($B$12:$B104)),1/ROW(施設用作成シート【入力例】!$B$18:$B$117),0),COLUMNS($B$11:E$11)),"")} | F104: {=IFERROR(INDEX(施設用作成シート【入力例】!$B$18:$P$117,MATCH(LARGE((施設用作成シート【入力例】!$C$18:$C$117=$D$8)*1/ROW(施設用作成シート【入力例】!$B$18:$B$117),ROWS($B$12:$B104)),1/ROW(施設用作成シート【入力例】!$B$18:$B$117),0),COLUMNS($B$11:F$11)),"")} | G104: {=IFERROR(INDEX(施設用作成シート【入力例】!$B$18:$P$117,MATCH(LARGE((施設用作成シート【入力例】!$C$18:$C$117=$D$8)*1/ROW(施設用作成シート【入力例】!$B$18:$B$117),ROWS($B$12:$B104)),1/ROW(施設用作成シート【入力例】!$B$18:$B$117),0),COLUMNS($B$11:G$11)),"")} | H104: {=IFERROR(INDEX(施設用作成シート【入力例】!$B$18:$P$117,MATCH(LARGE((施設用作成シート【入力例】!$C$18:$C$117=$D$8)*1/ROW(施設用作成シート【入力例】!$B$18:$B$117),ROWS($B$12:$B104)),1/ROW(施設用作成シート【入力例】!$B$18:$B$117),0),COLUMNS($B$11:H$11)),"")} | I104: {=IFERROR(INDEX(施設用作成シート【入力例】!$B$18:$P$117,MATCH(LARGE((施設用作成シート【入力例】!$C$18:$C$117=$D$8)*1/ROW(施設用作成シート【入力例】!$B$18:$B$117),ROWS($B$12:$B104)),1/ROW(施設用作成シート【入力例】!$B$18:$B$117),0),COLUMNS($B$11:I$11)),"")} | ... O104: {=IFERROR(INDEX(施設用作成シート【入力例】!$B$18:$P$117,MATCH(LARGE((施設用作成シート【入力例】!$C$18:$C$117=$D$8)*1/ROW(施設用作成シート【入力例】!$B$18:$B$117),ROWS($B$12:$B104)),1/ROW(施設用作成シート【入力例】!$B$18:$B$117),0),COLUMNS($B$11:O$11)),"")}
B105: {=IFERROR(INDEX(施設用作成シート【入力例】!$B$18:$P$117,MATCH(LARGE((施設用作成シート【入力例】!$C$18:$C$117=$D$8)*1/ROW(施設用作成シート【入力例】!$B$18:$B$117),ROWS($B$12:$B105)),1/ROW(施設用作成シート【入力例】!$B$18:$B$117),0),COLUMNS($B$11:B$11)),"")} | C105: {=IFERROR(INDEX(施設用作成シート【入力例】!$B$18:$P$117,MATCH(LARGE((施設用作成シート【入力例】!$C$18:$C$117=$D$8)*1/ROW(施設用作成シート【入力例】!$B$18:$B$117),ROWS($B$12:$B105)),1/ROW(施設用作成シート【入力例】!$B$18:$B$117),0),COLUMNS($B$11:C$11)),"")} | D105: {=IFERROR(INDEX(施設用作成シート【入力例】!$B$18:$P$117,MATCH(LARGE((施設用作成シート【入力例】!$C$18:$C$117=$D$8)*1/ROW(施設用作成シート【入力例】!$B$18:$B$117),ROWS($B$12:$B105)),1/ROW(施設用作成シート【入力例】!$B$18:$B$117),0),COLUMNS($B$11:D$11)),"")} | E105: {=IFERROR(INDEX(施設用作成シート【入力例】!$B$18:$P$117,MATCH(LARGE((施設用作成シート【入力例】!$C$18:$C$117=$D$8)*1/ROW(施設用作成シート【入力例】!$B$18:$B$117),ROWS($B$12:$B105)),1/ROW(施設用作成シート【入力例】!$B$18:$B$117),0),COLUMNS($B$11:E$11)),"")} | F105: {=IFERROR(INDEX(施設用作成シート【入力例】!$B$18:$P$117,MATCH(LARGE((施設用作成シート【入力例】!$C$18:$C$117=$D$8)*1/ROW(施設用作成シート【入力例】!$B$18:$B$117),ROWS($B$12:$B105)),1/ROW(施設用作成シート【入力例】!$B$18:$B$117),0),COLUMNS($B$11:F$11)),"")} | G105: {=IFERROR(INDEX(施設用作成シート【入力例】!$B$18:$P$117,MATCH(LARGE((施設用作成シート【入力例】!$C$18:$C$117=$D$8)*1/ROW(施設用作成シート【入力例】!$B$18:$B$117),ROWS($B$12:$B105)),1/ROW(施設用作成シート【入力例】!$B$18:$B$117),0),COLUMNS($B$11:G$11)),"")} | H105: {=IFERROR(INDEX(施設用作成シート【入力例】!$B$18:$P$117,MATCH(LARGE((施設用作成シート【入力例】!$C$18:$C$117=$D$8)*1/ROW(施設用作成シート【入力例】!$B$18:$B$117),ROWS($B$12:$B105)),1/ROW(施設用作成シート【入力例】!$B$18:$B$117),0),COLUMNS($B$11:H$11)),"")} | I105: {=IFERROR(INDEX(施設用作成シート【入力例】!$B$18:$P$117,MATCH(LARGE((施設用作成シート【入力例】!$C$18:$C$117=$D$8)*1/ROW(施設用作成シート【入力例】!$B$18:$B$117),ROWS($B$12:$B105)),1/ROW(施設用作成シート【入力例】!$B$18:$B$117),0),COLUMNS($B$11:I$11)),"")} | ... O105: {=IFERROR(INDEX(施設用作成シート【入力例】!$B$18:$P$117,MATCH(LARGE((施設用作成シート【入力例】!$C$18:$C$117=$D$8)*1/ROW(施設用作成シート【入力例】!$B$18:$B$117),ROWS($B$12:$B105)),1/ROW(施設用作成シート【入力例】!$B$18:$B$117),0),COLUMNS($B$11:O$11)),"")}
B106: {=IFERROR(INDEX(施設用作成シート【入力例】!$B$18:$P$117,MATCH(LARGE((施設用作成シート【入力例】!$C$18:$C$117=$D$8)*1/ROW(施設用作成シート【入力例】!$B$18:$B$117),ROWS($B$12:$B106)),1/ROW(施設用作成シート【入力例】!$B$18:$B$117),0),COLUMNS($B$11:B$11)),"")} | C106: {=IFERROR(INDEX(施設用作成シート【入力例】!$B$18:$P$117,MATCH(LARGE((施設用作成シート【入力例】!$C$18:$C$117=$D$8)*1/ROW(施設用作成シート【入力例】!$B$18:$B$117),ROWS($B$12:$B106)),1/ROW(施設用作成シート【入力例】!$B$18:$B$117),0),COLUMNS($B$11:C$11)),"")} | D106: {=IFERROR(INDEX(施設用作成シート【入力例】!$B$18:$P$117,MATCH(LARGE((施設用作成シート【入力例】!$C$18:$C$117=$D$8)*1/ROW(施設用作成シート【入力例】!$B$18:$B$117),ROWS($B$12:$B106)),1/ROW(施設用作成シート【入力例】!$B$18:$B$117),0),COLUMNS($B$11:D$11)),"")} | E106: {=IFERROR(INDEX(施設用作成シート【入力例】!$B$18:$P$117,MATCH(LARGE((施設用作成シート【入力例】!$C$18:$C$117=$D$8)*1/ROW(施設用作成シート【入力例】!$B$18:$B$117),ROWS($B$12:$B106)),1/ROW(施設用作成シート【入力例】!$B$18:$B$117),0),COLUMNS($B$11:E$11)),"")} | F106: {=IFERROR(INDEX(施設用作成シート【入力例】!$B$18:$P$117,MATCH(LARGE((施設用作成シート【入力例】!$C$18:$C$117=$D$8)*1/ROW(施設用作成シート【入力例】!$B$18:$B$117),ROWS($B$12:$B106)),1/ROW(施設用作成シート【入力例】!$B$18:$B$117),0),COLUMNS($B$11:F$11)),"")} | G106: {=IFERROR(INDEX(施設用作成シート【入力例】!$B$18:$P$117,MATCH(LARGE((施設用作成シート【入力例】!$C$18:$C$117=$D$8)*1/ROW(施設用作成シート【入力例】!$B$18:$B$117),ROWS($B$12:$B106)),1/ROW(施設用作成シート【入力例】!$B$18:$B$117),0),COLUMNS($B$11:G$11)),"")} | H106: {=IFERROR(INDEX(施設用作成シート【入力例】!$B$18:$P$117,MATCH(LARGE((施設用作成シート【入力例】!$C$18:$C$117=$D$8)*1/ROW(施設用作成シート【入力例】!$B$18:$B$117),ROWS($B$12:$B106)),1/ROW(施設用作成シート【入力例】!$B$18:$B$117),0),COLUMNS($B$11:H$11)),"")} | I106: {=IFERROR(INDEX(施設用作成シート【入力例】!$B$18:$P$117,MATCH(LARGE((施設用作成シート【入力例】!$C$18:$C$117=$D$8)*1/ROW(施設用作成シート【入力例】!$B$18:$B$117),ROWS($B$12:$B106)),1/ROW(施設用作成シート【入力例】!$B$18:$B$117),0),COLUMNS($B$11:I$11)),"")} | ... O106: {=IFERROR(INDEX(施設用作成シート【入力例】!$B$18:$P$117,MATCH(LARGE((施設用作成シート【入力例】!$C$18:$C$117=$D$8)*1/ROW(施設用作成シート【入力例】!$B$18:$B$117),ROWS($B$12:$B106)),1/ROW(施設用作成シート【入力例】!$B$18:$B$117),0),COLUMNS($B$11:O$11)),"")}
B107: {=IFERROR(INDEX(施設用作成シート【入力例】!$B$18:$P$117,MATCH(LARGE((施設用作成シート【入力例】!$C$18:$C$117=$D$8)*1/ROW(施設用作成シート【入力例】!$B$18:$B$117),ROWS($B$12:$B107)),1/ROW(施設用作成シート【入力例】!$B$18:$B$117),0),COLUMNS($B$11:B$11)),"")} | C107: {=IFERROR(INDEX(施設用作成シート【入力例】!$B$18:$P$117,MATCH(LARGE((施設用作成シート【入力例】!$C$18:$C$117=$D$8)*1/ROW(施設用作成シート【入力例】!$B$18:$B$117),ROWS($B$12:$B107)),1/ROW(施設用作成シート【入力例】!$B$18:$B$117),0),COLUMNS($B$11:C$11)),"")} | D107: {=IFERROR(INDEX(施設用作成シート【入力例】!$B$18:$P$117,MATCH(LARGE((施設用作成シート【入力例】!$C$18:$C$117=$D$8)*1/ROW(施設用作成シート【入力例】!$B$18:$B$117),ROWS($B$12:$B107)),1/ROW(施設用作成シート【入力例】!$B$18:$B$117),0),COLUMNS($B$11:D$11)),"")} | E107: {=IFERROR(INDEX(施設用作成シート【入力例】!$B$18:$P$117,MATCH(LARGE((施設用作成シート【入力例】!$C$18:$C$117=$D$8)*1/ROW(施設用作成シート【入力例】!$B$18:$B$117),ROWS($B$12:$B107)),1/ROW(施設用作成シート【入力例】!$B$18:$B$117),0),COLUMNS($B$11:E$11)),"")} | F107: {=IFERROR(INDEX(施設用作成シート【入力例】!$B$18:$P$117,MATCH(LARGE((施設用作成シート【入力例】!$C$18:$C$117=$D$8)*1/ROW(施設用作成シート【入力例】!$B$18:$B$117),ROWS($B$12:$B107)),1/ROW(施設用作成シート【入力例】!$B$18:$B$117),0),COLUMNS($B$11:F$11)),"")} | G107: {=IFERROR(INDEX(施設用作成シート【入力例】!$B$18:$P$117,MATCH(LARGE((施設用作成シート【入力例】!$C$18:$C$117=$D$8)*1/ROW(施設用作成シート【入力例】!$B$18:$B$117),ROWS($B$12:$B107)),1/ROW(施設用作成シート【入力例】!$B$18:$B$117),0),COLUMNS($B$11:G$11)),"")} | H107: {=IFERROR(INDEX(施設用作成シート【入力例】!$B$18:$P$117,MATCH(LARGE((施設用作成シート【入力例】!$C$18:$C$117=$D$8)*1/ROW(施設用作成シート【入力例】!$B$18:$B$117),ROWS($B$12:$B107)),1/ROW(施設用作成シート【入力例】!$B$18:$B$117),0),COLUMNS($B$11:H$11)),"")} | I107: {=IFERROR(INDEX(施設用作成シート【入力例】!$B$18:$P$117,MATCH(LARGE((施設用作成シート【入力例】!$C$18:$C$117=$D$8)*1/ROW(施設用作成シート【入力例】!$B$18:$B$117),ROWS($B$12:$B107)),1/ROW(施設用作成シート【入力例】!$B$18:$B$117),0),COLUMNS($B$11:I$11)),"")} | ... O107: {=IFERROR(INDEX(施設用作成シート【入力例】!$B$18:$P$117,MATCH(LARGE((施設用作成シート【入力例】!$C$18:$C$117=$D$8)*1/ROW(施設用作成シート【入力例】!$B$18:$B$117),ROWS($B$12:$B107)),1/ROW(施設用作成シート【入力例】!$B$18:$B$117),0),COLUMNS($B$11:O$11)),"")}
B108: {=IFERROR(INDEX(施設用作成シート【入力例】!$B$18:$P$117,MATCH(LARGE((施設用作成シート【入力例】!$C$18:$C$117=$D$8)*1/ROW(施設用作成シート【入力例】!$B$18:$B$117),ROWS($B$12:$B108)),1/ROW(施設用作成シート【入力例】!$B$18:$B$117),0),COLUMNS($B$11:B$11)),"")} | C108: {=IFERROR(INDEX(施設用作成シート【入力例】!$B$18:$P$117,MATCH(LARGE((施設用作成シート【入力例】!$C$18:$C$117=$D$8)*1/ROW(施設用作成シート【入力例】!$B$18:$B$117),ROWS($B$12:$B108)),1/ROW(施設用作成シート【入力例】!$B$18:$B$117),0),COLUMNS($B$11:C$11)),"")} | D108: {=IFERROR(INDEX(施設用作成シート【入力例】!$B$18:$P$117,MATCH(LARGE((施設用作成シート【入力例】!$C$18:$C$117=$D$8)*1/ROW(施設用作成シート【入力例】!$B$18:$B$117),ROWS($B$12:$B108)),1/ROW(施設用作成シート【入力例】!$B$18:$B$117),0),COLUMNS($B$11:D$11)),"")} | E108: {=IFERROR(INDEX(施設用作成シート【入力例】!$B$18:$P$117,MATCH(LARGE((施設用作成シート【入力例】!$C$18:$C$117=$D$8)*1/ROW(施設用作成シート【入力例】!$B$18:$B$117),ROWS($B$12:$B108)),1/ROW(施設用作成シート【入力例】!$B$18:$B$117),0),COLUMNS($B$11:E$11)),"")} | F108: {=IFERROR(INDEX(施設用作成シート【入力例】!$B$18:$P$117,MATCH(LARGE((施設用作成シート【入力例】!$C$18:$C$117=$D$8)*1/ROW(施設用作成シート【入力例】!$B$18:$B$117),ROWS($B$12:$B108)),1/ROW(施設用作成シート【入力例】!$B$18:$B$117),0),COLUMNS($B$11:F$11)),"")} | G108: {=IFERROR(INDEX(施設用作成シート【入力例】!$B$18:$P$117,MATCH(LARGE((施設用作成シート【入力例】!$C$18:$C$117=$D$8)*1/ROW(施設用作成シート【入力例】!$B$18:$B$117),ROWS($B$12:$B108)),1/ROW(施設用作成シート【入力例】!$B$18:$B$117),0),COLUMNS($B$11:G$11)),"")} | H108: {=IFERROR(INDEX(施設用作成シート【入力例】!$B$18:$P$117,MATCH(LARGE((施設用作成シート【入力例】!$C$18:$C$117=$D$8)*1/ROW(施設用作成シート【入力例】!$B$18:$B$117),ROWS($B$12:$B108)),1/ROW(施設用作成シート【入力例】!$B$18:$B$117),0),COLUMNS($B$11:H$11)),"")} | I108: {=IFERROR(INDEX(施設用作成シート【入力例】!$B$18:$P$117,MATCH(LARGE((施設用作成シート【入力例】!$C$18:$C$117=$D$8)*1/ROW(施設用作成シート【入力例】!$B$18:$B$117),ROWS($B$12:$B108)),1/ROW(施設用作成シート【入力例】!$B$18:$B$117),0),COLUMNS($B$11:I$11)),"")} | ... O108: {=IFERROR(INDEX(施設用作成シート【入力例】!$B$18:$P$117,MATCH(LARGE((施設用作成シート【入力例】!$C$18:$C$117=$D$8)*1/ROW(施設用作成シート【入力例】!$B$18:$B$117),ROWS($B$12:$B108)),1/ROW(施設用作成シート【入力例】!$B$18:$B$117),0),COLUMNS($B$11:O$11)),"")}
B109: {=IFERROR(INDEX(施設用作成シート【入力例】!$B$18:$P$117,MATCH(LARGE((施設用作成シート【入力例】!$C$18:$C$117=$D$8)*1/ROW(施設用作成シート【入力例】!$B$18:$B$117),ROWS($B$12:$B109)),1/ROW(施設用作成シート【入力例】!$B$18:$B$117),0),COLUMNS($B$11:B$11)),"")} | C109: {=IFERROR(INDEX(施設用作成シート【入力例】!$B$18:$P$117,MATCH(LARGE((施設用作成シート【入力例】!$C$18:$C$117=$D$8)*1/ROW(施設用作成シート【入力例】!$B$18:$B$117),ROWS($B$12:$B109)),1/ROW(施設用作成シート【入力例】!$B$18:$B$117),0),COLUMNS($B$11:C$11)),"")} | D109: {=IFERROR(INDEX(施設用作成シート【入力例】!$B$18:$P$117,MATCH(LARGE((施設用作成シート【入力例】!$C$18:$C$117=$D$8)*1/ROW(施設用作成シート【入力例】!$B$18:$B$117),ROWS($B$12:$B109)),1/ROW(施設用作成シート【入力例】!$B$18:$B$117),0),COLUMNS($B$11:D$11)),"")} | E109: {=IFERROR(INDEX(施設用作成シート【入力例】!$B$18:$P$117,MATCH(LARGE((施設用作成シート【入力例】!$C$18:$C$117=$D$8)*1/ROW(施設用作成シート【入力例】!$B$18:$B$117),ROWS($B$12:$B109)),1/ROW(施設用作成シート【入力例】!$B$18:$B$117),0),COLUMNS($B$11:E$11)),"")} | F109: {=IFERROR(INDEX(施設用作成シート【入力例】!$B$18:$P$117,MATCH(LARGE((施設用作成シート【入力例】!$C$18:$C$117=$D$8)*1/ROW(施設用作成シート【入力例】!$B$18:$B$117),ROWS($B$12:$B109)),1/ROW(施設用作成シート【入力例】!$B$18:$B$117),0),COLUMNS($B$11:F$11)),"")} | G109: {=IFERROR(INDEX(施設用作成シート【入力例】!$B$18:$P$117,MATCH(LARGE((施設用作成シート【入力例】!$C$18:$C$117=$D$8)*1/ROW(施設用作成シート【入力例】!$B$18:$B$117),ROWS($B$12:$B109)),1/ROW(施設用作成シート【入力例】!$B$18:$B$117),0),COLUMNS($B$11:G$11)),"")} | H109: {=IFERROR(INDEX(施設用作成シート【入力例】!$B$18:$P$117,MATCH(LARGE((施設用作成シート【入力例】!$C$18:$C$117=$D$8)*1/ROW(施設用作成シート【入力例】!$B$18:$B$117),ROWS($B$12:$B109)),1/ROW(施設用作成シート【入力例】!$B$18:$B$117),0),COLUMNS($B$11:H$11)),"")} | I109: {=IFERROR(INDEX(施設用作成シート【入力例】!$B$18:$P$117,MATCH(LARGE((施設用作成シート【入力例】!$C$18:$C$117=$D$8)*1/ROW(施設用作成シート【入力例】!$B$18:$B$117),ROWS($B$12:$B109)),1/ROW(施設用作成シート【入力例】!$B$18:$B$117),0),COLUMNS($B$11:I$11)),"")} | ... O109: {=IFERROR(INDEX(施設用作成シート【入力例】!$B$18:$P$117,MATCH(LARGE((施設用作成シート【入力例】!$C$18:$C$117=$D$8)*1/ROW(施設用作成シート【入力例】!$B$18:$B$117),ROWS($B$12:$B109)),1/ROW(施設用作成シート【入力例】!$B$18:$B$117),0),COLUMNS($B$11:O$11)),"")}
... B111: {=IFERROR(INDEX(施設用作成シート【入力例】!$B$18:$P$117,MATCH(LARGE((施設用作成シート【入力例】!$C$18:$C$117=$D$8)*1/ROW(施設用作成シート【入力例】!$B$18:$B$117),ROWS($B$12:$B111)),1/ROW(施設用作成シート【入力例】!$B$18:$B$117),0),COLUMNS($B$11:B$11)),"")} | C111: {=IFERROR(INDEX(施設用作成シート【入力例】!$B$18:$P$117,MATCH(LARGE((施設用作成シート【入力例】!$C$18:$C$117=$D$8)*1/ROW(施設用作成シート【入力例】!$B$18:$B$117),ROWS($B$12:$B111)),1/ROW(施設用作成シート【入力例】!$B$18:$B$117),0),COLUMNS($B$11:C$11)),"")} | D111: {=IFERROR(INDEX(施設用作成シート【入力例】!$B$18:$P$117,MATCH(LARGE((施設用作成シート【入力例】!$C$18:$C$117=$D$8)*1/ROW(施設用作成シート【入力例】!$B$18:$B$117),ROWS($B$12:$B111)),1/ROW(施設用作成シート【入力例】!$B$18:$B$117),0),COLUMNS($B$11:D$11)),"")} | E111: {=IFERROR(INDEX(施設用作成シート【入力例】!$B$18:$P$117,MATCH(LARGE((施設用作成シート【入力例】!$C$18:$C$117=$D$8)*1/ROW(施設用作成シート【入力例】!$B$18:$B$117),ROWS($B$12:$B111)),1/ROW(施設用作成シート【入力例】!$B$18:$B$117),0),COLUMNS($B$11:E$11)),"")} | F111: {=IFERROR(INDEX(施設用作成シート【入力例】!$B$18:$P$117,MATCH(LARGE((施設用作成シート【入力例】!$C$18:$C$117=$D$8)*1/ROW(施設用作成シート【入力例】!$B$18:$B$117),ROWS($B$12:$B111)),1/ROW(施設用作成シート【入力例】!$B$18:$B$117),0),COLUMNS($B$11:F$11)),"")} | G111: {=IFERROR(INDEX(施設用作成シート【入力例】!$B$18:$P$117,MATCH(LARGE((施設用作成シート【入力例】!$C$18:$C$117=$D$8)*1/ROW(施設用作成シート【入力例】!$B$18:$B$117),ROWS($B$12:$B111)),1/ROW(施設用作成シート【入力例】!$B$18:$B$117),0),COLUMNS($B$11:G$11)),"")} | H111: {=IFERROR(INDEX(施設用作成シート【入力例】!$B$18:$P$117,MATCH(LARGE((施設用作成シート【入力例】!$C$18:$C$117=$D$8)*1/ROW(施設用作成シート【入力例】!$B$18:$B$117),ROWS($B$12:$B111)),1/ROW(施設用作成シート【入力例】!$B$18:$B$117),0),COLUMNS($B$11:H$11)),"")} | I111: {=IFERROR(INDEX(施設用作成シート【入力例】!$B$18:$P$117,MATCH(LARGE((施設用作成シート【入力例】!$C$18:$C$117=$D$8)*1/ROW(施設用作成シート【入力例】!$B$18:$B$117),ROWS($B$12:$B111)),1/ROW(施設用作成シート【入力例】!$B$18:$B$117),0),COLUMNS($B$11:I$11)),"")} | ... O111: {=IFERROR(INDEX(施設用作成シート【入力例】!$B$18:$P$117,MATCH(LARGE((施設用作成シート【入力例】!$C$18:$C$117=$D$8)*1/ROW(施設用作成シート【入力例】!$B$18:$B$117),ROWS($B$12:$B111)),1/ROW(施設用作成シート【入力例】!$B$18:$B$117),0),COLUMNS($B$11:O$11)),"")}

Sheet 施設用作成シート【入力例】
F2: 日常生活支援委託事務費 請求額通知書作成シート（施設用） | M2: Ver. R0206-S1
E6: 施設名 | G6: 定員世帯数 | H6: 一般事務費 単価 | I6: 支援体制 加算 | J6: 宿直体制 加算 | K6: 委託事務費 支弁基準額 | L6: 人員欠如の 状況 | M6: 人員欠如の 減算掛率
E7: =リスト【入力例】!$E$3 -> 日住一番館 | G7: 20 | H7: 770 | I7: 530 | J7: 240 | K7: =SUM($H$7:$J$7) -> 1540 | L7: 充足 | M7: =IF($L$7="欠如（3月以上）",0.5,IF($L$7="欠如（3月未満）",0.7,IF($L$7="充足",1,"←選択して下さい"))) -> 1
C9: 年 | D9: 月 | G9: 入居世帯数 | I9: 委託事務費 算定対象日数 | J9: 個別支援計画未作成 | L9: 本人支払額 合計 | M9: 委託事務費 合計 | N9: 重点的要支援者
C10: 2022 | D10: 2 | G10: 全世帯 | H10: うち委託対象 | J10: ３月未満 | K10: 3月以上 | N10: 該当世帯数 | O10: 割合
G11: =COUNTIFS($C$18:$C$117,"<>",$D$18:$D$117,"<>") -> 21 | H11: =COUNTIFS($C$18:$C$117,"<>※委託対象外",$D$18:$D$117,"<>") -> 17 | I11: =SUM($I$18:$I$117) -> 407 | J11: =COUNTIF($J$18:$J$117,リスト【入力例】!$H$4) -> 2 | K11: =COUNTIF($J$18:$J$117,リスト【入力例】!$H$5) -> 1 | L11: =SUMIF($C$18:$C$117,"<>",$L$18:$L$117) -> 12345 | M11: =SUM($M$18:$M$117) -> 590075 | N11: =COUNTIFS($C$18:$C$117,"<>",$D$18:$D$117,"<>",$N$18:$N$117,リスト【入力例】!$I$3) -> 11 | O11: =$N$11/$G$11 -> 0.52380952
E13: （福祉事務所別確認） | F13: A福祉事務所 | H13: =COUNTIFS($C$18:$C$117,$F$13,$I$18:$I$117,">0") -> 10 | I13: =SUMIF($C$18:$C$117,$F$13,$I$18:$I$117) -> 237 | J13: =COUNTIFS($C$18:$C$117,$F$13,$J$18:$J$117,"未作成（3月未満）") -> 1 | K13: =COUNTIFS($C$18:$C$117,$F$13,$J$18:$J$117,"未作成（3月以上）") -> 0 | L13: =SUMIF($C$18:$C$117,$F$13,$L$18:$L$117) -> 12345 | M13: =SUMIF($C$18:$C$117,$F$13,$M$18:$M$117) -> 345915 | N13: =COUNTIFS($C$18:$C$117,$F$13,$N$18:$N$117,"該当") -> 5
F16: 月途中での委託の開始及び終了 | I16: 委託事務費 | J16: 個別支援計画 | K16: 個別支援計画
B17: NO. | C17: 福祉事務所名 | D17: 氏名 | E17: （かな） | F17: 開始日 | G17: 終了日 | H17: 入院期間 | I17: 算定対象日数 | J17: の作成状況 | K17: 未作成の減算掛率 | L17: 本人支払額 | M17: 委託事務費 | N17: 重点的要支援者 | O17: 備 考
B18: 1 | C18: A福祉事務所 | D18: 生業 一郎 | E18: せいぎょう いちろう | I18: =IF($D18<>"",IF($C18<>"※委託対象外",(IF($G18="",DAY(DATE($C$10,$D$10+1,0)),$G18))-(IF($F18="",1,$F18))-MAX($H18-6,0)+1,""),"") -> 28 | J18: 作成済 | K18: =IF($C18<>"",IF($J18="未作成（3月以上）",0.5,IF($J18="未作成（3月未満）",0.7,IF($J18="作成済",1,""))),"") -> 1 | M18: =IF($N18<>"",IF($C18<>"※委託対象外",IF($D18<>"",ROUNDDOWN($H$7*$K18*$M$7,-1)*$I18+($I$7+$J$7)*$I18-$L18,""),0),"") -> 43120 | N18: 該当
B19: 2 | C19: A福祉事務所 | D19: 生業 二郎 | E19: せいぎょう じろう | F19: 10 | I19: =IF($D19<>"",IF($C19<>"※委託対象外",(IF($G19="",DAY(DATE($C$10,$D$10+1,0)),$G19))-(IF($F19="",1,$F19))-MAX($H19-6,0)+1,""),"") -> 19 | J19: 作成済 | K19: =IF($C19<>"",IF($J19="未作成（3月以上）",0.5,IF($J19="未作成（3月未満）",0.7,IF($J19="作成済",1,""))),"") -> 1 | M19: =IF($N19<>"",IF($C19<>"※委託対象外",IF($D19<>"",ROUNDDOWN($H$7*$K19*$M$7,-1)*$I19+($I$7+$J$7)*$I19-$L19,""),0),"") -> 29260 | N19: 非該当
B20: 3 | C20: A福祉事務所 | D20: 生業 三郎 | E20: せいぎょう さぶろう | G20: 30 | I20: =IF($D20<>"",IF($C20<>"※委託対象外",(IF($G20="",DAY(DATE($C$10,$D$10+1,0)),$G20))-(IF($F20="",1,$F20))-MAX($H20-6,0)+1,""),"") -> 30 | J20: 作成済 | K20: =IF($C20<>"",IF($J20="未作成（3月以上）",0.5,IF($J20="未作成（3月未満）",0.7,IF($J20="作成済",1,""))),"") -> 1 | M20: =IF($N20<>"",IF($C20<>"※委託対象外",IF($D20<>"",ROUNDDOWN($H$7*$K20*$M$7,-1)*$I20+($I$7+$J$7)*$I20-$L20,""),0),"") -> 46200 | N20: 該当
B21: 4 | C21: A福祉事務所 | D21: 生業 四郎 | E21: せいぎょう しろう | H21: 3 | I21: =IF($D21<>"",IF($C21<>"※委託対象外",(IF($G21="",DAY(DATE($C$10,$D$10+1,0)),$G21))-(IF($F21="",1,$F21))-MAX($H21-6,0)+1,""),"") -> 28 | J21: 未作成（3月未満） | K21: =IF($C21<>"",IF($J21="未作成（3月以上）",0.5,IF($J21="未作成（3月未満）",0.7,IF($J21="作成済",1,""))),"") -> 0.7 | M21: =IF($N21<>"",IF($C21<>"※委託対象外",IF($D21<>"",ROUNDDOWN($H$7*$K21*$M$7,-1)*$I21+($I$7+$J$7)*$I21-$L21,""),0),"") -> 36400 | N21: 非該当
B22: 5 | C22: A福祉事務所 | D22: 生業 五郎 | E22: せいぎょう ごろう | H22: 6 | I22: =IF($D22<>"",IF($C22<>"※委託対象外",(IF($G22="",DAY(DATE($C$10,$D$10+1,0)),$G22))-(IF($F22="",1,$F22))-MAX($H22-6,0)+1,""),"") -> 28 | J22: 作成済 | K22: =IF($C22<>"",IF($J22="未作成（3月以上）",0.5,IF($J22="未作成（3月未満）",0.7,IF($J22="作成済",1,""))),"") -> 1 | L22: 12345 | M22: =IF($N22<>"",IF($C22<>"※委託対象外",IF($D22<>"",ROUNDDOWN($H$7*$K22*$M$7,-1)*$I22+($I$7+$J$7)*$I22-$L22,""),0),"") -> 30775 | N22: 該当
B23: 6 | C23: A福祉事務所 | D23: 生業 六郎 | E23: せいぎょう ろくろう | H23: 7 | I23: =IF($D23<>"",IF($C23<>"※委託対象外",(IF($G23="",DAY(DATE($C$10,$D$10+1,0)),$G23))-(IF($F23="",1,$F23))-MAX($H23-6,0)+1,""),"") -> 27 | J23: 作成済 | K23: =IF($C23<>"",IF($J23="未作成（3月以上）",0.5,IF($J23="未作成（3月未満）",0.7,IF($J23="作成済",1,""))),"") -> 1 | M23: =IF($N23<>"",IF($C23<>"※委託対象外",IF($D23<>"",ROUNDDOWN($H$7*$K23*$M$7,-1)*$I23+($I$7+$J$7)*$I23-$L23,""),0),"") -> 41580 | N23: 非該当
B24: 7 | C24: A福祉事務所 | D24: 生業 七郎 | E24: せいぎょう しちろう | H24: 31 | I24: =IF($D24<>"",IF($C24<>"※委託対象外",(IF($G24="",DAY(DATE($C$10,$D$10+1,0)),$G24))-(IF($F24="",1,$F24))-MAX($H24-6,0)+1,""),"") -> 3 | J24: 作成済 | K24: =IF($C24<>"",IF($J24="未作成（3月以上）",0.5,IF($J24="未作成（3月未満）",0.7,IF($J24="作成済",1,""))),"") -> 1 | M24: =IF($N24<>"",IF($C24<>"※委託対象外",IF($D24<>"",ROUNDDOWN($H$7*$K24*$M$7,-1)*$I24+($I$7+$J$7)*$I24-$L24,""),0),"") -> 4620 | N24: 該当
B25: 8 | C25: A福祉事務所 | D25: 生業 八郎 | E25: せいぎょう はちろう | F25: 3 | G25: 28 | I25: =IF($D25<>"",IF($C25<>"※委託対象外",(IF($G25="",DAY(DATE($C$10,$D$10+1,0)),$G25))-(IF($F25="",1,$F25))-MAX($H25-6,0)+1,""),"") -> 26 | J25: 作成済 | K25: =IF($C25<>"",IF($J25="未作成（3月以上）",0.5,IF($J25="未作成（3月未満）",0.7,IF($J25="作成済",1,""))),"") -> 1 | M25: =IF($N25<>"",IF($C25<>"※委託対象外",IF($D25<>"",ROUNDDOWN($H$7*$K25*$M$7,-1)*$I25+($I$7+$J$7)*$I25-$L25,""),0),"") -> 40040 | N25: 非該当
B26: 9 | C26: A福祉事務所 | D26: 生業 九郎 | E26: せいぎょう きゅうろう | F26: 3 | G26: 28 | H26: 5 | I26: =IF($D26<>"",IF($C26<>"※委託対象外",(IF($G26="",DAY(DATE($C$10,$D$10+1,0)),$G26))-(IF($F26="",1,$F26))-MAX($H26-6,0)+1,""),"") -> 26 | J26: 作成済 | K26: =IF($C26<>"",IF($J26="未作成（3月以上）",0.5,IF($J26="未作成（3月未満）",0.7,IF($J26="作成済",1,""))),"") -> 1 | M26: =IF($N26<>"",IF($C26<>"※委託対象外",IF($D26<>"",ROUNDDOWN($H$7*$K26*$M$7,-1)*$I26+($I$7+$J$7)*$I26-$L26,""),0),"") -> 40040 | N26: 該当
B27: 10 | C27: A福祉事務所 | D27: 生業 十郎 | E27: せいぎょう じゅうろう | F27: 3 | G27: 28 | H27: 10 | I27: =IF($D27<>"",IF($C27<>"※委託対象外",(IF($G27="",DAY(DATE($C$10,$D$10+1,0)),$G27))-(IF($F27="",1,$F27))-MAX($H27-6,0)+1,""),"") -> 22 | J27: 作成済 | K27: =IF($C27<>"",IF($J27="未作成（3月以上）",0.5,IF($J27="未作成（3月未満）",0.7,IF($J27="作成済",1,""))),"") -> 1 | M27: =IF($N27<>"",IF($C27<>"※委託対象外",IF($D27<>"",ROUNDDOWN($H$7*$K27*$M$7,-1)*$I27+($I$7+$J$7)*$I27-$L27,""),0),"") -> 33880 | N27: 非該当
B28: 11 | C28: B福祉事務所 | D28: 介護 朝夫 | E28: かいご あさお | I28: =IF($D28<>"",IF($C28<>"※委託対象外",(IF($G28="",DAY(DATE($C$10,$D$10+1,0)),$G28))-(IF($F28="",1,$F28))-MAX($H28-6,0)+1,""),"") -> 28 | J28: 未作成（3月未満） | K28: =IF($C28<>"",IF($J28="未作成（3月以上）",0.5,IF($J28="未作成（3月未満）",0.7,IF($J28="作成済",1,""))),"") -> 0.7 | M28: =IF($N28<>"",IF($C28<>"※委託対象外",IF($D28<>"",ROUNDDOWN($H$7*$K28*$M$7,-1)*$I28+($I$7+$J$7)*$I28-$L28,""),0),"") -> 36400 | N28: 該当
B29: 12 | C29: B福祉事務所 | D29: 介護 昼夫 | E29: かいご ひるお | I29: =IF($D29<>"",IF($C29<>"※委託対象外",(IF($G29="",DAY(DATE($C$10,$D$10+1,0)),$G29))-(IF($F29="",1,$F29))-MAX($H29-6,0)+1,""),"") -> 28 | J29: 作成済 | K29: =IF($C29<>"",IF($J29="未作成（3月以上）",0.5,IF($J29="未作成（3月未満）",0.7,IF($J29="作成済",1,""))),"") -> 1 | M29: =IF($N29<>"",IF($C29<>"※委託対象外",IF($D29<>"",ROUNDDOWN($H$7*$K29*$M$7,-1)*$I29+($I$7+$J$7)*$I29-$L29,""),0),"") -> 43120 | N29: 非該当
B30: 13 | C30: B福祉事務所 | D30: 介護 夜夫 | E30: かいご よるお | I30: =IF($D30<>"",IF($C30<>"※委託対象外",(IF($G30="",DAY(DATE($C$10,$D$10+1,0)),$G30))-(IF($F30="",1,$F30))-MAX($H30-6,0)+1,""),"") -> 28 | J30: 作成済 | K30: =IF($C30<>"",IF($J30="未作成（3月以上）",0.5,IF($J30="未作成（3月未満）",0.7,IF($J30="作成済",1,""))),"") -> 1 | M30: =IF($N30<>"",IF($C30<>"※委託対象外",IF($D30<>"",ROUNDDOWN($H$7*$K30*$M$7,-1)*$I30+($I$7+$J$7)*$I30-$L30,""),0),"") -> 43120 | N30: 該当
B31: 14 | C31: C福祉事務所 | D31: 教育 小彦 | E31: きょういく しょうひこ | I31: =IF($D31<>"",IF($C31<>"※委託対象外",(IF($G31="",DAY(DATE($C$10,$D$10+1,0)),$G31))-(IF($F31="",1,$F31))-MAX($H31-6,0)+1,""),"") -> 28 | J31: 未作成（3月以上） | K31: =IF($C31<>"",IF($J31="未作成（3月以上）",0.5,IF($J31="未作成（3月未満）",0.7,IF($J31="作成済",1,""))),"") -> 0.5 | M31: =IF($N31<>"",IF($C31<>"※委託対象外",IF($D31<>"",ROUNDDOWN($H$7*$K31*$M$7,-1)*$I31+($I$7+$J$7)*$I31-$L31,""),0),"") -> 32200 | N31: 非該当
B32: 15 | C32: C福祉事務所 | D32: 教育 中彦 | E32: きょういく ちゅうひこ | I32: =IF($D32<>"",IF($C32<>"※委託対象外",(IF($G32="",DAY(DATE($C$10,$D$10+1,0)),$G32))-(IF($F32="",1,$F32))-MAX($H32-6,0)+1,""),"") -> 28 | J32: 作成済 | K32: =IF($C32<>"",IF($J32="未作成（3月以上）",0.5,IF($J32="未作成（3月未満）",0.7,IF($J32="作成済",1,""))),"") -> 1 | M32: =IF($N32<>"",IF($C32<>"※委託対象外",IF($D32<>"",ROUNDDOWN($H$7*$K32*$M$7,-1)*$I32+($I$7+$J$7)*$I32-$L32,""),0),"") -> 43120 | N32: 該当
B33: 16 | C33: C福祉事務所 | D33: 教育 高彦 | E33: きょういく たかひこ | I33: =IF($D33<>"",IF($C33<>"※委託対象外",(IF($G33="",DAY(DATE($C$10,$D$10+1,0)),$G33))-(IF($F33="",1,$F33))-MAX($H33-6,0)+1,""),"") -> 28 | J33: 作成済 | K33: =IF($C33<>"",IF($J33="未作成（3月以上）",0.5,IF($J33="未作成（3月未満）",0.7,IF($J33="作成済",1,""))),"") -> 1 | M33: =IF($N33<>"",IF($C33<>"※委託対象外",IF($D33<>"",ROUNDDOWN($H$7*$K33*$M$7,-1)*$I33+($I$7+$J$7)*$I33-$L33,""),0),"") -> 43120 | N33: 非該当
B34: 17 | C34: C福祉事務所 | D34: 教育 大彦 | E34: きょういく だいひこ | G34: 2 | I34: =IF($D34<>"",IF($C34<>"※委託対象外",(IF($G34="",DAY(DATE($C$10,$D$10+1,0)),$G34))-(IF($F34="",1,$F34))-MAX($H34-6,0)+1,""),"") -> 2 | J34: 作成済 | K34: =IF($C34<>"",IF($J34="未作成（3月以上）",0.5,IF($J34="未作成（3月未満）",0.7,IF($J34="作成済",1,""))),"") -> 1 | M34: =IF($N34<>"",IF($C34<>"※委託対象外",IF($D34<>"",ROUNDDOWN($H$7*$K34*$M$7,-1)*$I34+($I$7+$J$7)*$I34-$L34,""),0),"") -> 3080 | N34: 該当
B35: 18 | C35: ※委託対象外 | D35: 困窮 甲太 | E35: こんきゅう こうた | I35: =IF($D35<>"",IF($C35<>"※委託対象外",(IF($G35="",DAY(DATE($C$10,$D$10+1,0)),$G35))-(IF($F35="",1,$F35))-MAX($H35-6,0)+1,""),"") | K35: =IF($C35<>"",IF($J35="未作成（3月以上）",0.5,IF($J35="未作成（3月未満）",0.7,IF($J35="作成済",1,""))),"") | M35: =IF($N35<>"",IF($C35<>"※委託対象外",IF($D35<>"",ROUNDDOWN($H$7*$K35*$M$7,-1)*$I35+($I$7+$J$7)*$I35-$L35,""),0),"") -> 0 | N35: 非該当
B36: 19 | C36: ※委託対象外 | D36: 困窮 乙太 | E36: こんきゅう おつた | I36: =IF($D36<>"",IF($C36<>"※委託対象外",(IF($G36="",DAY(DATE($C$10,$D$10+1,0)),$G36))-(IF($F36="",1,$F36))-MAX($H36-6,0)+1,""),"") | K36: =IF($C36<>"",IF($J36="未作成（3月以上）",0.5,IF($J36="未作成（3月未満）",0.7,IF($J36="作成済",1,""))),"") | M36: =IF($N36<>"",IF($C36<>"※委託対象外",IF($D36<>"",ROUNDDOWN($H$7*$K36*$M$7,-1)*$I36+($I$7+$J$7)*$I36-$L36,""),0),"") -> 0 | N36: 該当
B37: 20 | C37: ※委託対象外 | D37: 困窮 丙太 | E37: こんきゅう へいた | I37: =IF($D37<>"",IF($C37<>"※委託対象外",(IF($G37="",DAY(DATE($C$10,$D$10+1,0)),$G37))-(IF($F37="",1,$F37))-MAX($H37-6,0)+1,""),"") | K37: =IF($C37<>"",IF($J37="未作成（3月以上）",0.5,IF($J37="未作成（3月未満）",0.7,IF($J37="作成済",1,""))),"") | M37: =IF($N37<>"",IF($C37<>"※委託対象外",IF($D37<>"",ROUNDDOWN($H$7*$K37*$M$7,-1)*$I37+($I$7+$J$7)*$I37-$L37,""),0),"") -> 0 | N37: 該当
B38: 21 | C38: ※委託対象外 | D38: 困窮 丁太 | E38: こんきゅう ていた | I38: =IF($D38<>"",IF($C38<>"※委託対象外",(IF($G38="",DAY(DATE($C$10,$D$10+1,0)),$G38))-(IF($F38="",1,$F38))-MAX($H38-6,0)+1,""),"") | K38: =IF($C38<>"",IF($J38="未作成（3月以上）",0.5,IF($J38="未作成（3月未満）",0.7,IF($J38="作成済",1,""))),"") | M38: =IF($N38<>"",IF($C38<>"※委託対象外",IF($D38<>"",ROUNDDOWN($H$7*$K38*$M$7,-1)*$I38+($I$7+$J$7)*$I38-$L38,""),0),"") -> 0 | N38: 非該当
B39: 22 | I39: =IF($D39<>"",IF($C39<>"※委託対象外",(IF($G39="",DAY(DATE($C$10,$D$10+1,0)),$G39))-(IF($F39="",1,$F39))-MAX($H39-6,0)+1,""),"") | K39: =IF($C39<>"",IF($J39="未作成（3月以上）",0.5,IF($J39="未作成（3月未満）",0.7,IF($J39="作成済",1,""))),"") | M39: =IF($N39<>"",IF($C39<>"※委託対象外",IF($D39<>"",ROUNDDOWN($H$7*$K39*$M$7,-1)*$I39+($I$7+$J$7)*$I39-$L39,""),0),"")
B40: 23 | I40: =IF($D40<>"",IF($C40<>"※委託対象外",(IF($G40="",DAY(DATE($C$10,$D$10+1,0)),$G40))-(IF($F40="",1,$F40))-MAX($H40-6,0)+1,""),"") | K40: =IF($C40<>"",IF($J40="未作成（3月以上）",0.5,IF($J40="未作成（3月未満）",0.7,IF($J40="作成済",1,""))),"") | M40: =IF($N40<>"",IF($C40<>"※委託対象外",IF($D40<>"",ROUNDDOWN($H$7*$K40*$M$7,-1)*$I40+($I$7+$J$7)*$I40-$L40,""),0),"")
B41: 24 | I41: =IF($D41<>"",IF($C41<>"※委託対象外",(IF($G41="",DAY(DATE($C$10,$D$10+1,0)),$G41))-(IF($F41="",1,$F41))-MAX($H41-6,0)+1,""),"") | K41: =IF($C41<>"",IF($J41="未作成（3月以上）",0.5,IF($J41="未作成（3月未満）",0.7,IF($J41="作成済",1,""))),"") | M41: =IF($N41<>"",IF($C41<>"※委託対象外",IF($D41<>"",ROUNDDOWN($H$7*$K41*$M$7,-1)*$I41+($I$7+$J$7)*$I41-$L41,""),0),"")
B42: 25 | I42: =IF($D42<>"",IF($C42<>"※委託対象外",(IF($G42="",DAY(DATE($C$10,$D$10+1,0)),$G42))-(IF($F42="",1,$F42))-MAX($H42-6,0)+1,""),"") | K42: =IF($C42<>"",IF($J42="未作成（3月以上）",0.5,IF($J42="未作成（3月未満）",0.7,IF($J42="作成済",1,""))),"") | M42: =IF($N42<>"",IF($C42<>"※委託対象外",IF($D42<>"",ROUNDDOWN($H$7*$K42*$M$7,-1)*$I42+($I$7+$J$7)*$I42-$L42,""),0),"")
B43: 26 | I43: =IF($D43<>"",IF($C43<>"※委託対象外",(IF($G43="",DAY(DATE($C$10,$D$10+1,0)),$G43))-(IF($F43="",1,$F43))-MAX($H43-6,0)+1,""),"") | K43: =IF($C43<>"",IF($J43="未作成（3月以上）",0.5,IF($J43="未作成（3月未満）",0.7,IF($J43="作成済",1,""))),"") | M43: =IF($N43<>"",IF($C43<>"※委託対象外",IF($D43<>"",ROUNDDOWN($H$7*$K43*$M$7,-1)*$I43+($I$7+$J$7)*$I43-$L43,""),0),"")
B44: 27 | I44: =IF($D44<>"",IF($C44<>"※委託対象外",(IF($G44="",DAY(DATE($C$10,$D$10+1,0)),$G44))-(IF($F44="",1,$F44))-MAX($H44-6,0)+1,""),"") | K44: =IF($C44<>"",IF($J44="未作成（3月以上）",0.5,IF($J44="未作成（3月未満）",0.7,IF($J44="作成済",1,""))),"") | M44: =IF($N44<>"",IF($C44<>"※委託対象外",IF($D44<>"",ROUNDDOWN($H$7*$K44*$M$7,-1)*$I44+($I$7+$J$7)*$I44-$L44,""),0),"")
B45: 28 | I45: =IF($D45<>"",IF($C45<>"※委託対象外",(IF($G45="",DAY(DATE($C$10,$D$10+1,0)),$G45))-(IF($F45="",1,$F45))-MAX($H45-6,0)+1,""),"") | K45: =IF($C45<>"",IF($J45="未作成（3月以上）",0.5,IF($J45="未作成（3月未満）",0.7,IF($J45="作成済",1,""))),"") | M45: =IF($N45<>"",IF($C45<>"※委託対象外",IF($D45<>"",ROUNDDOWN($H$7*$K45*$M$7,-1)*$I45+($I$7+$J$7)*$I45-$L45,""),0),"")
B46: 29 | I46: =IF($D46<>"",IF($C46<>"※委託対象外",(IF($G46="",DAY(DATE($C$10,$D$10+1,0)),$G46))-(IF($F46="",1,$F46))-MAX($H46-6,0)+1,""),"") | K46: =IF($C46<>"",IF($J46="未作成（3月以上）",0.5,IF($J46="未作成（3月未満）",0.7,IF($J46="作成済",1,""))),"") | M46: =IF($N46<>"",IF($C46<>"※委託対象外",IF($D46<>"",ROUNDDOWN($H$7*$K46*$M$7,-1)*$I46+($I$7+$J$7)*$I46-$L46,""),0),"")
B47: 30 | I47: =IF($D47<>"",IF($C47<>"※委託対象外",(IF($G47="",DAY(DATE($C$10,$D$10+1,0)),$G47))-(IF($F47="",1,$F47))-MAX($H47-6,0)+1,""),"") | K47: =IF($C47<>"",IF($J47="未作成（3月以上）",0.5,IF($J47="未作成（3月未満）",0.7,IF($J47="作成済",1,""))),"") | M47: =IF($N47<>"",IF($C47<>"※委託対象外",IF($D47<>"",ROUNDDOWN($H$7*$K47*$M$7,-1)*$I47+($I$7+$J$7)*$I47-$L47,""),0),"")
B48: 31 | I48: =IF($D48<>"",IF($C48<>"※委託対象外",(IF($G48="",DAY(DATE($C$10,$D$10+1,0)),$G48))-(IF($F48="",1,$F48))-MAX($H48-6,0)+1,""),"") | K48: =IF($C48<>"",IF($J48="未作成（3月以上）",0.5,IF($J48="未作成（3月未満）",0.7,IF($J48="作成済",1,""))),"") | M48: =IF($N48<>"",IF($C48<>"※委託対象外",IF($D48<>"",ROUNDDOWN($H$7*$K48*$M$7,-1)*$I48+($I$7+$J$7)*$I48-$L48,""),0),"")
B49: 32 | I49: =IF($D49<>"",IF($C49<>"※委託対象外",(IF($G49="",DAY(DATE($C$10,$D$10+1,0)),$G49))-(IF($F49="",1,$F49))-MAX($H49-6,0)+1,""),"") | K49: =IF($C49<>"",IF($J49="未作成（3月以上）",0.5,IF($J49="未作成（3月未満）",0.7,IF($J49="作成済",1,""))),"") | M49: =IF($N49<>"",IF($C49<>"※委託対象外",IF($D49<>"",ROUNDDOWN($H$7*$K49*$M$7,-1)*$I49+($I$7+$J$7)*$I49-$L49,""),0),"")
B50: 33 | I50: =IF($D50<>"",IF($C50<>"※委託対象外",(IF($G50="",DAY(DATE($C$10,$D$10+1,0)),$G50))-(IF($F50="",1,$F50))-MAX($H50-6,0)+1,""),"") | K50: =IF($C50<>"",IF($J50="未作成（3月以上）",0.5,IF($J50="未作成（3月未満）",0.7,IF($J50="作成済",1,""))),"") | M50: =IF($N50<>"",IF($C50<>"※委託対象外",IF($D50<>"",ROUNDDOWN($H$7*$K50*$M$7,-1)*$I50+($I$7+$J$7)*$I50-$L50,""),0),"")
... B117: 100 | I117: =IF($D117<>"",IF($C117<>"※委託対象外",(IF($G117="",DAY(DATE($C$10,$D$10+1,0)),$G117))-(IF($F117="",1,$F117))-MAX($H117-6,0)+1,""),"") | K117: =IF($C117<>"",IF($J117="未作成（3月以上）",0.5,IF($J117="未作成（3月未満）",0.7,IF($J117="作成済",1,""))),"") | M117: =IF($N117<>"",IF($C117<>"※委託対象外",IF($D117<>"",ROUNDDOWN($H$7*$K117*$M$7,-1)*$I117+($I$7+$J$7)*$I117-$L117,""),0),"")

Sheet リスト【入力例】
B1: ドロップダウンリスト
B2: 委託元 福祉事務所名 | D2: 法人名 | E2: NPO法人ニチジュウ | G2: 職員欠如 | H2: 個別支援計画 | I2: 重点的要支援者 | J2: 月 | K2: 年
A3: 1 | B3: ※委託対象外 | D3: 施設名 | E3: 日住一番館 | G3: 充足 | H3: 作成済 | I3: 該当 | J3: 1 | K3: 2020
A4: 2 | B4: A福祉事務所 | D4: 所在地 | E4: 東京都千代田区麹町1-1-1 | G4: 欠如（3月未満） | H4: 未作成（3月未満） | I4: 非該当 | J4: 2 | K4: 2021
A5: 3 | B5: B福祉事務所 | D5: 責任者 | E5: 理事長 支援 太郎 | G5: 欠如（3月以上） | H5: 未作成（3月以上） | J5: 3 | K5: 2022
A6: 4 | B6: C福祉事務所 | D6: 金融機関 | E6: スイカ銀行 | J6: 4 | K6: 2023
A7: 5 | B7: D福祉事務所 | D7: 支店名 | E7: 小玉西瓜支店 | J7: 5 | K7: 2024
A8: 6 | D8: 口座番号 | E8: （普通）1234567 | J8: 6 | K8: 2025
A9: 7 | D9: 口座名義 | E9: NPO法人ニチジュウ | J9: 7 | K9: 2026
A10: 8 | J10: 8 | K10: 2027
A11: 9 | J11: 9 | K11: 2028
A12: 10 | J12: 10 | K12: 2029
A13: 11 | J13: 11 | K13: 2030
A14: 12 | J14: 12 | K14: 2031
A15: 13 | K15: 2032
A16: 14 | K16: 2033
A17: 15 | K17: 2034
A18: 16 | K18: 2035
A19: 17 | K19: 2036
A20: 18 | K20: 2037
A21: 19 | K21: 2038
A22: 20 | K22: 2039
A23: 21 | K23: 2040
A24: 22 | K24: 2041
A25: 23 | K25: 2042
A26: 24 | K26: 2043
... A32: 30 | K32: 2049
K33: 2050
K34: 2051
K35: 2052
K36: 2053
K37: 2054
K38: 2055
K39: 2056
K40: 2057
K41: 2058
K42: 2059
K43: 2060
K44: 2061
... K100: 2117
