Workbook

Sheet 1(1) 集団健康教育の実施状況(健康推進係)
A1: §6 成人保健
A2: 1 健 康 教 育
A3: (1) 集団健康教育の実施状況 | J3: 平成28年度
A4: 区 分 | B4: 開催 回数 | C4: 参 加 延人員 | D4: 従事者延人員
D5: 総 数 | E5: 医 師 | F5: 歯科医師 | G5: 歯 科 衛生士 | H5: 保健師 | I5: 栄養士 | J5: その他
A6: 総 数 | B6: =SUM(B7:B12) -> 694 | C6: =SUM(C7:C12) -> 29834 | D6: =SUM(D7:D12) -> 2219 | E6: =SUM(E7:E12) -> 68 | F6: =SUM(F7:F12) -> 39 | G6: =SUM(G7:G12) -> 18 | H6: =SUM(H7:H12) -> 547 | I6: =SUM(I7:I12) -> 530 | J6: =SUM(J7:J12) -> 1017
A7: 一般健康教育 | B7: 613 | C7: 25979 | D7: =SUM(E7:J7) -> 1972 | E7: 9 | F7: 23 | G7: 14 | H7: 456 | I7: 529 | J7: 941
A8: 歯周疾患健康教育 | B8: 10 | C8: 404 | D8: =SUM(E8:J8) -> 32 | E8: 0 | F8: 16 | G8: 3 | H8: 6 | I8: 0 | J8: 7
A9: ロコモティブシンドローム （運動器症候群） | B9: 4 | C9: 94 | D9: =SUM(E9:J9) -> 9 | E9: 2 | F9: 0 | G9: 0 | H9: 7 | I9: 0 | J9: 0
A10: 慢性閉塞性肺疾患 （ C O P D ) | B10: 0 | C10: 0 | D10: =SUM(E10:J10) -> 0 | E10: 0 | F10: 0 | G10: 0 | H10: 0 | I10: 0 | J10: 0
A11: 病態別健康教育 | B11: 57 | C11: 2962 | D11: =SUM(E11:J11) -> 177 | E11: 57 | F11: 0 | G11: 1 | H11: 69 | I11: 0 | J11: 50
A12: 薬健康教育 | B12: 10 | C12: 395 | D12: =SUM(E12:J12) -> 29 | E12: 0 | F12: 0 | G12: 0 | H12: 9 | I12: 1 | J12: 19
J13: 資料 保健所健康企画課

Sheet 1(2)一般健康教育の実施内訳(健康推進係)
A1: (2) 一般健康教育の実施内訳
J2: 平成28年度
A3: 区 分 | B3: 開催 回数 | C3: 参 加 延人員 | D3: 従事者延人員
D4: 総 数 | E4: 医 師 | F4: 歯科医師 | G4: 歯 科 衛生士 | H4: 保健師 | I4: 栄養士 | J4: その他
A5: 総数 | B5: =SUM(B6:B12) -> 613 | C5: =SUM(C6:C12) -> 25979 | D5: =SUM(D6:D12) -> 1972 | E5: =SUM(E6:E12) -> 9 | F5: =SUM(F6:F12) -> 23 | G5: =SUM(G6:G12) -> 14 | H5: =SUM(H6:H12) -> 456 | I5: =SUM(I6:I12) -> 529 | J5: =SUM(J6:J12) -> 941
A6: 栄養・食生活 | B6: 298 | C6: 8978 | D6: =SUM(E6:J6) -> 766 | E6: 5 | F6: 0 | G6: 2 | H6: 43 | I6: 453 | J6: 263
A7: 運動 | B7: 154 | C7: 6636 | D7: =SUM(E7:J7) -> 355 | E7: 0 | F7: 0 | G7: 0 | H7: 158 | I7: 15 | J7: 182
A8: 休養 | B8: 2 | C8: 44 | D8: =SUM(E8:J8) -> 3 | E8: 0 | F8: 0 | G8: 0 | H8: 3 | I8: 0 | J8: 0
A9: たばこ | B9: 0 | C9: 0 | D9: =SUM(E9:J9) -> 0 | E9: 0 | F9: 0 | G9: 0 | H9: 0 | I9: 0 | J9: 0
A10: アルコール | B10: 1 | C10: 11 | D10: =SUM(E10:J10) -> 1 | E10: 0 | F10: 0 | G10: 0 | H10: 0 | I10: 1 | J10: 0
A11: 歯の健康 | B11: 4 | C11: 206 | D11: =SUM(E11:J11) -> 7 | E11: 0 | F11: 0 | G11: 3 | H11: 1 | I11: 0 | J11: 3
A12: その他 | B12: 154 | C12: 10104 | D12: =SUM(E12:J12) -> 840 | E12: 4 | F12: 23 | G12: 9 | H12: 251 | I12: 60 | J12: 493
J13: 資料 保健所健康企画課

Sheet 2・3 特定健診・特定保健指導(保険企画課)
A1: 2 特定健診
S2: 平成28年度
A3: 区 分 | E3: 総 数 | H3: 40歳～49歳 | K3: 50歳～59歳 | N3: 60歳～69歳 | Q3: 70歳～74歳
F4: 男 | G4: 女 | I4: 男 | J4: 女 | L4: 男 | M4: 女 | O4: 男 | P4: 女 | R4: 男 | S4: 女
A5: 特定健診 | B5: 対象者数 | E5: =F5+G5 -> 332142 | F5: =I5+L5+O5+R5 -> 145974 | G5: =J5+M5+P5+S5 -> 186168 | H5: =I5+J5 -> 56711 | I5: 28276 | J5: 28435 | K5: =L5+M5 -> 52078 | L5: 23381 | M5: 28697 | N5: =SUM(O5:P5) -> 140701 | O5: 58240 | P5: 82461 | Q5: =R5+S5 -> 82652 | R5: 36077 | S5: 46575
B6: 受診者数 | E6: =F6+G6 -> 61979 | F6: =I6+L6+O6+R6 -> 23560 | G6: =J6+M6+P6+S6 -> 38419 | H6: =I6+J6 -> 5829 | I6: 2533 | J6: 3296 | K6: =L6+M6 -> 6450 | L6: 2350 | M6: 4100 | N6: =SUM(O6:P6) -> 31049 | O6: 11531 | P6: 19518 | Q6: =R6+S6 -> 18651 | R6: 7146 | S6: 11505
B7: 受診率 | E7: =ROUND(E6/E5,4) -> 0.1866 | F7: =ROUND(F6/F5,4) -> 0.1614 | G7: =ROUND(G6/G5,4) -> 0.2064 | H7: =ROUND(H6/H5,4) -> 0.1028 | I7: =ROUND(I6/I5,4) -> 0.0896 | J7: =ROUND(J6/J5,4) -> 0.1159 | K7: =ROUND(K6/K5,4) -> 0.1239 | L7: =ROUND(L6/L5,4) -> 0.1005 | ... S7: =ROUND(S6/S5,4) -> 0.247
A8: 特定健診有所見状況（重複あり） | B8: 腹囲 | E8: =F8+G8 -> 17295 | F8: =SUM(I8,L8,O8,R8) -> 11828 | G8: =SUM(J8,M8,P8,S8) -> 5467 | H8: =I8+J8 -> 1583 | I8: 1224 | J8: 359 | K8: =L8+M8 -> 1796 | L8: 1275 | M8: 521 | N8: =O8+P8 -> 8699 | O8: 5918 | P8: 2781 | Q8: =R8+S8 -> 5217 | R8: 3411 | S8: 1806
B9: B M I | E9: =F9+G9 -> 14609 | F9: =SUM(I9,L9,O9,R9) -> 7633 | G9: =SUM(J9,M9,P9,S9) -> 6976 | H9: =I9+J9 -> 1453 | I9: 939 | J9: 514 | K9: =L9+M9 -> 1557 | L9: 879 | M9: 678 | N9: =O9+P9 -> 7249 | O9: 3724 | P9: 3525 | Q9: =R9+S9 -> 4350 | R9: 2091 | S9: 2259
B10: 収縮期血圧 | E10: =F10+G10 -> 26526 | F10: =SUM(I10,L10,O10,R10) -> 11546 | G10: =SUM(J10,M10,P10,S10) -> 14980 | H10: =I10+J10 -> 1119 | I10: 709 | J10: 410 | K10: =L10+M10 -> 1924 | L10: 912 | M10: 1012 | N10: =O10+P10 -> 13822 | O10: 5998 | P10: 7824 | Q10: =R10+S10 -> 9661 | R10: 3927 | S10: 5734
B11: 拡張期血圧 | E11: =F11+G11 -> 11166 | F11: =SUM(I11,L11,O11,R11) -> 5770 | G11: =SUM(J11,M11,P11,S11) -> 5396 | H11: =I11+J11 -> 804 | I11: 554 | J11: 250 | K11: =L11+M11 -> 1239 | L11: 653 | M11: 586 | N11: =O11+P11 -> 6010 | O11: 3097 | P11: 2913 | Q11: =R11+S11 -> 3113 | R11: 1466 | S11: 1647
B12: 中性脂肪 | E12: =F12+G12 -> 12396 | F12: =SUM(I12,L12,O12,R12) -> 6721 | G12: =SUM(J12,M12,P12,S12) -> 5675 | H12: =I12+J12 -> 1166 | I12: 856 | J12: 310 | K12: =L12+M12 -> 1396 | L12: 837 | M12: 559 | N12: =O12+P12 -> 6319 | O12: 3326 | P12: 2993 | Q12: =R12+S12 -> 3515 | R12: 1702 | S12: 1813
B13: ＨＤＬコレステロール | E13: =F13+G13 -> 2184 | F13: =SUM(I13,L13,O13,R13) -> 1727 | G13: =SUM(J13,M13,P13,S13) -> 457 | H13: =I13+J13 -> 240 | I13: 202 | J13: 38 | K13: =L13+M13 -> 226 | L13: 186 | M13: 40 | N13: =O13+P13 -> 1030 | O13: 810 | P13: 220 | Q13: =R13+S13 -> 688 | R13: 529 | S13: 159
B14: ＬＤＬコレステロール | E14: =F14+G14 -> 36582 | F14: =SUM(I14,L14,O14,R14) -> 12506 | G14: =SUM(J14,M14,P14,S14) -> 24076 | H14: =I14+J14 -> 2794 | I14: 1457 | J14: 1337 | K14: =L14+M14 -> 3875 | L14: 1308 | M14: 2567 | N14: =O14+P14 -> 19198 | O14: 6145 | P14: 13053 | Q14: =R14+S14 -> 10715 | R14: 3596 | S14: 7119
B15: 空腹時血糖 | E15: =F15+G15 -> 14297 | F15: =SUM(I15,L15,O15,R15) -> 7457 | G15: =SUM(J15,M15,P15,S15) -> 6840 | H15: =I15+J15 -> 632 | I15: 427 | J15: 205 | K15: =L15+M15 -> 1184 | L15: 630 | M15: 554 | N15: =O15+P15 -> 7637 | O15: 3951 | P15: 3686 | Q15: =R15+S15 -> 4844 | R15: 2449 | S15: 2395
B16: ヘモグロビンＡ１ｃ | E16: =F16+G16 -> 26811 | F16: =SUM(I16,L16,O16,R16) -> 10554 | G16: =SUM(J16,M16,P16,S16) -> 16257 | H16: =I16+J16 -> 1006 | I16: 531 | J16: 475 | K16: =L16+M16 -> 2133 | L16: 879 | M16: 1254 | N16: =O16+P16 -> 14270 | O16: 5470 | P16: 8800 | Q16: =R16+S16 -> 9402 | R16: 3674 | S16: 5728
B17: ＡＳＴ（ＧＯＴ） | E17: =F17+G17 -> 7590 | F17: =SUM(I17,L17,O17,R17) -> 4043 | G17: =SUM(J17,M17,P17,S17) -> 3547 | H17: =I17+J17 -> 638 | I17: 482 | J17: 156 | K17: =L17+M17 -> 819 | L17: 452 | M17: 367 | N17: =O17+P17 -> 3779 | O17: 1933 | P17: 1846 | Q17: =R17+S17 -> 2354 | R17: 1176 | S17: 1178
B18: ＡＬＴ（ＧＰＴ） | E18: =F18+G18 -> 8397 | F18: =SUM(I18,L18,O18,R18) -> 5049 | G18: =SUM(J18,M18,P18,S18) -> 3348 | H18: =I18+J18 -> 1108 | I18: 892 | J18: 216 | K18: =L18+M18 -> 1124 | L18: 688 | M18: 436 | N18: =O18+P18 -> 4181 | O18: 2372 | P18: 1809 | Q18: =R18+S18 -> 1984 | R18: 1097 | S18: 887
B19: γ-ＧＴ（γ-ＧＴＰ） | E19: =F19+G19 -> 9651 | F19: =SUM(I19,L19,O19,R19) -> 6242 | G19: =SUM(J19,M19,P19,S19) -> 3409 | H19: =I19+J19 -> 997 | I19: 768 | J19: 229 | K19: =L19+M19 -> 1303 | L19: 804 | M19: 499 | N19: =O19+P19 -> 5025 | O19: 3184 | P19: 1841 | Q19: =R19+S19 -> 2326 | R19: 1486 | S19: 840
A20: 特定保健指導 | B20: 積極的支援 | C20: 対象者数 | E20: =F20+G20 -> 1737 | F20: =SUM(I20,L20,O20) -> 1375 | G20: =SUM(J20,M20,P20) -> 362 | H20: =I20+J20 -> 640 | I20: 544 | J20: 96 | K20: =L20+M20 -> 565 | L20: 446 | M20: 119 | N20: =O20+P20 -> 532 | O20: 385 | P20: 147
C21: 利用者数 | E21: =F21+G21 -> 99 | F21: =SUM(I21,L21,O21) -> 67 | G21: =SUM(J21,M21,P21) -> 32 | H21: =I21+J21 -> 28 | I21: 23 | J21: 5 | K21: =L21+M21 -> 31 | L21: 22 | M21: 9 | N21: =O21+P21 -> 40 | O21: 22 | P21: 18
C22: 利用率 | E22: =ROUND(E21/E20,4) -> 0.057 | F22: =ROUND(F21/F20,4) -> 0.0487 | G22: =ROUND(G21/G20,4) -> 0.0884 | H22: =ROUND(H21/H20,4) -> 0.0438 | I22: =ROUND(I21/I20,4) -> 0.0423 | J22: =ROUND(J21/J20,4) -> 0.0521 | K22: =ROUND(K21/K20,4) -> 0.0549 | L22: =ROUND(L21/L20,4) -> 0.0493 | ... P22: =ROUND(P21/P20,4) -> 0.1224
B23: 動機付け支援 | C23: 対象者数 | E23: =F23+G23 -> 5713 | F23: =SUM(I23,L23,O23,R23) -> 3558 | G23: =SUM(J23,M23,P23,S23) -> 2155 | H23: =I23+J23 -> 391 | I23: 261 | J23: 130 | K23: =L23+M23 -> 408 | L23: 223 | M23: 185 | N23: =O23+P23 -> 2989 | O23: 1886 | P23: 1103 | Q23: =R23+S23 -> 1925 | R23: 1188 | S23: 737
C24: 利用者数 | E24: =F24+G24 -> 648 | F24: =SUM(I24,L24,O24,R24) -> 383 | G24: =SUM(J24,M24,P24,S24) -> 265 | H24: =I24+J24 -> 33 | I24: 21 | J24: 12 | K24: =L24+M24 -> 34 | L24: 16 | M24: 18 | N24: =O24+P24 -> 365 | O24: 220 | P24: 145 | Q24: =R24+S24 -> 216 | R24: 126 | S24: 90
C25: 利用率 | E25: =ROUND(E24/E23,4) -> 0.1134 | F25: =ROUND(F24/F23,4) -> 0.1076 | G25: =ROUND(G24/G23,4) -> 0.123 | H25: =ROUND(H24/H23,4) -> 0.0844 | I25: =ROUND(I24/I23,4) -> 0.0805 | J25: =ROUND(J24/J23,4) -> 0.0923 | K25: =ROUND(K24/K23,4) -> 0.0833 | L25: =ROUND(L24/L23,4) -> 0.0717 | ... S25: =ROUND(S24/S23,4) -> 0.1221
A26: ※ 対象者数及び受診（利用）者数は実数ベース（途中加入、途中脱退者等を含む） | S26: 資料 保険医療部保険企画課
A27: ※ 有所見とは保健指導判定域と受診勧奨判定域のもの。
A28: ※ 特定保健指導利用者は初回面接を実施した者の数。
A30: （参考）特定健診・特定保健指導法定報告 | J30: 3 後期高齢者健診
G31: =S2 -> 平成28年度 | P31: =S2 -> 平成28年度
A32: 特定健診 | D32: 対象者数 | F32: 274953 | J32: 区 分 | N32: 総数 | O32: 男 | P32: 女
D33: 受診者数 | F33: 55705
D34: 実施率 | F34: =F33/F32 -> 0.20259826 | J34: 健診 | K34: 対象者数 | N34: =O34+P34 -> 228169 | O34: 86819 | P34: 141350
A35: 特定保健指導 | C35: 動機付け 支援 | D35: 対象者数 | F35: 5126 | K35: 受診者数 | N35: =O35+P35 -> 26329 | O35: 10311 | P35: 16018
D36: 終了者数 | F36: 520 | K36: 受診率 | N36: =ROUND(N35/N34,4) -> 0.1154 | O36: =ROUND(O35/O34,4) -> 0.1188 | P36: =ROUND(P35/P34,4) -> 0.1133
D37: 実施率 | F37: =F36/F35 -> 0.10144362 | J37: 健診有所見状況（重複あり） | K37: 収縮期血圧 | N37: =O37+P37 -> 15562 | O37: 6044 | P37: 9518
C38: 積極的 支援 | D38: 対象者数 | F38: 1465 | K38: 拡張期血圧 | N38: =O38+P38 -> 3616 | O38: 1560 | P38: 2056
D39: 終了者数 | F39: 79 | K39: 中性脂肪 | N39: =O39+P39 -> 4721 | O39: 2043 | P39: 2678
D40: 実施率 | F40: =F39/F38 -> 0.053924915 | K40: ＨＤＬコレステロール | N40: =O40+P40 -> 1330 | O40: 888 | P40: 442
C41: 合計 | D41: 対象者数 | F41: =F35+F38 -> 6591 | K41: ＬＤＬコレステロール | N41: =O41+P41 -> 12924 | O41: 4327 | P41: 8597
D42: 終了者数 | F42: =F36+F39 -> 599 | K42: 空腹時血糖 | N42: =O42+P42 -> 6788 | O42: 3415 | P42: 3373
D43: 実施率 | F43: =F42/F41 -> 0.090881505 | K43: ヘモグロビンＡ１ｃ | N43: =O43+P43 -> 13559 | O43: 5498 | P43: 8061
A44: ※ 対象者数及び受診者数、終了者数は法定報 告ベース（途中加入、途中脱退者等を除く） ※ 社会保険診療報酬支払基金へ報告した値。 | K44: ＡＳＴ（ＧＯＴ） | N44: =O44+P44 -> 3399 | O44: 1591 | P44: 1808
K45: ＡＬＴ（ＧＰＴ） | N45: =O45+P45 -> 2080 | O45: 1150 | P45: 930
H46: 資料 保険医療部保険企画課 | K46: γ-ＧＴ（γ-ＧＴＰ） | N46: =O46+P46 -> 2498 | O46: 1578 | P46: 920
J47: ※ 対象者数及び受診者数は実数ベース（途中加入、途中脱退者等を含む）
J48: ※ 有所見とは特定健診での保健指導判定域と受診勧奨判定域のもの。
S49: 資料 保険医療部保険企画課

Sheet 4 肝炎ウイルス検診(感染症) 
A1: 4 肝炎ウイルス検診
E2: 平成28年度
A3: 区 分 | E3: 総 数
E4: 総 数
A5: 受診者数 | B5: 総数 | E5: =E6+E10 -> 39637
B6: 委託医療機関 | C6: 総数 | E6: =E7+E8+E9 -> 36515
C7: Ｃ型Ｂ型 | E7: 35617
C8: Ｃ型のみ | E8: 758
C9: Ｂ型のみ | E9: 140
B10: 住民集団検診 | C10: 総数 | E10: =E11+E12+E13 -> 3122
C11: Ｃ型Ｂ型 | E11: 3119
C12: Ｃ型のみ | E12: 3
C13: Ｂ型のみ | E13: 0
A14: 札幌市内に居住する者でこれまでに肝炎ウイルス検査を受けたことがない者を対象に実施。
G15: 資料 保健所感染症総合対策課

Sheet 5(1) 訪問指導(健康推進係)
A1: 5 訪 問 指 導
A2: （1） 実施状況
E3: 平成28年度
A4: 区 分 | D4: 被訪問指導人員
D5: 実人員 | E5: 延人員
A6: 要指導者等 | D6: 11 | E6: 25
A7: 個別健康教育対象者 | D7: - | E7: －
A8: 閉じこもり予防 | D8: 14 | E8: 20
A9: 介護家族者 | D9: 632 | E9: 901
A10: 寝たきり者 | D10: 21 | E10: 40
B11: (再 掲) | C11: 口腔衛生指導
B12: (再 掲) | C12: 栄 養 指 導
A13: 認知症の者 | D13: 10 | E13: 16
A14: その他 | D14: 17 | E14: 27
B16: 対象年齢：40～64歳 | E16: 資料 保健所健康企画課

Sheet 5(2) 訪問指導(従事者数)(健康推進係)
A1: (2) 従事者延人員
H2: 平成28年度
A3: 区分 | B3: 総数 | C3: 医 師 | D3: 保健師 | E3: 看護師 | F3: 栄養士 | G3: 歯科衛生士 | H3: その他
A4: 総数 | B4: =SUM(C4:H4) -> 0 | C4: =SUM(C5:C6) -> 0 | D4: 0 | E4: =SUM(E5:E6) -> 0 | F4: =SUM(F5:F6) -> 0 | G4: =SUM(G5:G6) -> 0 | H4: =SUM(H5:H6) -> 0
A5: 本市職員実施分 * | B5: =SUM(C5:H5) -> 375 | C5: 0 | D5: 375 | E5: 0 | F5: 0 | G5: 0 | H5: 0
A6: 委託機関等実施分 | B6: =SUM(C6:H6) -> 0 | C6: 0 | D6: 0 | E6: 0 | F6: 0 | G6: 0 | H6: 0
A7: * 臨時職員を含む。 | H7: 資料 保健所健康企画課

Sheet 6(1) 胃がん検診 
A1: 6 が ん 検 診
A2: （1） 胃 が ん 検 診
I3: 平成28年度
A4: 区 分 | C4: 受診者 | D4: 要精密検査者
D5: 総 数 | E5: 異常認めず | F5: が ん で あ っ た 者 | G5: が ん の 疑 い の あ る 者 | H5: がん以外の 疾 患 で あ っ た 者 | I5: 未把握
A6: 総 数 | C6: =SUM(C7:C15) -> 36674 | D6: =SUM(D7:D15) -> 2049 | E6: =SUM(E7:E15) -> 164 | F6: =SUM(F7:F15) -> 35 | G6: =SUM(G7:G15) -> 139 | H6: =SUM(H7:H15) -> 814 | I6: =SUM(I7:I15) -> 897
B7: 40歳～44歳 | C7: =C18+C28 -> 2199 | D7: =SUM(E7:I7) -> 93 | E7: =E18+E28 -> 8 | F7: =F18+F28 -> 1 | G7: =G18+G28 -> 1 | H7: =H18+H28 -> 20 | I7: =I18+I28 -> 63
B8: 45 ～49 | C8: =C19+C29 -> 2141 | D8: =SUM(E8:I8) -> 91 | E8: =E19+E29 -> 7 | F8: =F19+F29 -> 1 | G8: =G19+G29 -> 5 | H8: =H19+H29 -> 25 | I8: =I19+I29 -> 53
B9: 50 ～54 | C9: =C20+C30 -> 2451 | D9: =SUM(E9:I9) -> 98 | E9: =E20+E30 -> 11 | F9: =F20+F30 -> 0 | G9: =G20+G30 -> 4 | H9: =H20+H30 -> 29 | I9: =I20+I30 -> 54
B10: 55 ～59 | C10: =C21+C31 -> 2595 | D10: =SUM(E10:I10) -> 136 | E10: =E21+E31 -> 11 | F10: =F21+F31 -> 1 | G10: =G21+G31 -> 11 | H10: =H21+H31 -> 46 | I10: =I21+I31 -> 67
B11: 60 ～64 | C11: =C22+C32 -> 4989 | D11: =SUM(E11:I11) -> 309 | E11: =E22+E32 -> 28 | F11: =F22+F32 -> 3 | G11: =G22+G32 -> 18 | H11: =H22+H32 -> 96 | I11: =I22+I32 -> 164
B12: 65 ～69 | C12: =C23+C33 -> 8523 | D12: =SUM(E12:I12) -> 534 | E12: =E23+E33 -> 42 | F12: =F23+F33 -> 7 | G12: =G23+G33 -> 32 | H12: =H23+H33 -> 213 | I12: =I23+I33 -> 240
B13: 70 ～74 | C13: =C24+C34 -> 6914 | D13: =SUM(E13:I13) -> 396 | E13: =E24+E34 -> 24 | F13: =F24+F34 -> 10 | G13: =G24+G34 -> 40 | H13: =H24+H34 -> 188 | I13: =I24+I34 -> 134
B14: 75 ～79 | C14: =C25+C35 -> 4352 | D14: =SUM(E14:I14) -> 263 | E14: =E25+E35 -> 20 | F14: =F25+F35 -> 8 | G14: =G25+G35 -> 23 | H14: =H25+H35 -> 125 | I14: =I25+I35 -> 87
B15: 80歳以上 | C15: =C26+C36 -> 2510 | D15: =SUM(E15:I15) -> 129 | E15: =E26+E36 -> 13 | F15: =F26+F36 -> 4 | G15: =G26+G36 -> 5 | H15: =H26+H36 -> 72 | I15: =I26+I36 -> 35
A17: 男 | C17: =SUM(C18:C26) -> 13348 | D17: =SUM(D18:D26) -> 1010 | E17: =SUM(E18:E26) -> 71 | F17: =SUM(F18:F26) -> 24 | G17: =SUM(G18:G26) -> 77 | H17: =SUM(H18:H26) -> 380 | I17: =SUM(I18:I26) -> 458
B18: 40歳～44歳 | C18: 606 | D18: =SUM(E18:I18) -> 29 | E18: 3 | F18: 0 | G18: 0 | H18: 3 | I18: 23
B19: 45 ～49 | C19: 620 | D19: =SUM(E19:I19) -> 32 | E19: 2 | F19: 0 | G19: 1 | H19: 8 | I19: 21
B20: 50 ～54 | C20: 550 | D20: =SUM(E20:I20) -> 39 | E20: 3 | F20: 0 | G20: 2 | H20: 10 | I20: 24
B21: 55 ～59 | C21: 532 | D21: =SUM(E21:I21) -> 46 | E21: 4 | F21: 0 | G21: 5 | H21: 10 | I21: 27
B22: 60 ～64 | C22: 1311 | D22: =SUM(E22:I22) -> 114 | E22: 9 | F22: 3 | G22: 7 | H22: 21 | I22: 74
B23: 65 ～69 | C23: 3329 | D23: =SUM(E23:I23) -> 267 | E23: 21 | F23: 5 | G23: 22 | H23: 91 | I23: 128
B24: 70 ～74 | C24: 2988 | D24: =SUM(E24:I24) -> 233 | E24: 12 | F24: 8 | G24: 20 | H24: 107 | I24: 86
B25: 75 ～79 | C25: 2091 | D25: =SUM(E25:I25) -> 168 | E25: 10 | F25: 5 | G25: 17 | H25: 83 | I25: 53
B26: 80歳以上 | C26: 1321 | D26: =SUM(E26:I26) -> 82 | E26: 7 | F26: 3 | G26: 3 | H26: 47 | I26: 22
A27: 女 | C27: =SUM(C28:C36) -> 23326 | D27: =SUM(D28:D36) -> 1039 | E27: =SUM(E28:E36) -> 93 | F27: =SUM(F28:F36) -> 11 | G27: =SUM(G28:G36) -> 62 | H27: =SUM(H28:H36) -> 434 | I27: =SUM(I28:I36) -> 439
B28: 40歳～44歳 | C28: 1593 | D28: =SUM(E28:I28) -> 64 | E28: 5 | F28: 1 | G28: 1 | H28: 17 | I28: 40
B29: 45 ～49 | C29: 1521 | D29: =SUM(E29:I29) -> 59 | E29: 5 | F29: 1 | G29: 4 | H29: 17 | I29: 32
B30: 50 ～54 | C30: 1901 | D30: =SUM(E30:I30) -> 59 | E30: 8 | F30: 0 | G30: 2 | H30: 19 | I30: 30
B31: 55 ～59 | C31: 2063 | D31: =SUM(E31:I31) -> 90 | E31: 7 | F31: 1 | G31: 6 | H31: 36 | I31: 40
B32: 60 ～64 | C32: 3678 | D32: =SUM(E32:I32) -> 195 | E32: 19 | F32: 0 | G32: 11 | H32: 75 | I32: 90
B33: 65 ～69 | C33: 5194 | D33: =SUM(E33:I33) -> 267 | E33: 21 | F33: 2 | G33: 10 | H33: 122 | I33: 112
B34: 70 ～74 | C34: 3926 | D34: =SUM(E34:I34) -> 163 | E34: 12 | F34: 2 | G34: 20 | H34: 81 | I34: 48
B35: 75 ～79 | C35: 2261 | D35: =SUM(E35:I35) -> 95 | E35: 10 | F35: 3 | G35: 6 | H35: 42 | I35: 34
B36: 80歳以上 | C36: 1189 | D36: =SUM(E36:I36) -> 47 | E36: 6 | F36: 1 | G36: 2 | H36: 25 | I36: 13
I38: 資料 保健所健康企画課

Sheet 6(2) 大腸がん検診
A2: （2） 大腸がん検診
I3: ='[1]6(1) 胃がん検診 '!I3 -> 平成28年度
A4: 区 分 | C4: 受診者 | D4: 要精密検査者
D5: 総 数 | E5: 異常認めず | F5: が ん で あ っ た 者 | G5: が ん の 疑 い の あ る 者 | H5: がん以外の 疾 患 で あ っ た 者 | I5: 未把握
A6: 総 数 | C6: =SUM(C7:C15) -> 71778 | D6: =SUM(D7:D15) -> 5788 | E6: =SUM(E7:E15) -> 1093 | F6: =SUM(F7:F15) -> 125 | G6: =SUM(G7:G15) -> 245 | H6: =SUM(H7:H15) -> 1615 | I6: =SUM(I7:I15) -> 2710
B7: 40歳～44歳 | C7: =C18+C28 -> 3463 | D7: =SUM(E7:I7) -> 203 | E7: =E18+E28 -> 48 | F7: =F18+F28 -> 6 | G7: =G18+G28 -> 5 | H7: =H18+H28 -> 40 | I7: =I18+I28 -> 104
B8: 45 ～49 | C8: =C19+C29 -> 3526 | D8: =SUM(E8:I8) -> 205 | E8: =E19+E29 -> 46 | F8: =F19+F29 -> 3 | G8: =G19+G29 -> 2 | H8: =H19+H29 -> 40 | I8: =I19+I29 -> 114
B9: 50 ～54 | C9: =C20+C30 -> 4051 | D9: =SUM(E9:I9) -> 226 | E9: =E20+E30 -> 53 | F9: =F20+F30 -> 2 | G9: =G20+G30 -> 12 | H9: =H20+H30 -> 48 | I9: =I20+I30 -> 111
B10: 55 ～59 | C10: =C21+C31 -> 4630 | D10: =SUM(E10:I10) -> 253 | E10: =E21+E31 -> 56 | F10: =F21+F31 -> 5 | G10: =G21+G31 -> 14 | H10: =H21+H31 -> 55 | I10: =I21+I31 -> 123
B11: 60 ～64 | C11: =C22+C32 -> 8984 | D11: =SUM(E11:I11) -> 561 | E11: =E22+E32 -> 125 | F11: =F22+F32 -> 7 | G11: =G22+G32 -> 26 | H11: =H22+H32 -> 138 | I11: =I22+I32 -> 265
B12: 65 ～69 | C12: =C23+C33 -> 16003 | D12: =SUM(E12:I12) -> 1168 | E12: =E23+E33 -> 209 | F12: =F23+F33 -> 27 | G12: =G23+G33 -> 77 | H12: =H23+H33 -> 353 | I12: =I23+I33 -> 502
B13: 70 ～74 | C13: =C24+C34 -> 13808 | D13: =SUM(E13:I13) -> 1168 | E13: =E24+E34 -> 221 | F13: =F24+F34 -> 28 | G13: =G24+G34 -> 68 | H13: =H24+H34 -> 371 | I13: =I24+I34 -> 480
B14: 75 ～79 | C14: =C25+C35 -> 9703 | D14: =SUM(E14:I14) -> 983 | E14: =E25+E35 -> 180 | F14: =F25+F35 -> 31 | G14: =G25+G35 -> 34 | H14: =H25+H35 -> 290 | I14: =I25+I35 -> 448
B15: 80歳以上 | C15: =C26+C36 -> 7610 | D15: =SUM(E15:I15) -> 1021 | E15: =E26+E36 -> 155 | F15: =F26+F36 -> 16 | G15: =G26+G36 -> 7 | H15: =H26+H36 -> 280 | I15: =I26+I36 -> 563
A17: 男 | C17: =SUM(C18:C26) -> 24704 | D17: =SUM(D18:D26) -> 2618 | E17: =SUM(E18:E26) -> 386 | F17: =SUM(F18:F26) -> 58 | G17: =SUM(G18:G26) -> 123 | H17: =SUM(H18:H26) -> 726 | I17: =SUM(I18:I26) -> 1325
B18: 40歳～44歳 | C18: 893 | D18: =SUM(E18:I18) -> 55 | E18: =[2]合計!G64 -> 9 | F18: =[2]合計!H64 -> 0 | G18: =[2]合計!L64 -> 1 | H18: =[2]合計!M64 -> 10 | I18: =[2]合計!N64 -> 35
B19: 45 ～49 | C19: 987 | D19: =SUM(E19:I19) -> 52 | E19: =[2]合計!G67 -> 11 | F19: =[2]合計!H67 -> 1 | G19: =[2]合計!L67 -> 0 | H19: =[2]合計!M67 -> 12 | I19: =[2]合計!N67 -> 28
B20: 50 ～54 | C20: 856 | D20: =SUM(E20:I20) -> 69 | E20: =[2]合計!G70 -> 13 | F20: =[2]合計!H70 -> 0 | G20: =[2]合計!L70 -> 7 | H20: =[2]合計!M70 -> 14 | I20: =[2]合計!N70 -> 35
B21: 55 ～59 | C21: 985 | D21: =SUM(E21:I21) -> 78 | E21: =[2]合計!G73 -> 13 | F21: =[2]合計!H73 -> 1 | G21: =[2]合計!L73 -> 5 | H21: =[2]合計!M73 -> 13 | I21: =[2]合計!N73 -> 46
B22: 60 ～64 | C22: 2236 | D22: =SUM(E22:I22) -> 184 | E22: =[2]合計!G76 -> 25 | F22: =[2]合計!H76 -> 3 | G22: =[2]合計!L76 -> 9 | H22: =[2]合計!M76 -> 34 | I22: =[2]合計!N76 -> 113
B23: 65 ～69 | C23: 5886 | D23: =SUM(E23:I23) -> 560 | E23: =[2]合計!G79 -> 57 | F23: =[2]合計!H79 -> 13 | G23: =[2]合計!L79 -> 39 | H23: =[2]合計!M79 -> 170 | I23: =[2]合計!N79 -> 281
B24: 70 ～74 | C24: 5455 | D24: =SUM(E24:I24) -> 605 | E24: =[2]合計!G82 -> 98 | F24: =[2]合計!H82 -> 17 | G24: =[2]合計!L82 -> 43 | H24: =[2]合計!M82 -> 169 | I24: =[2]合計!N82 -> 278
B25: 75 ～79 | C25: 4153 | D25: =SUM(E25:I25) -> 519 | E25: =[2]合計!G85 -> 88 | F25: =[2]合計!H85 -> 15 | G25: =[2]合計!L85 -> 16 | H25: =[2]合計!M85 -> 157 | I25: =[2]合計!N85 -> 243
B26: 80歳以上 | C26: 3253 | D26: =SUM(E26:I26) -> 496 | E26: =[2]合計!G88 -> 72 | F26: =[2]合計!H88 -> 8 | G26: =[2]合計!L88 -> 3 | H26: =[2]合計!M88 -> 147 | I26: =[2]合計!N88 -> 266
A27: 女 | C27: =SUM(C28:C36) -> 47074 | D27: =SUM(D28:D36) -> 3170 | E27: =SUM(E28:E36) -> 707 | F27: =SUM(F28:F36) -> 67 | G27: =SUM(G28:G36) -> 122 | H27: =SUM(H28:H36) -> 889 | I27: =SUM(I28:I36) -> 1385
B28: 40歳～44歳 | C28: =[2]合計!E104 -> 2570 | D28: =SUM(E28:I28) -> 148 | E28: =[2]合計!G104 -> 39 | F28: =[2]合計!H104 -> 6 | G28: =[2]合計!L104 -> 4 | H28: =[2]合計!M104 -> 30 | I28: =[2]合計!N104 -> 69
B29: 45 ～49 | C29: =[2]合計!E107 -> 2539 | D29: =SUM(E29:I29) -> 153 | E29: =[2]合計!G107 -> 35 | F29: =[2]合計!H107 -> 2 | G29: =[2]合計!L107 -> 2 | H29: =[2]合計!M107 -> 28 | I29: =[2]合計!N107 -> 86
B30: 50 ～54 | C30: =[2]合計!E110 -> 3195 | D30: =SUM(E30:I30) -> 157 | E30: =[2]合計!G110 -> 40 | F30: =[2]合計!H110 -> 2 | G30: =[2]合計!L110 -> 5 | H30: =[2]合計!M110 -> 34 | I30: =[2]合計!N110 -> 76
B31: 55 ～59 | C31: =[2]合計!E113 -> 3645 | D31: =SUM(E31:I31) -> 175 | E31: =[2]合計!G113 -> 43 | F31: =[2]合計!H113 -> 4 | G31: =[2]合計!L113 -> 9 | H31: =[2]合計!M113 -> 42 | I31: =[2]合計!N113 -> 77
B32: 60 ～64 | C32: =[2]合計!E116 -> 6748 | D32: =SUM(E32:I32) -> 377 | E32: =[2]合計!G116 -> 100 | F32: =[2]合計!H116 -> 4 | G32: =[2]合計!L116 -> 17 | H32: =[2]合計!M116 -> 104 | I32: =[2]合計!N116 -> 152
B33: 65 ～69 | C33: =[2]合計!E119 -> 10117 | D33: =SUM(E33:I33) -> 608 | E33: =[2]合計!G119 -> 152 | F33: =[2]合計!H119 -> 14 | G33: =[2]合計!L119 -> 38 | H33: =[2]合計!M119 -> 183 | I33: =[2]合計!N119 -> 221
B34: 70 ～74 | C34: =[2]合計!E122 -> 8353 | D34: =SUM(E34:I34) -> 563 | E34: =[2]合計!G122 -> 123 | F34: =[2]合計!H122 -> 11 | G34: =[2]合計!L122 -> 25 | H34: =[2]合計!M122 -> 202 | I34: =[2]合計!N122 -> 202
B35: 75 ～79 | C35: =[2]合計!E125 -> 5550 | D35: =SUM(E35:I35) -> 464 | E35: =[2]合計!G125 -> 92 | F35: =[2]合計!H125 -> 16 | G35: =[2]合計!L125 -> 18 | H35: =[2]合計!M125 -> 133 | I35: =[2]合計!N125 -> 205
B36: 80歳以上 | C36: =[2]合計!E128 -> 4357 | D36: =SUM(E36:I36) -> 525 | E36: =[2]合計!G128 -> 83 | F36: =[2]合計!H128 -> 8 | G36: =[2]合計!L128 -> 4 | H36: =[2]合計!M128 -> 133 | I36: =[2]合計!N128 -> 297
I38: 資料 保健所健康企画課

Sheet 6(3) 肺がん検診 
A2: （3） 肺 が ん 検 診
I3: ='[1]6(1) 胃がん検診 '!I3 -> 平成28年度
A4: 区 分 | C4: 受診者 | D4: 要精密検査者
D5: 総 数 | E5: 異常認めず | F5: が ん で あ っ た 者 | G5: が ん の 疑 い の あ る 者 | H5: がん以外の 疾 患 で あ っ た 者 | I5: 未把握
A6: 総 数 | C6: =SUM(C7:C15) -> 17353 | D6: =SUM(D7:D15) -> 372 | E6: =SUM(E7:E15) -> 120 | F6: =SUM(F7:F15) -> 15 | G6: =SUM(G7:G15) -> 7 | H6: =SUM(H7:H15) -> 159 | I6: =SUM(I7:I15) -> 71
B7: 40歳～44歳 | C7: =C18+C28 -> 861 | D7: =SUM(E7:I7) -> 16 | E7: =E18+E28 -> 9 | F7: =F18+F28 -> 0 | G7: =G18+G28 -> 0 | H7: =H18+H28 -> 3 | I7: =I18+I28 -> 4
B8: 45 ～49 | C8: =C19+C29 -> 890 | D8: =SUM(E8:I8) -> 13 | E8: =E19+E29 -> 6 | F8: =F19+F29 -> 0 | G8: =G19+G29 -> 0 | H8: =H19+H29 -> 4 | I8: =I19+I29 -> 3
B9: 50 ～54 | C9: =C20+C30 -> 894 | D9: =SUM(E9:I9) -> 7 | E9: =E20+E30 -> 2 | F9: =F20+F30 -> 0 | G9: =G20+G30 -> 0 | H9: =H20+H30 -> 4 | I9: =I20+I30 -> 1
B10: 55 ～59 | C10: =C21+C31 -> 991 | D10: =SUM(E10:I10) -> 21 | E10: =E21+E31 -> 7 | F10: =F21+F31 -> 1 | G10: =G21+G31 -> 1 | H10: =H21+H31 -> 6 | I10: =I21+I31 -> 6
B11: 60 ～64 | C11: =C22+C32 -> 2191 | D11: =SUM(E11:I11) -> 45 | E11: =E22+E32 -> 12 | F11: =F22+F32 -> 2 | G11: =G22+G32 -> 1 | H11: =H22+H32 -> 21 | I11: =I22+I32 -> 9
B12: 65 ～69 | C12: =C23+C33 -> 4638 | D12: =SUM(E12:I12) -> 98 | E12: =E23+E33 -> 26 | F12: =F23+F33 -> 5 | G12: =G23+G33 -> 2 | H12: =H23+H33 -> 48 | I12: =I23+I33 -> 17
B13: 70 ～74 | C13: =C24+C34 -> 3530 | D13: =SUM(E13:I13) -> 88 | E13: =E24+E34 -> 27 | F13: =F24+F34 -> 4 | G13: =G24+G34 -> 2 | H13: =H24+H34 -> 39 | I13: =I24+I34 -> 16
B14: 75 ～79 | C14: =C25+C35 -> 2043 | D14: =SUM(E14:I14) -> 44 | E14: =E25+E35 -> 18 | F14: =F25+F35 -> 1 | G14: =G25+G35 -> 0 | H14: =H25+H35 -> 16 | I14: =I25+I35 -> 9
B15: 80歳以上 | C15: =C26+C36 -> 1315 | D15: =SUM(E15:I15) -> 40 | E15: =E26+E36 -> 13 | F15: =F26+F36 -> 2 | G15: =G26+G36 -> 1 | H15: =H26+H36 -> 18 | I15: =I26+I36 -> 6
A17: 男 | C17: =SUM(C18:C26) -> 6752 | D17: =SUM(D18:D26) -> 180 | E17: =SUM(E18:E26) -> 52 | F17: =SUM(F18:F26) -> 5 | G17: =SUM(G18:G26) -> 3 | H17: =SUM(H18:H26) -> 78 | I17: =SUM(I18:I26) -> 42
B18: 40歳～44歳 | C18: 306 | D18: =SUM(E18:I18) -> 8 | E18: =[3]合計!G64 -> 5 | F18: =[3]合計!H64 -> 0 | G18: =[3]合計!K64 -> 0 | H18: =[3]合計!L64 -> 0 | I18: =[3]合計!M64+[3]合計!N64 -> 3
B19: 45 ～49 | C19: 299 | D19: =SUM(E19:I19) -> 8 | E19: =[3]合計!G67 -> 3 | F19: =[3]合計!H67 -> 0 | G19: =[3]合計!K67 -> 0 | H19: =[3]合計!L67 -> 3 | I19: =[3]合計!M67+[3]合計!N67 -> 2
B20: 50 ～54 | C20: 275 | D20: =SUM(E20:I20) -> 5 | E20: =[3]合計!G70 -> 2 | F20: =[3]合計!H70 -> 0 | G20: =[3]合計!K70 -> 0 | H20: =[3]合計!L70 -> 3 | I20: =[3]合計!M70+[3]合計!N70 -> 0
B21: 55 ～59 | C21: 251 | D21: =SUM(E21:I21) -> 12 | E21: =[3]合計!G73 -> 3 | F21: =[3]合計!H73 -> 1 | G21: =[3]合計!K73 -> 1 | H21: =[3]合計!L73 -> 3 | I21: =[3]合計!M73+[3]合計!N73 -> 4
B22: 60 ～64 | C22: 615 | D22: =SUM(E22:I22) -> 16 | E22: =[3]合計!G76 -> 3 | F22: =[3]合計!H76 -> 0 | G22: =[3]合計!K76 -> 1 | H22: =[3]合計!L76 -> 9 | I22: =[3]合計!M76+[3]合計!N76 -> 3
B23: 65 ～69 | C23: 1901 | D23: =SUM(E23:I23) -> 41 | E23: =[3]合計!G79 -> 8 | F23: =[3]合計!H79 -> 0 | G23: =[3]合計!K79 -> 0 | H23: =[3]合計!L79 -> 20 | I23: =[3]合計!M79+[3]合計!N79 -> 13
B24: 70 ～74 | C24: 1546 | D24: =SUM(E24:I24) -> 46 | E24: =[3]合計!G82 -> 12 | F24: =[3]合計!H82 -> 2 | G24: =[3]合計!K82 -> 1 | H24: =[3]合計!L82 -> 20 | I24: =[3]合計!M82+[3]合計!N82 -> 11
B25: 75 ～79 | C25: 954 | D25: =SUM(E25:I25) -> 19 | E25: =[3]合計!G85 -> 5 | F25: =[3]合計!H85 -> 0 | G25: =[3]合計!K85 -> 0 | H25: =[3]合計!L85 -> 11 | I25: =[3]合計!M85+[3]合計!N85 -> 3
B26: 80歳以上 | C26: 605 | D26: =SUM(E26:I26) -> 25 | E26: =[3]合計!G88 -> 11 | F26: =[3]合計!H88 -> 2 | G26: =[3]合計!K88 -> 0 | H26: =[3]合計!L88 -> 9 | I26: =[3]合計!M88+[3]合計!N88 -> 3
A27: 女 | C27: =SUM(C28:C36) -> 10601 | D27: =SUM(D28:D36) -> 192 | E27: =SUM(E28:E36) -> 68 | F27: =SUM(F28:F36) -> 10 | G27: =SUM(G28:G36) -> 4 | H27: =SUM(H28:H36) -> 81 | I27: =SUM(I28:I36) -> 29
B28: 40歳～44歳 | C28: 555 | D28: =SUM(E28:I28) -> 8 | E28: 4 | F28: 0 | G28: 0 | H28: 3 | I28: 1
B29: 45 ～49 | C29: 591 | D29: =SUM(E29:I29) -> 5 | E29: 3 | F29: 0 | G29: 0 | H29: 1 | I29: 1
B30: 50 ～54 | C30: 619 | D30: =SUM(E30:I30) -> 2 | E30: 0 | F30: 0 | G30: 0 | H30: 1 | I30: 1
B31: 55 ～59 | C31: 740 | D31: =SUM(E31:I31) -> 9 | E31: 4 | F31: 0 | G31: 0 | H31: 3 | I31: 2
B32: 60 ～64 | C32: 1576 | D32: =SUM(E32:I32) -> 29 | E32: 9 | F32: 2 | G32: 0 | H32: 12 | I32: 6
B33: 65 ～69 | C33: 2737 | D33: =SUM(E33:I33) -> 57 | E33: 18 | F33: 5 | G33: 2 | H33: 28 | I33: 4
B34: 70 ～74 | C34: 1984 | D34: =SUM(E34:I34) -> 42 | E34: 15 | F34: 2 | G34: 1 | H34: 19 | I34: 5
B35: 75 ～79 | C35: 1089 | D35: =SUM(E35:I35) -> 25 | E35: 13 | F35: 1 | G35: 0 | H35: 5 | I35: 6
B36: 80歳以上 | C36: 710 | D36: =SUM(E36:I36) -> 15 | E36: 2 | F36: 0 | G36: 1 | H36: 9 | I36: 3
I38: 資料 保健所健康企画課

Sheet 6(4) 子宮がん検診 
A2: （4） 子宮がん検診
I3: ='[1]6(1) 胃がん検診 '!I3 -> 平成28年度
A4: 区分 | C4: 受診者 | D4: 要精密検査者
D5: 総 数 | E5: 異常認めず | F5: が ん で あ っ た 者 | G5: が ん の 疑 い の あ る 者 | H5: がん以外の 疾 患 で あ っ た 者 | I5: 未把握
A6: 頸 部 | C6: =SUM(C7:C19) -> 66366 | D6: =SUM(D7:D19) -> 1995 | E6: =SUM(E7:E19) -> 228 | F6: =SUM(F7:F19) -> 10 | G6: =SUM(G7:G19) -> 207 | H6: =SUM(H7:H19) -> 134 | I6: =SUM(I7:I19) -> 1416
B7: 20歳～24歳 | C7: 4125 | D7: =SUM(E7:I7) -> 263 | E7: 23 | F7: 2 | G7: 14 | H7: 14 | I7: 210
B8: 25 ～29 | C8: 4814 | D8: =SUM(E8:I8) -> 277 | E8: 31 | F8: 0 | G8: 16 | H8: 30 | I8: 200
B9: 30 ～34 | C9: 7685 | D9: =SUM(E9:I9) -> 377 | E9: 37 | F9: 1 | G9: 28 | H9: 34 | I9: 277
B10: 35 ～39 | C10: 5872 | D10: =SUM(E10:I10) -> 249 | E10: 17 | F10: 0 | G10: 13 | H10: 13 | I10: 206
B11: 40 ～44 | C11: 9803 | D11: =SUM(E11:I11) -> 307 | E11: 42 | F11: 3 | G11: 44 | H11: 17 | I11: 201
B12: 45 ～49 | C12: 6275 | D12: =SUM(E12:I12) -> 176 | E12: 21 | F12: 0 | G12: 30 | H12: 8 | I12: 117
B13: 50 ～54 | C13: 7039 | D13: =SUM(E13:I13) -> 162 | E13: 30 | F13: 1 | G13: 23 | H13: 9 | I13: 99
B14: 55 ～59 | C14: 3826 | D14: =SUM(E14:I14) -> 47 | E14: 8 | F14: 1 | G14: 6 | H14: 2 | I14: 30
B15: 60 ～64 | C15: 5627 | D15: =SUM(E15:I15) -> 40 | E15: 9 | F15: 1 | G15: 13 | H15: 3 | I15: 14
B16: 65 ～69 | C16: 4693 | D16: =SUM(E16:I16) -> 34 | E16: 6 | F16: 0 | G16: 5 | H16: 3 | I16: 20
B17: 70 ～74 | C17: 4141 | D17: =SUM(E17:I17) -> 37 | E17: 3 | F17: 1 | G17: 9 | H17: 0 | I17: 24
B18: 75 ～79 | C18: 1444 | D18: =SUM(E18:I18) -> 8 | E18: 1 | F18: 0 | G18: 3 | H18: 0 | I18: 4
B19: 80歳以上 | C19: 1022 | D19: =SUM(E19:I19) -> 18 | E19: 0 | F19: 0 | G19: 3 | H19: 1 | I19: 14
A21: ※子宮頸がん検診無料クーポン券事業の受診者を含む。 | I21: 資料 保健所健康企画課

Sheet 6(5) 乳がん検診 
A2: （5） 乳 が ん 検 診
I3: ='[1]6(1) 胃がん検診 '!I3 -> 平成28年度
A4: 区分 | C4: 受診者 | D4: 要精密検査者
D5: 総 数 | E5: 異常認めず | F5: が ん で あ っ た 者 | G5: が ん の 疑 い の あ る 者 | H5: がん以外の 疾 患 で あ っ た 者 | I5: 未把握
A6: 総 数 | C6: =SUM(C7:C15) -> 40962 | D6: =SUM(D7:D15) -> 1906 | E6: =SUM(E7:E15) -> 493 | F6: =SUM(F7:F15) -> 138 | G6: =SUM(G7:G15) -> 279 | H6: =SUM(H7:H15) -> 632 | I6: =SUM(I7:I15) -> 364
B7: 40歳～44歳 | C7: 9409 | D7: =SUM(E7:I7) -> 633 | E7: 148 | F7: 14 | G7: 69 | H7: 262 | I7: 140
B8: 45 ～49 | C8: 4696 | D8: =SUM(E8:I8) -> 344 | E8: 83 | F8: 20 | G8: 53 | H8: 118 | I8: 70
B9: 50 ～54 | C9: 5487 | D9: =SUM(E9:I9) -> 247 | E9: 59 | F9: 23 | G9: 47 | H9: 74 | I9: 44
B10: 55 ～59 | C10: 3645 | D10: =SUM(E10:I10) -> 147 | E10: 48 | F10: 9 | G10: 21 | H10: 45 | I10: 24
B11: 60 ～64 | C11: 5934 | D11: =SUM(E11:I11) -> 198 | E11: 61 | F11: 23 | G11: 25 | H11: 56 | I11: 33
B12: 65 ～69 | C12: 4869 | D12: =SUM(E12:I12) -> 149 | E12: 43 | F12: 21 | G12: 33 | H12: 31 | I12: 21
B13: 70 ～74 | C13: 4487 | D13: =SUM(E13:I13) -> 114 | E13: 29 | F13: 17 | G13: 21 | H13: 28 | I13: 19
B14: 75 ～79 | C14: 1537 | D14: =SUM(E14:I14) -> 48 | E14: 14 | F14: 8 | G14: 7 | H14: 9 | I14: 10
B15: 80歳以上 | C15: 898 | D15: =SUM(E15:I15) -> 26 | E15: 8 | F15: 3 | G15: 3 | H15: 9 | I15: 3
A17: ※乳がん検診無料クーポン券事業の受診者を含む。 | I17: 資料 保健所健康企画課

Sheet 7(1)(2) (3) 健康度測定
A1: 7 健康度測定（中央健康づくりセンター実施）
A2: （1） 一般コース受診者数
J3: 平成28年度
A4: 区分 | B4: 総 数 | C4: 20歳未満 | D4: 20～29 | E4: 30～39 | F4: 40～49 | G4: 50～59 | H4: 60～69 | I4: 70歳以上 | J4: 実施回数
A5: 総数 | B5: =SUM(C5:I5) -> 94 | C5: =SUM(C6:C7) -> 1 | D5: =SUM(D6:D7) -> 27 | E5: =SUM(E6:E7) -> 21 | F5: =SUM(F6:F7) -> 14 | G5: =SUM(G6:G7) -> 9 | H5: =SUM(H6:H7) -> 14 | I5: =SUM(I6:I7) -> 8 | J5: 57
A6: 男 | B6: =SUM(C6:I6) -> 51 | C6: 1 | D6: 16 | E6: 13 | F6: 9 | G6: 2 | H6: 5 | I6: 5
A7: 女 | B7: =SUM(C7:I7) -> 43 | C7: 0 | D7: 11 | E7: 8 | F7: 5 | G7: 7 | H7: 9 | I7: 3
J8: 資料 保健所健康企画課
A11: （2） 簡易コース受診者数 | D11: （簡易コース＋特定簡易コース）
J12: 平成28年度
A13: 区分 | B13: 総 数 | C13: 20歳未満 | D13: 20～29 | E13: 30～39 | F13: 40～49 | G13: 50～59 | H13: 60～69 | I13: 70歳以上 | J13: 実施回数
A14: 総数 | B14: =SUM(C14:I14) -> 1304 | C14: =SUM(C15:C16) -> 26 | D14: =SUM(D15:D16) -> 6 | E14: =SUM(E15:E16) -> 33 | F14: =SUM(F15:F16) -> 95 | G14: =SUM(G15:G16) -> 166 | H14: =SUM(H15:H16) -> 435 | I14: =SUM(I15:I16) -> 543 | J14: 251
A15: 男 | B15: =SUM(C15:I15) -> 527 | C15: =C23+C31 -> 1 | D15: =D23+D31 -> 2 | E15: =E23+E31 -> 15 | F15: =F23+F31 -> 50 | G15: =G23+G31 -> 61 | H15: =H23+H31 -> 170 | I15: =I23+I31 -> 228
A16: 女 | B16: =SUM(C16:I16) -> 777 | C16: =C24+C32 -> 25 | D16: =D24+D32 -> 4 | E16: =E24+E32 -> 18 | F16: =F24+F32 -> 45 | G16: =G24+G32 -> 105 | H16: =H24+H32 -> 265 | I16: =I24+I32 -> 315
J17: 資料 保健所健康企画課
A19: （2-1） 簡易コース受診者数
J20: 平成28年度
A21: 区分 | B21: 総 数 | C21: 20歳未満 | D21: 20～29 | E21: 30～39 | F21: 40～49 | G21: 50～59 | H21: 60～69 | I21: 70歳以上 | J21: 実施回数
A22: 総数 | B22: =SUM(C22:I22) -> 901 | C22: =SUM(C23:C24) -> 26 | D22: =SUM(D23:D24) -> 6 | E22: =SUM(E23:E24) -> 32 | F22: =SUM(F23:F24) -> 78 | G22: =SUM(G23:G24) -> 131 | H22: =SUM(H23:H24) -> 305 | I22: =SUM(I23:I24) -> 323 | J22: 246
A23: 男 | B23: =SUM(C23:I23) -> 415 | C23: 1 | D23: 2 | E23: 15 | F23: 44 | G23: 56 | H23: 143 | I23: 154
A24: 女 | B24: =SUM(C24:I24) -> 486 | C24: 25 | D24: 4 | E24: 17 | F24: 34 | G24: 75 | H24: 162 | I24: 169
J25: 資料 保健所健康企画課
A27: （2-2） 特定簡易コース受診者数
J28: 平成28年度
A29: 区分 | B29: 総 数 | C29: 20歳未満 | D29: 20～29 | E29: 30～39 | F29: 40～49 | G29: 50～59 | H29: 60～69 | I29: 70歳以上 | J29: 実施回数
A30: 総数 | B30: =SUM(C30:I30) -> 403 | C30: =SUM(C31:C32) -> 0 | D30: =SUM(D31:D32) -> 0 | E30: =SUM(E31:E32) -> 1 | F30: =SUM(F31:F32) -> 17 | G30: =SUM(G31:G32) -> 35 | H30: =SUM(H31:H32) -> 130 | I30: =SUM(I31:I32) -> 220 | J30: 156
A31: 男 | B31: =SUM(C31:I31) -> 112 | C31: 0 | D31: 0 | E31: 0 | F31: 6 | G31: 5 | H31: 27 | I31: 74
A32: 女 | B32: =SUM(C32:I32) -> 291 | C32: 0 | D32: 0 | E32: 1 | F32: 11 | G32: 30 | H32: 103 | I32: 146
J33: 資料 保健所健康企画課
A36: （3） 体力測定受診者数
J37: 平成28年度
A38: 区分 | B38: 総 数 | C38: 20歳未満 | D38: 20～29 | E38: 30～39 | F38: 40～49 | G38: 50～59 | H38: 60～69 | I38: 70歳以上 | J38: 実施回数
A39: 総数 | B39: =SUM(C39:I39) -> 60 | C39: =SUM(C40:C41) -> 0 | D39: =SUM(D40:D41) -> 7 | E39: =SUM(E40:E41) -> 10 | F39: =SUM(F40:F41) -> 15 | G39: =SUM(G40:G41) -> 16 | H39: =SUM(H40:H41) -> 8 | I39: =SUM(I40:I41) -> 4 | J39: 26
A40: 男 | B40: =SUM(C40:I40) -> 14 | D40: 1 | E40: 2 | F40: 3 | G40: 4 | H40: 3 | I40: 1
A41: 女 | B41: =SUM(C41:I41) -> 46 | D41: 6 | E41: 8 | F41: 12 | G41: 12 | H41: 5 | I41: 3
J42: 資料 保健所健康企画課

Sheet 8女性のフレッシュ健診 
A1: 8 女性のフレッシュ健診（中央健康づくりセンター実施）
F2: 平成28年度
A3: 区 分 | B3: 総 数 | C3: 18 ・ 19歳 | D3: 20～29 | E3: 30～39 | F3: 実施回数
A4: 総 数 | B4: =SUM(C4:E4) -> 714 | C4: 1 | D4: 116 | E4: 597 | F4: 50
A5: ＊ 本事業は、18歳以上39歳以下の女性を対象としている。 | F5: 資料 保健所健康企画課

Sheet 9 運動指導事業
A1: 9 運動指導事業（健康づくりセンター利用者数）
F2: 平成28年度
A3: 区分 | D3: 中央健康づくりセンター | E3: 東健康づくりセンター | F3: 西健康づくりセンター
A4: 総 数 | D4: =SUM(D5+D7+D8) -> 113211 | E4: =SUM(E5+E7+E8) -> 48595 | F4: =SUM(F5+F7+F8) -> 154716
A5: 一般利用者 | D5: 76435 | E5: 37381 | F5: 118165
B6: (再掲) 自由参加プログラム参加者 | D6: 15122 | E6: 11801 | F6: 29593
A7: 運動教室 | D7: 19369 | E7: 8496 | F7: 25327
A8: その他 | D8: 17407 | E8: 2718 | F8: 11224
F9: 資料 保健所健康企画課
