Workbook

Sheet 参考様式4-3-1
B1: 参考様式４－３－１
B2: 従業者の勤務の体制及び勤務形態一覧（保育所等訪問支援） | BI2: 月時間数
A3: 32 | AS3: 常勤従業者勤務時間数（1週間） | BE3: 時間 | BI3: =BC3*4 -> 0
A4: 33 | B4: 事業所番号 | M4: 事業所名 | AA4: 分類
A5: 34 | B5: 職種 | J5: 勤務形態 | Q5: 氏名 | X5: 第1週 | AE5: 第2週 | AL5: 第3週 | AS5: 第4週 | AZ5: 合計 | BC5: 週平均の勤務時間 | BF5: 勤務換算後の人数
A6: 35 | X6: 1 | Y6: 2 | Z6: 3 | AA6: 4 | AB6: 5 | AC6: 6 | AD6: 7 | AE6: 8 | AF6: 9 | AG6: 10 | AH6: 11 | AI6: 12 | AJ6: 13 | AK6: 14 | AL6: 15 | AM6: 16 | AN6: 17 | AO6: 18 | AP6: 19 | AQ6: 20 | AR6: 21 | AS6: 22 | AT6: 23 | AU6: 24 | AV6: 25 | AW6: 26 | AX6: 27 | AY6: 28 | BI6: 常勤換算後 （切捨なし）
A7: 36
A8: 37 | B8: 管理者 | AZ8: =IF(Q8="","",SUM(X8:AY8)) | BC8: =IF(Q8="","",AZ8/4) | BF8: =IF(Q8="","",IF(AZ8/$BI$3>=1,1,ROUNDDOWN(AZ8/$BI$3,1))) | BI8: =IF(AZ8="",0,AZ8/BI3) -> 0
A9: 38 | B9: 児童発達支援管理責任者 | AZ9: =IF(Q9="","",SUM(X9:AY9)) | BC9: =IF(Q9="","",AZ9/4) | BF9: =IF(Q9="","",IF(AZ9/$BI$3>=1,1,ROUNDDOWN(AZ9/$BI$3,1))) | BI9: =IF(AZ9="",0,AZ9/$BI$3) -> 0
A10: 39 | AZ10: =IF(Q10="","",SUM(X10:AY10)) | BC10: =IF(Q10="","",AZ10/4) | BF10: =IF(Q10="","",IF(AZ10/$BI$3>=1,1,ROUNDDOWN(AZ10/$BI$3,1))) | BI10: =IF(AZ10="",0,AZ10/$BI$3) -> 0
A11: 40 | AZ11: =IF(Q11="","",SUM(X11:AY11)) | BC11: =IF(Q11="","",AZ11/4) | BF11: =IF(Q11="","",IF(AZ11/$BI$3>=1,1,ROUNDDOWN(AZ11/$BI$3,1))) | BI11: =IF(AZ11="",0,AZ11/$BI$3) -> 0
A12: 41 | AZ12: =IF(Q12="","",SUM(X12:AY12)) | BC12: =IF(Q12="","",AZ12/4) | BF12: =IF(Q12="","",IF(AZ12/$BI$3>=1,1,ROUNDDOWN(AZ12/$BI$3,1))) | BI12: =IF(AZ12="",0,AZ12/$BI$3) -> 0
A13: 42 | AZ13: =IF(Q13="","",SUM(X13:AY13)) | BC13: =IF(Q13="","",AZ13/4) | BF13: =IF(Q13="","",IF(AZ13/$BI$3>=1,1,ROUNDDOWN(AZ13/$BI$3,1))) | BI13: =IF(AZ13="",0,AZ13/$BI$3) -> 0
A14: 43 | AZ14: =IF(Q14="","",SUM(X14:AY14)) | BC14: =IF(Q14="","",AZ14/4) | BF14: =IF(Q14="","",IF(AZ14/$BI$3>=1,1,ROUNDDOWN(AZ14/$BI$3,1))) | BI14: =IF(AZ14="",0,AZ14/$BI$3) -> 0
A15: 44 | AZ15: =IF(Q15="","",SUM(X15:AY15)) | BC15: =IF(Q15="","",AZ15/4) | BF15: =IF(Q15="","",IF(AZ15/$BI$3>=1,1,ROUNDDOWN(AZ15/$BI$3,1))) | BI15: =IF(AZ15="",0,AZ15/$BI$3) -> 0
AZ16: =IF(Q16="","",SUM(X16:AY16)) | BC16: =IF(Q16="","",AZ16/4) | BF16: =IF(Q16="","",IF(AZ16/$BI$3>=1,1,ROUNDDOWN(AZ16/$BI$3,1))) | BI16: =IF(AZ16="",0,AZ16/$BI$3) -> 0
A17: 児童発達支援管理責任者 | AZ17: =IF(Q17="","",SUM(X17:AY17)) | BC17: =IF(Q17="","",AZ17/4) | BF17: =IF(Q17="","",IF(AZ17/$BI$3>=1,1,ROUNDDOWN(AZ17/$BI$3,1))) | BI17: =IF(AZ17="",0,AZ17/$BI$3) -> 0
A18: 訪問支援員 | AZ18: =IF(Q18="","",SUM(X18:AY18)) | BC18: =IF(Q18="","",AZ18/4) | BF18: =IF(Q18="","",IF(AZ18/$BI$3>=1,1,ROUNDDOWN(AZ18/$BI$3,1))) | BI18: =IF(AZ18="",0,AZ18/$BI$3) -> 0
A19: その他 | AZ19: =IF(Q19="","",SUM(X19:AY19)) | BC19: =IF(Q19="","",AZ19/4) | BF19: =IF(Q19="","",IF(AZ19/$BI$3>=1,1,ROUNDDOWN(AZ19/$BI$3,1))) | BI19: =IF(AZ19="",0,AZ19/$BI$3) -> 0
AZ20: =IF(Q20="","",SUM(X20:AY20)) | BC20: =IF(Q20="","",AZ20/4) | BF20: =IF(Q20="","",IF(AZ20/$BI$3>=1,1,ROUNDDOWN(AZ20/$BI$3,1))) | BI20: =IF(AZ20="",0,AZ20/$BI$3) -> 0
A21: 常勤・専従 | AZ21: =IF(Q21="","",SUM(X21:AY21)) | BC21: =IF(Q21="","",AZ21/4) | BF21: =IF(Q21="","",IF(AZ21/$BI$3>=1,1,ROUNDDOWN(AZ21/$BI$3,1))) | BI21: =IF(AZ21="",0,AZ21/$BI$3) -> 0
A22: 常勤・兼務 | AZ22: =IF(Q22="","",SUM(X22:AY22)) | BC22: =IF(Q22="","",AZ22/4) | BF22: =IF(Q22="","",IF(AZ22/$BI$3>=1,1,ROUNDDOWN(AZ22/$BI$3,1))) | BI22: =IF(AZ22="",0,AZ22/$BI$3) -> 0
A23: 常勤（時短）・専従 | AZ23: =IF(Q23="","",SUM(X23:AY23)) | BC23: =IF(Q23="","",AZ23/4) | BF23: =IF(Q23="","",IF(AZ23/$BI$3>=1,1,ROUNDDOWN(AZ23/$BI$3,1))) | BI23: =IF(AZ23="",0,AZ23/$BI$3) -> 0
A24: 常勤（時短）・兼務 | AZ24: =IF(Q24="","",SUM(X24:AY24)) | BC24: =IF(Q24="","",AZ24/4) | BF24: =IF(Q24="","",IF(AZ24/$BI$3>=1,1,ROUNDDOWN(AZ24/$BI$3,1))) | BI24: =IF(AZ24="",0,AZ24/$BI$3) -> 0
A25: 非常勤・専従 | AZ25: =IF(Q25="","",SUM(X25:AY25)) | BC25: =IF(Q25="","",AZ25/4) | BF25: =IF(Q25="","",IF(AZ25/$BI$3>=1,1,ROUNDDOWN(AZ25/$BI$3,1))) | BI25: =IF(AZ25="",0,AZ25/$BI$3) -> 0
A26: 非常勤・兼務 | AZ26: =IF(Q26="","",SUM(X26:AY26)) | BC26: =IF(Q26="","",AZ26/4) | BF26: =IF(Q26="","",IF(AZ26/$BI$3>=1,1,ROUNDDOWN(AZ26/$BI$3,1))) | BI26: =IF(AZ26="",0,AZ26/$BI$3) -> 0
AZ27: =IF(Q27="","",SUM(X27:AY27)) | BC27: =IF(Q27="","",AZ27/4) | BF27: =IF(Q27="","",IF(AZ27/$BI$3>=1,1,ROUNDDOWN(AZ27/$BI$3,1))) | BI27: =IF(AZ27="",0,AZ27/$BI$3) -> 0
A28: 児童発達支援センター併設 | AZ28: =IF(Q28="","",SUM(X28:AY28)) | BC28: =IF(Q28="","",AZ28/4) | BF28: =IF(Q28="","",IF(AZ28/$BI$3>=1,1,ROUNDDOWN(AZ28/$BI$3,1))) | BI28: =IF(AZ28="",0,AZ28/$BI$3) -> 0
A29: 多機能型 | AZ29: =IF(Q29="","",SUM(X29:AY29)) | BC29: =IF(Q29="","",AZ29/4) | BF29: =IF(Q29="","",IF(AZ29/$BI$3>=1,1,ROUNDDOWN(AZ29/$BI$3,1))) | BI29: =IF(AZ29="",0,AZ29/$BI$3) -> 0
A30: 単独型 | B30: 合計 | X30: =IF(SUM(X9:X29)=0,"",SUM(X9:X29)) | Y30: =IF(SUM(Y9:Y29)=0,"",SUM(Y9:Y29)) | Z30: =IF(SUM(Z9:Z29)=0,"",SUM(Z9:Z29)) | AA30: =IF(SUM(AA9:AA29)=0,"",SUM(AA9:AA29)) | AB30: =IF(SUM(AB9:AB29)=0,"",SUM(AB9:AB29)) | AC30: =IF(SUM(AC9:AC29)=0,"",SUM(AC9:AC29)) | AD30: =IF(SUM(AD9:AD29)=0,"",SUM(AD9:AD29)) | AE30: =IF(SUM(AE9:AE29)=0,"",SUM(AE9:AE29)) | ... AY30: =IF(SUM(AY9:AY29)=0,"",SUM(AY9:AY29)) | AZ30: =IF(SUM(AZ10:BB29)=0,"",SUM(AZ10:BB29)) | BA30: =IF(SUM(BA9:BA29)=0,"",SUM(BA9:BA29)) | BB30: =IF(SUM(BB9:BB29)=0,"",SUM(BB9:BB29)) | BC30: =IF(SUM(BC10:BE29)=0,"",SUM(BC10:BE29)) | BD30: =IF(SUM(BD9:BD29)=0,"",SUM(BD9:BD29)) | BE30: =IF(SUM(BE9:BE29)=0,"",SUM(BE9:BE29)) | BF30: =IF(SUM(BF10:BH29)=0,"",SUM(BF10:BH29)) | BG30: =IF(SUM(BG9:BG29)=0,"",SUM(BG9:BG29)) | BH30: =IF(SUM(BH9:BH29)=0,"",SUM(BH9:BH29))
B31: 開所時間
B32: 色のついたセルに記入してください
B33: 注１ 「日にち」欄の下の空欄には、当該月の曜日を記入してください(祝日は平日とみなしてください）。
B34: 注２ 行数が足りない場合は、必要に応じて行を追加して記入してください。
B35: 注３ 「勤務形態」欄は、常勤・専従、常勤・兼務、非常勤・専従、非常勤・兼務のいずれかを選択してください。
C36: １）『常勤』：当該事業所に週40時間（法人で別に定めがある場合は32時間以上)勤務※をしている場合
D37: ※多機能型事業所又は障害者支援施設等の併設する別事業所の業務を兼務する場合は、その勤務時間も含む（法人本部及び併設していない他事業所の業務は含みません）
C38: ２）『非常勤』：『常勤』に該当しない場合
C39: ３）『専従』：当該事業所において、専らその業務に従事している場合
C40: ４）『兼務』：当該事業所において、他の業務を兼ねている場合（例：管理者＋サービス提供責任者、サービス提供責任者＋従業者（ヘルパー））
D41: ※『兼務』の場合、職種別に業務時間を記入してください。
B42: 注４ 「開所時間」は従業者が勤務する時間を記入してください。

Sheet 参考様式4-3-2
B1: 参考様式４－３－２
B2: 時間別勤務状況一覧表(保育所等訪問支援） | DI2: ●
A3: 訪問支援員
A4: その他 | B4: 事業所番号 | K4: =IF('参考様式4-3-1'!G4="","",'参考様式4-3-1'!G4) | W4: 事業所名 | AE4: =IF('参考様式4-3-1'!R4="","",'参考様式4-3-1'!R4)
B6: 職種 | Q6: 氏名 | AF6: 勤務時間
AF7: 0.375 | AJ7: 0.39583333 | AN7: 0.41666667 | AR7: 0.4375 | AV7: 0.45833333 | AZ7: 0.47916667 | BD7: 0.5 | BH7: 0.52083333 | BL7: 0.54166667 | BP7: 0.5625 | BT7: 0.58333333 | BX7: 0.60416667 | CB7: 0.625 | CF7: 0.64583333 | CJ7: 0.66666667 | CN7: 0.6875 | CR7: 0.70833333 | CV7: 0.72916667 | CZ7: 0.75 | DD7: 計
DD8: =COUNTA(AF8:DC8)/2 -> 0 | DI8: ='参考様式4-3-1'!Q10 -> 0
DD9: =COUNTA(AF9:DC9)/2 -> 0 | DI9: ='参考様式4-3-1'!Q11 -> 0
DD10: =COUNTA(AF10:DC10)/2 -> 0 | DI10: ='参考様式4-3-1'!Q12 -> 0
DD11: =COUNTA(AF11:DC11)/2 -> 0 | DI11: ='参考様式4-3-1'!Q13 -> 0
DD12: =COUNTA(AF12:DC12)/2 -> 0 | DI12: ='参考様式4-3-1'!Q14 -> 0
DD13: =COUNTA(AF13:DC13)/2 -> 0 | DI13: ='参考様式4-3-1'!Q15 -> 0
DD14: =COUNTA(AF14:DC14)/2 -> 0 | DI14: ='参考様式4-3-1'!Q16 -> 0
DD15: =COUNTA(AF15:DC15)/2 -> 0 | DI15: ='参考様式4-3-1'!Q17 -> 0
DD16: =COUNTA(AF16:DC16)/2 -> 0 | DI16: ='参考様式4-3-1'!Q18 -> 0
DD17: =COUNTA(AF17:DC17)/2 -> 0 | DI17: ='参考様式4-3-1'!Q19 -> 0
DD18: =COUNTA(AF18:DC18)/2 -> 0 | DI18: ='参考様式4-3-1'!Q20 -> 0
DD19: =COUNTA(AF19:DC19)/2 -> 0 | DI19: ='参考様式4-3-1'!Q21 -> 0
... DD25: =COUNTA(AF25:DC25)/2 -> 0 | DI25: ='参考様式4-3-1'!Q27 -> 0
DD26: =COUNTA(AF26:DC26)/2 -> 0
DD27: =COUNTA(AF27:DC27)/2 -> 0
B28: 配置数 | AF28: =COUNTIF(AF8:AI27,$DI$2) -> 0 | AJ28: =COUNTIF(AJ8:AM27,$DI$2) -> 0 | AN28: =COUNTIF(AN8:AQ27,$DI$2) -> 0 | AR28: =COUNTIF(AR8:AU27,$DI$2) -> 0 | AV28: =COUNTIF(AV8:AY27,$DI$2) -> 0 | AZ28: =COUNTIF(AZ8:BC27,$DI$2) -> 0 | BD28: =COUNTIF(BD8:BG27,$DI$2) -> 0 | BH28: =COUNTIF(BH8:BK27,$DI$2) -> 0 | BL28: =COUNTIF(BL8:BO27,$DI$2) -> 0 | BP28: =COUNTIF(BP8:BS27,$DI$2) -> 0 | BT28: =COUNTIF(BT8:BW27,$DI$2) -> 0 | BX28: =COUNTIF(BX8:CA27,$DI$2) -> 0 | CB28: =COUNTIF(CB8:CE27,$DI$2) -> 0 | CF28: =COUNTIF(CF8:CI27,$DI$2) -> 0 | CJ28: =COUNTIF(CJ8:CM27,$DI$2) -> 0 | CN28: =COUNTIF(CN8:CQ27,$DI$2) -> 0 | CR28: =COUNTIF(CR8:CU27,$DI$2) -> 0 | CV28: =COUNTIF(CV8:CY27,$DI$2) -> 0 | CZ28: =COUNTIF(CZ8:DC27,$DI$2) -> 0 | DD28: ー

Sheet 記載例１
B1: 参考様式４－３－１（記載例）
B2: 従業者の勤務の体制及び勤務形態一覧（保育所等訪問支援） | BI2: 月時間数
A3: 32 | AS3: 常勤従業者勤務時間数（1週間） | BC3: 40 | BE3: 時間 | BI3: =BC3*4 -> 160
A4: 33 | B4: 事業所番号 | G4: 0123456789 | M4: 事業所名 | R4: さわやか保育支援 | AA4: 分類 | AF4: 多機能型
A5: 34 | B5: 職種 | J5: 勤務形態 | Q5: 氏名 | X5: 第1週 | AE5: 第2週 | AL5: 第3週 | AS5: 第4週 | AZ5: 合計 | BC5: 週平均の勤務時間 | BF5: 勤務換算後の人数
A6: 35 | X6: 1 | Y6: 2 | Z6: 3 | AA6: 4 | AB6: 5 | AC6: 6 | AD6: 7 | AE6: 8 | AF6: 9 | AG6: 10 | AH6: 11 | AI6: 12 | AJ6: 13 | AK6: 14 | AL6: 15 | AM6: 16 | AN6: 17 | AO6: 18 | AP6: 19 | AQ6: 20 | AR6: 21 | AS6: 22 | AT6: 23 | AU6: 24 | AV6: 25 | AW6: 26 | AX6: 27 | AY6: 28 | BI6: 常勤換算後 （切捨なし）
A7: 36 | X7: 月 | Y7: 火 | Z7: 水 | AA7: 木 | AB7: 金 | AC7: 土 | AD7: 日 | AE7: 月 | AF7: 火 | AG7: 水 | AH7: 木 | AI7: 金 | AJ7: 土 | AK7: 日 | AL7: 月 | AM7: 火 | AN7: 水 | AO7: 木 | AP7: 金 | AQ7: 土 | AR7: 日 | AS7: 月 | AT7: 火 | AU7: 水 | AV7: 木 | AW7: 金 | AX7: 土 | AY7: 日
A8: 37 | B8: 管理者 | J8: 常勤・兼務 | Q8: 札幌 太郎 | X8: 2 | Y8: 2 | Z8: 2 | AA8: 2 | AB8: 2 | AE8: 2 | AF8: 2 | AG8: 2 | AH8: 2 | AI8: 2 | AL8: 2 | AM8: 2 | AN8: 2 | AO8: 2 | AP8: 2 | AS8: 2 | AT8: 2 | AU8: 2 | AV8: 2 | AW8: 2 | AZ8: =IF(Q8="","",SUM(X8:AY8)) -> 40 | BC8: =IF(Q8="","",AZ8/4) -> 10 | BF8: =IF(Q8="","",IF(AZ8/$BI$3>=1,1,ROUNDDOWN(AZ8/$BI$3,1))) -> 0.2 | BI8: =IF(AZ8="",0,AZ8/BI3) -> 0.25
A9: 38 | B9: 児童発達支援管理責任者 | J9: 常勤・兼務 | Q9: 札幌 花子 | X9: 4 | Y9: 4 | Z9: 4 | AA9: 4 | AB9: 4 | AE9: 4 | AF9: 4 | AG9: 4 | AH9: 4 | AI9: 4 | AL9: 4 | AM9: 4 | AN9: 4 | AO9: 4 | AP9: 4 | AS9: 4 | AT9: 4 | AU9: 4 | AV9: 4 | AW9: 4 | AZ9: =IF(Q9="","",SUM(X9:AY9)) -> 80 | BC9: =IF(Q9="","",AZ9/4) -> 20 | BF9: =IF(Q9="","",IF(AZ9/$BI$3>=1,1,ROUNDDOWN(AZ9/$BI$3,1))) -> 0.5 | BI9: =IF(AZ9="",0,AZ9/$BI$3) -> 0.5
A10: 39 | B10: 訪問支援員 | J10: 常勤・兼務 | Q10: 札幌 次郎 | X10: 4 | Y10: 4 | Z10: 4 | AA10: 4 | AB10: 4 | AE10: 4 | AF10: 4 | AG10: 4 | AH10: 4 | AI10: 4 | AL10: 4 | AM10: 4 | AN10: 4 | AO10: 4 | AP10: 4 | AS10: 4 | AT10: 4 | AU10: 4 | AV10: 4 | AW10: 4 | AZ10: =IF(Q10="","",SUM(X10:AY10)) -> 80 | BC10: =IF(Q10="","",AZ10/4) -> 20 | BF10: =IF(Q10="","",IF(AZ10/$BI$3>=1,1,ROUNDDOWN(AZ10/$BI$3,1))) -> 0.5 | BI10: =IF(AZ10="",0,AZ10/$BI$3) -> 0.5
A11: 40 | B11: 訪問支援員 | J11: 非常勤・専従 | Q11: 札幌 三郎 | X11: 3 | Y11: 3 | Z11: 3 | AA11: 3 | AB11: 3 | AE11: 3 | AF11: 3 | AG11: 3 | AH11: 3 | AI11: 3 | AL11: 3 | AM11: 3 | AN11: 3 | AO11: 3 | AP11: 3 | AS11: 3 | AT11: 3 | AU11: 3 | AV11: 3 | AW11: 3 | AZ11: =IF(Q11="","",SUM(X11:AY11)) -> 60 | BC11: =IF(Q11="","",AZ11/4) -> 15 | BF11: =IF(Q11="","",IF(AZ11/$BI$3>=1,1,ROUNDDOWN(AZ11/$BI$3,1))) -> 0.3 | BI11: =IF(AZ11="",0,AZ11/$BI$3) -> 0.375
A12: 41 | AZ12: =IF(Q12="","",SUM(X12:AY12)) | BC12: =IF(Q12="","",AZ12/4) | BF12: =IF(Q12="","",IF(AZ12/$BI$3>=1,1,ROUNDDOWN(AZ12/$BI$3,1))) | BI12: =IF(AZ12="",0,AZ12/$BI$3) -> 0
A13: 42 | AZ13: =IF(Q13="","",SUM(X13:AY13)) | BC13: =IF(Q13="","",AZ13/4) | BF13: =IF(Q13="","",IF(AZ13/$BI$3>=1,1,ROUNDDOWN(AZ13/$BI$3,1))) | BI13: =IF(AZ13="",0,AZ13/$BI$3) -> 0
A14: 43 | AZ14: =IF(Q14="","",SUM(X14:AY14)) | BC14: =IF(Q14="","",AZ14/4) | BF14: =IF(Q14="","",IF(AZ14/$BI$3>=1,1,ROUNDDOWN(AZ14/$BI$3,1))) | BI14: =IF(AZ14="",0,AZ14/$BI$3) -> 0
A15: 44 | AZ15: =IF(Q15="","",SUM(X15:AY15)) | BC15: =IF(Q15="","",AZ15/4) | BF15: =IF(Q15="","",IF(AZ15/$BI$3>=1,1,ROUNDDOWN(AZ15/$BI$3,1))) | BI15: =IF(AZ15="",0,AZ15/$BI$3) -> 0
AZ16: =IF(Q16="","",SUM(X16:AY16)) | BC16: =IF(Q16="","",AZ16/4) | BF16: =IF(Q16="","",IF(AZ16/$BI$3>=1,1,ROUNDDOWN(AZ16/$BI$3,1))) | BI16: =IF(AZ16="",0,AZ16/$BI$3) -> 0
A17: 児童発達支援管理責任者 | AZ17: =IF(Q17="","",SUM(X17:AY17)) | BC17: =IF(Q17="","",AZ17/4) | BF17: =IF(Q17="","",IF(AZ17/$BI$3>=1,1,ROUNDDOWN(AZ17/$BI$3,1))) | BI17: =IF(AZ17="",0,AZ17/$BI$3) -> 0
A18: 訪問支援員 | AZ18: =IF(Q18="","",SUM(X18:AY18)) | BC18: =IF(Q18="","",AZ18/4) | BF18: =IF(Q18="","",IF(AZ18/$BI$3>=1,1,ROUNDDOWN(AZ18/$BI$3,1))) | BI18: =IF(AZ18="",0,AZ18/$BI$3) -> 0
A19: その他 | AZ19: =IF(Q19="","",SUM(X19:AY19)) | BC19: =IF(Q19="","",AZ19/4) | BF19: =IF(Q19="","",IF(AZ19/$BI$3>=1,1,ROUNDDOWN(AZ19/$BI$3,1))) | BI19: =IF(AZ19="",0,AZ19/$BI$3) -> 0
AZ20: =IF(Q20="","",SUM(X20:AY20)) | BC20: =IF(Q20="","",AZ20/4) | BF20: =IF(Q20="","",IF(AZ20/$BI$3>=1,1,ROUNDDOWN(AZ20/$BI$3,1))) | BI20: =IF(AZ20="",0,AZ20/$BI$3) -> 0
A21: 常勤・専従 | AZ21: =IF(Q21="","",SUM(X21:AY21)) | BC21: =IF(Q21="","",AZ21/4) | BF21: =IF(Q21="","",IF(AZ21/$BI$3>=1,1,ROUNDDOWN(AZ21/$BI$3,1))) | BI21: =IF(AZ21="",0,AZ21/$BI$3) -> 0
A22: 常勤・兼務 | AZ22: =IF(Q22="","",SUM(X22:AY22)) | BC22: =IF(Q22="","",AZ22/4) | BF22: =IF(Q22="","",IF(AZ22/$BI$3>=1,1,ROUNDDOWN(AZ22/$BI$3,1))) | BI22: =IF(AZ22="",0,AZ22/$BI$3) -> 0
A23: 非常勤・専従 | AZ23: =IF(Q23="","",SUM(X23:AY23)) | BC23: =IF(Q23="","",AZ23/4) | BF23: =IF(Q23="","",IF(AZ23/$BI$3>=1,1,ROUNDDOWN(AZ23/$BI$3,1))) | BI23: =IF(AZ23="",0,AZ23/$BI$3) -> 0
A24: 非常勤・兼務 | AZ24: =IF(Q24="","",SUM(X24:AY24)) | BC24: =IF(Q24="","",AZ24/4) | BF24: =IF(Q24="","",IF(AZ24/$BI$3>=1,1,ROUNDDOWN(AZ24/$BI$3,1))) | BI24: =IF(AZ24="",0,AZ24/$BI$3) -> 0
AZ25: =IF(Q25="","",SUM(X25:AY25)) | BC25: =IF(Q25="","",AZ25/4) | BF25: =IF(Q25="","",IF(AZ25/$BI$3>=1,1,ROUNDDOWN(AZ25/$BI$3,1))) | BI25: =IF(AZ25="",0,AZ25/$BI$3) -> 0
A26: 児童発達支援センター併設 | AZ26: =IF(Q26="","",SUM(X26:AY26)) | BC26: =IF(Q26="","",AZ26/4) | BF26: =IF(Q26="","",IF(AZ26/$BI$3>=1,1,ROUNDDOWN(AZ26/$BI$3,1))) | BI26: =IF(AZ26="",0,AZ26/$BI$3) -> 0
A27: 多機能型 | AZ27: =IF(Q27="","",SUM(X27:AY27)) | BC27: =IF(Q27="","",AZ27/4) | BF27: =IF(Q27="","",IF(AZ27/$BI$3>=1,1,ROUNDDOWN(AZ27/$BI$3,1))) | BI27: =IF(AZ27="",0,AZ27/$BI$3) -> 0
A28: 単独型 | AZ28: =IF(Q28="","",SUM(X28:AY28)) | BC28: =IF(Q28="","",AZ28/4) | BF28: =IF(Q28="","",IF(AZ28/$BI$3>=1,1,ROUNDDOWN(AZ28/$BI$3,1))) | BI28: =IF(AZ28="",0,AZ28/$BI$3) -> 0
AZ29: =IF(Q29="","",SUM(X29:AY29)) | BC29: =IF(Q29="","",AZ29/4) | BF29: =IF(Q29="","",IF(AZ29/$BI$3>=1,1,ROUNDDOWN(AZ29/$BI$3,1))) | BI29: =IF(AZ29="",0,AZ29/$BI$3) -> 0
B30: 合計 | X30: =IF(SUM(X9:X29)=0,"",SUM(X9:X29)) -> 11 | Y30: =IF(SUM(Y9:Y29)=0,"",SUM(Y9:Y29)) -> 11 | Z30: =IF(SUM(Z9:Z29)=0,"",SUM(Z9:Z29)) -> 11 | AA30: =IF(SUM(AA9:AA29)=0,"",SUM(AA9:AA29)) -> 11 | AB30: =IF(SUM(AB9:AB29)=0,"",SUM(AB9:AB29)) -> 11 | AC30: =IF(SUM(AC9:AC29)=0,"",SUM(AC9:AC29)) | AD30: =IF(SUM(AD9:AD29)=0,"",SUM(AD9:AD29)) | AE30: =IF(SUM(AE9:AE29)=0,"",SUM(AE9:AE29)) -> 11 | ... AY30: =IF(SUM(AY9:AY29)=0,"",SUM(AY9:AY29)) | AZ30: =IF(SUM(AZ10:BB29)=0,"",SUM(AZ10:BB29)) -> 140 | BA30: =IF(SUM(BA9:BA29)=0,"",SUM(BA9:BA29)) | BB30: =IF(SUM(BB9:BB29)=0,"",SUM(BB9:BB29)) | BC30: =IF(SUM(BC10:BE29)=0,"",SUM(BC10:BE29)) -> 35 | BD30: =IF(SUM(BD9:BD29)=0,"",SUM(BD9:BD29)) | BE30: =IF(SUM(BE9:BE29)=0,"",SUM(BE9:BE29)) | BF30: =IF(SUM(BF10:BH29)=0,"",SUM(BF10:BH29)) -> 0.8 | BG30: =IF(SUM(BG9:BG29)=0,"",SUM(BG9:BG29)) | BH30: =IF(SUM(BH9:BH29)=0,"",SUM(BH9:BH29))
B31: 開所時間 | X31: 8 | Y31: 8 | Z31: 8 | AA31: 8 | AB31: 8 | AE31: 8 | AF31: 8 | AG31: 8 | AH31: 8 | AI31: 8 | AL31: 8 | AM31: 8 | AN31: 8 | AO31: 8 | AP31: 8 | AS31: 8 | AT31: 8 | AU31: 8 | AV31: 8 | AW31: 8
B32: 色のついたセルに記入してください
B33: 注１ 「日にち」欄の下の空欄には、当該月の曜日を記入してください(祝日は平日とみなしてください）。
B34: 注２ 行数が足りない場合は、必要に応じて行を追加して記入してください。
B35: 注３ 「勤務形態」欄は、常勤・専従、常勤・兼務、非常勤・専従、非常勤・兼務のいずれかを選択してください。
C36: １）『常勤』：当該事業所に週40時間（法人で別に定めがある場合は32時間以上)勤務※をしている場合
D37: ※多機能型事業所又は障害者支援施設等の併設する別事業所の業務を兼務する場合は、その勤務時間も含む（法人本部及び併設していない他事業所の業務は含みません）
C38: ２）『非常勤』：『常勤』に該当しない場合
C39: ３）『専従』：当該事業所において、専らその業務に従事している場合
C40: ４）『兼務』：当該事業所において、他の業務を兼ねている場合（例：管理者＋サービス提供責任者、サービス提供責任者＋従業者（ヘルパー））
D41: ※『兼務』の場合、職種別に業務時間を記入してください。
B42: 注４ 「開所時間」は従業者が勤務する時間を記入してください。

Sheet 記載例２
A1: 参考様式４－３－２（記載例）
A2: 時間別勤務状況一覧表(保育所等訪問支援） | DH2: ●
A4: 事業所番号 | J4: =IF(記載例１!G4="","",記載例１!G4) -> 0123456789 | V4: 事業所名 | AD4: =IF(記載例１!R4="","",記載例１!R4) -> さわやか保育支援
A6: 職種 | P6: 氏名 | AE6: 勤務時間
AE7: 0.375 | AI7: 0.39583333 | AM7: 0.41666667 | AQ7: 0.4375 | AU7: 0.45833333 | AY7: 0.47916667 | BC7: 0.5 | BG7: 0.52083333 | BK7: 0.54166667 | BO7: 0.5625 | BS7: 0.58333333 | BW7: 0.60416667 | CA7: 0.625 | CE7: 0.64583333 | CI7: 0.66666667 | CM7: 0.6875 | CQ7: 0.70833333 | CU7: 0.72916667 | CY7: 0.75 | DC7: 計
A8: 訪問支援員 | P8: 札幌 次郎 | BK8: ● | BO8: ● | BS8: ● | BW8: ● | CA8: ● | CE8: ● | CI8: ● | CM8: ● | DC8: =COUNTA(AE8:DB8)/2 -> 4
A9: 訪問支援員 | P9: 札幌 三郎 | AM9: ● | AQ9: ● | AU9: ● | AY9: ● | BC9: ● | BG9: ● | DC9: =COUNTA(AE9:DB9)/2 -> 3
DC10: =COUNTA(AE10:DB10)/2 -> 0
DC11: =COUNTA(AE11:DB11)/2 -> 0
DC12: =COUNTA(AE12:DB12)/2 -> 0
DC13: =COUNTA(AE13:DB13)/2 -> 0
DC14: =COUNTA(AE14:DB14)/2 -> 0
DC15: =COUNTA(AE15:DB15)/2 -> 0
DC16: =COUNTA(AE16:DB16)/2 -> 0
DC17: =COUNTA(AE17:DB17)/2 -> 0
DC18: =COUNTA(AE18:DB18)/2 -> 0
DC19: =COUNTA(AE19:DB19)/2 -> 0
DC20: =COUNTA(AE20:DB20)/2 -> 0
DC21: =COUNTA(AE21:DB21)/2 -> 0
... DC27: =COUNTA(AE27:DB27)/2 -> 0
A28: 配置数 | AE28: =COUNTIF(AE8:AH27,$DH$2) -> 0 | AI28: =COUNTIF(AI8:AL27,$DH$2) -> 0 | AM28: =COUNTIF(AM8:AP27,$DH$2) -> 1 | AQ28: =COUNTIF(AQ8:AT27,$DH$2) -> 1 | AU28: =COUNTIF(AU8:AX27,$DH$2) -> 1 | AY28: =COUNTIF(AY8:BB27,$DH$2) -> 1 | BC28: =COUNTIF(BC8:BF27,$DH$2) -> 1 | BG28: =COUNTIF(BG8:BJ27,$DH$2) -> 1 | BK28: =COUNTIF(BK8:BN27,$DH$2) -> 1 | BO28: =COUNTIF(BO8:BR27,$DH$2) -> 1 | BS28: =COUNTIF(BS8:BV27,$DH$2) -> 1 | BW28: =COUNTIF(BW8:BZ27,$DH$2) -> 1 | CA28: =COUNTIF(CA8:CD27,$DH$2) -> 1 | CE28: =COUNTIF(CE8:CH27,$DH$2) -> 1 | CI28: =COUNTIF(CI8:CL27,$DH$2) -> 1 | CM28: =COUNTIF(CM8:CP27,$DH$2) -> 1 | CQ28: =COUNTIF(CQ8:CT27,$DH$2) -> 0 | CU28: =COUNTIF(CU8:CX27,$DH$2) -> 0 | CY28: =COUNTIF(CY8:DB27,$DH$2) -> 0 | DC28: ー
