Workbook

Sheet 報酬算定区分（新規・児童発達支援）
A1: 市様式15
B2: 区分 | C2: =IF(ISERROR(F22/E22),"",IF(G22>=0.7,"Ⅰ","Ⅱ")) | H2: 令和 年 月 日
B3: 入力シートに人数をご入力ください。
A4: 報酬算定区分に関する届出書（児童発達支援）
B6: 事業所・施設の名称
B7: １ 異動区分 | C7: ① 継続 ② 変更 ③ 新規
B8: ２ 利用児童の状況 （※利用延べ人数の計算方法について） ①児童発達支援の利用児童10人が一月当たり10日間利用した場合は、10人×10日間＝100人/月となります。 ②児童発達支援を利用する児童のみを算出するため、放課後等デイサービスも運営する多機能型事業所においては、利用延べ人数に放課後等デイサービスの利用児童を含めないようご注意ください。
D9: 月 | E9: ① 利用延べ人数 | F9: ② ①うち未就学児 | G9: ③ 未就学児の割合 （②／①）
D10: ４月 | E10: =入力シート!AH2 -> 0 | F10: =入力シート!AH3 -> 0 | G10: =IF(ISERROR(F10/E10),"",F10/E10)
D11: ５月 | E11: =入力シート!AH4 -> 0 | F11: =入力シート!AH5 -> 0 | G11: =IF(ISERROR(F11/E11),"",F11/E11)
D12: ６月 | E12: =入力シート!AH6 -> 0 | F12: =入力シート!AH7 -> 0 | G12: =IF(ISERROR(F12/E12),"",F12/E12)
D13: ７月 | E13: =入力シート!AH8 -> 0 | F13: =入力シート!AH9 -> 0 | G13: =IF(ISERROR(F13/E13),"",F13/E13)
D14: ８月 | E14: =入力シート!AH10 -> 0 | F14: =入力シート!AH11 -> 0 | G14: =IF(ISERROR(F14/E14),"",F14/E14)
D15: ９月 | E15: =入力シート!AH12 -> 0 | F15: =入力シート!AH13 -> 0 | G15: =IF(ISERROR(F15/E15),"",F15/E15)
D16: 10月 | E16: =入力シート!AH14 -> 0 | F16: =入力シート!AH15 -> 0 | G16: =IF(ISERROR(F16/E16),"",F16/E16)
D17: 11月 | E17: =入力シート!AH16 -> 0 | F17: =入力シート!AH17 -> 0 | G17: =IF(ISERROR(F17/E17),"",F17/E17)
D18: 12月 | E18: =入力シート!AH18 -> 0 | F18: =入力シート!AH19 -> 0 | G18: =IF(ISERROR(F18/E18),"",F18/E18)
D19: １月 | E19: =入力シート!AH20 -> 0 | F19: =入力シート!AH21 -> 0 | G19: =IF(ISERROR(F19/E19),"",F19/E19)
D20: ２月 | E20: =入力シート!AH22 -> 0 | F20: =入力シート!AH23 -> 0 | G20: =IF(ISERROR(F20/E20),"",F20/E20)
D21: ３月 | E21: =入力シート!AH24 -> 0 | F21: =入力シート!AH25 -> 0 | G21: =IF(ISERROR(F21/E21),"",F21/E21)
D22: 合計 | E22: =SUM(E10:E21) -> 0 | F22: =SUM(F10:F21) -> 0 | G22: =IF(ISERROR(F22/E22),"",ROUNDUP(F22/E22,3))
G23: （小数点第２位以下切り上げ）
D24: ※①に占める②の割合が70％以上の場合は、障害児通所報酬告示第１の二の（１）「主に未就学児に対し指定児童発達支援を行う場合」の区分で請求すること。
B27: 備考 「異動区分」欄については、該当する番号に○を付してください。
B28: 医療的ケア区分に応じた基本報酬に関する届出を行う場合は別添も添付してください。

Sheet 入力シート
C1: 1 | D1: 2 | E1: 3 | F1: 4 | G1: 5 | H1: 6 | I1: 7 | J1: 8 | K1: 9 | L1: 10 | M1: 11 | N1: 12 | O1: 13 | P1: 14 | Q1: 15 | R1: 16 | S1: 17 | T1: 18 | U1: 19 | V1: 20 | W1: 21 | X1: 22 | Y1: 23 | Z1: 24 | AA1: 25 | AB1: 26 | AC1: 27 | AD1: 28 | AE1: 29 | AF1: 30 | AG1: 31 | AH1: 合計
A2: ４月 | B2: 利用延べ人数 | AH2: =SUM(C2:AG2) -> 0
B3: うち未就学児 | AH3: =SUM(C3:AG3) -> 0
A4: ５月 | B4: 利用延べ人数 | AH4: =SUM(C4:AG4) -> 0
B5: うち未就学児 | AH5: =SUM(C5:AG5) -> 0
A6: ６月 | B6: 利用延べ人数 | AH6: =SUM(C6:AG6) -> 0
B7: うち未就学児 | AH7: =SUM(C7:AG7) -> 0
A8: ７月 | B8: 利用延べ人数 | AH8: =SUM(C8:AG8) -> 0
B9: うち未就学児 | AH9: =SUM(C9:AG9) -> 0
A10: ８月 | B10: 利用延べ人数 | AH10: =SUM(C10:AG10) -> 0
B11: うち未就学児 | AH11: =SUM(C11:AG11) -> 0
A12: ９月 | B12: 利用延べ人数 | AH12: =SUM(C12:AG12) -> 0
B13: うち未就学児 | AH13: =SUM(C13:AG13) -> 0
A14: １０月 | B14: 利用延べ人数 | AH14: =SUM(C14:AG14) -> 0
B15: うち未就学児 | AH15: =SUM(C15:AG15) -> 0
A16: １１月 | B16: 利用延べ人数 | AH16: =SUM(C16:AG16) -> 0
B17: うち未就学児 | AH17: =SUM(C17:AG17) -> 0
A18: １２月 | B18: 利用延べ人数 | AH18: =SUM(C18:AG18) -> 0
B19: うち未就学児 | AH19: =SUM(C19:AG19) -> 0
A20: １月 | B20: 利用延べ人数 | AH20: =SUM(C20:AG20) -> 0
B21: うち未就学児 | AH21: =SUM(C21:AG21) -> 0
A22: ２月 | B22: 利用延べ人数 | AH22: =SUM(C22:AG22) -> 0
B23: うち未就学児 | AH23: =SUM(C23:AG23) -> 0
A24: ３月 | B24: 利用延べ人数 | AH24: =SUM(C24:AG24) -> 0
B25: うち未就学児 | AH25: =SUM(C25:AG25) -> 0
