Workbook

Sheet 小規模事業者用
A1: 業務管理体制検査調書（自主点検表）
A2: （小規模事業者用） | AA2: Ｂ | AB2: ○ | AC2: 平成
A3: 事業者(法人)名 | M3: 代表者名 | AA3: Ｃ | AC3: 令和
A4: 事業者(法人)番号 | E4: 0 | F4: 1 | H4: 0 | I4: 0 | J4: 0 | O4: 9 | P4: 0 | Q4: 1 | R4: 1 | S4: 0 | T4: 0 | AA4: Ｄ
A5: 主たる事務所 の所在地 | D5: 〒
AA6: Ｅ
A7: 点検年月日 | D7: 令和 | F7: 年 | H7: 月 | J7: 日 | K7: 点検者職・氏名 | AA7: Ｆ
A8: 連絡先 | D8: TEL | K8: E-MAIL
A10: １ 業務管理体制の確認
A11: 直近の届出年月日 | I11: 令和 | K11: 年 | M11: 月 | O11: 日 | P11: 付け 届出
A12: 事業所の一覧 | J12: 事業所一覧表を添付
A13: 法令遵守責任者 | B13: 障害者 総合支援法 | C13: (Ｂ)第51条の2 障害福祉サービス事業者 障害者支援施設設置者 | H13: 事業所数 | K13: 氏名 | Q13: 生年月日 | R13: 年 月 日
I14: 事業所 | K14: 職名
C15: (Ｃ)第51条の31 一般相談支援事業者 特定相談支援事業者 | H15: 事業所数 | K15: 氏名 | Q15: 生年月日 | R15: 年 月 日
I16: 事業所 | K16: 職名
B17: 児童福祉法 | C17: (Ｄ)第21条の5の25 障害児通所支援事業者 | H17: 事業所数 | K17: 氏名 | Q17: 生年月日 | R17: 年 月 日
I18: 事業所 | K18: 職名
C19: (Ｅ)第24条の19の2 障害児入所施設設置者 | H19: 事業所数 | K19: 氏名 | Q19: 生年月日 | R19: 年 月 日
I20: 事業所 | K20: 職名
C21: (Ｆ)第24条の38 障害児相談支援事業者 | H21: 事業所数 | K21: 氏名 | Q21: 生年月日 | R21: 年 月 日
I22: 事業所 | K22: 職名
A23: ※１ | B23: 法令遵守責任者は、事業者(法人)番号のアルファベットに対応する(Ｂ)～(Ｆ)の区分に記載してください。複数の区分がある場合、調書は区分ごと別に作成してください。
Q24: 有 | S24: 無
A25: ２ 法令遵守責任者の選任等 | E25: （１）選任・届出をしているか
E26: （２）役割を明示しているか（次の項目を定めているか～例示）※２
F27: ・ 状況の把握
F28: ・ 職員の研修
F29: ・ 法令情報の収集
F30: ・ 違反行為への対応と報告
F31: ・ 実践計画の実施と進捗状況の把握及び報告
E32: （３）役割に沿った対応をしているか※２
A33: ※２ | B33: 例示したものであり、事業者の組織形態、規模等により、法令遵守の取組の態勢、手法が異なることから、「無」にチェックがついても必ずしも不適切とするものではありません。
A35: ３ 業務管理体制の具体的な運用状況 | E35: 法令遵守の確保および不正防止のため、貴法人で策定している方針や、実際に実施している具体的な取り組み（研修、内部監査、マニュアル整備等）について記入してください。
A40: ４ 法令遵守責任者の氏名、役割及び業務内容について、法人内部に周知していますか。 | E40: ①全役職員に周知 ②一部の役職員に周知 ③周知していない
E42: （①と回答した場合）：周知方法を具体的に記入してください。 （②と回答した場合）：周知した役職員の範囲と周知方法を具体的に記入してください。また、今後の改善方針について記入してください。 （③と回答した場合）：周知していない理由を具体的に記入してください。また、今後の改善方針について記入してください。
A49: ５ 研修計画に、法令等遵守のための研修を含めていますか。 | E49: ①含めている ②含めていない
E51: （①と回答した場合）：研修の具体的な内容を記入してください。 （②と回答した場合）：その理由及び今後の方針について記入してください。
A58: ６ 各事業所が人員・運営基準に適合しているか把握していますか。 | E58: ①把握している ②把握していない
E60: （①と回答した場合）：具体的にどのように把握しているか記入してください。 （②と回答した場合）：いつまでに、どのように対応するか記入してください。
A67: ７ 訓練等給付費及び介護給付費の請求が、関係法令等に基づき適正に行われていることを把握していますか。 | E67: ①把握している ②把握していない
E69: （①と回答した場合）：具体的にどのように把握しているか記入してください。 （②と回答した場合）：いつまでに、どのように対応するか記入してください。

Sheet 小規模事業者用【記載例】
A1: 業務管理体制検査調書（自主点検表）
A2: （小規模事業者用）
A3: 事業者(法人)名 | D3: 株式会社 ○○○○○ | M3: 代表者名 | P3: 札幌 太郎 | AD3: ○
A4: 事業者(法人)番号 | D4: Ｃ | E4: 0 | F4: 1 | G4: 1 | H4: 0 | I4: 0 | J4: 0 | K4: 2 | L4: 3 | M4: 4 | N4: 5 | O4: 9 | P4: 0 | Q4: 1 | R4: 1 | S4: 0 | T4: 0
A5: 主たる事務所 の所在地 | D5: 〒 | E5: 060-8611
E6: 札幌市中央区北1条西2丁目●－●
A7: 点検年月日 | D7: 令和 | E7: 元 | F7: 年 | G7: 12 | H7: 月 | I7: 15 | J7: 日 | K7: 点検者職・氏名 | N7: 代表取締役 札幌 太郎
A8: 連絡先 | D8: TEL | E8: 011-000-0000 | K8: E-MAIL | M8: ●●●＠●.●.●
A10: １ 業務管理体制の確認
A11: 直近の届出年月日 | I11: 令和 | J11: 元 | K11: 年 | L11: 8 | M11: 月 | N11: 1 | O11: 日 | P11: 付け 届出
A12: 事業所の一覧 | J12: 事業所一覧表を添付
A13: 法令遵守責任者 | B13: 障害者 総合支援法 | C13: (Ｂ)第51条の2 障害福祉サービス事業者 障害者支援施設設置者 | H13: 事業所数 | K13: 氏名 | Q13: 生年月日
I14: 事業所 | K14: 職名
C15: (Ｃ)第51条の31 一般相談支援事業者 特定相談支援事業者 | H15: 事業所数 | I15: 13 | K15: 氏名 | L15: 札幌 太郎 | Q15: 生年月日 | R15: 26393
I16: 事業所 | K16: 職名 | L16: 代表取締役
B17: 児童福祉法 | C17: (Ｄ)第21条の5の25 障害児通所支援事業者 | H17: 事業所数 | K17: 氏名 | Q17: 生年月日 | R17: 年 月 日
I18: 事業所 | K18: 職名
C19: (Ｅ)第24条の19の2 障害児入所施設設置者 | H19: 事業所数 | K19: 氏名 | Q19: 生年月日 | R19: 年 月 日
I20: 事業所 | K20: 職名
C21: (Ｆ)第24条の38 障害児相談支援事業者 | H21: 事業所数 | K21: 氏名 | Q21: 生年月日 | R21: 年 月 日
I22: 事業所 | K22: 職名
A23: ※１ | B23: 法令遵守責任者は、事業者(法人)番号のアルファベットに対応する(Ｂ)～(Ｆ)の区分に記載してください。複数の区分がある場合、調書は区分ごと別に作成してください。
Q24: 有 | S24: 無
A25: ２ 法令遵守責任者の選任等 | E25: （１）選任・届出をしているか | Q25: ○
E26: （２）役割を明示しているか（次の項目を定めているか～例示）※２ | Q26: ○
F27: ・ 状況の把握 | Q27: ○
F28: ・ 職員の研修 | Q28: ○
F29: ・ 法令情報の収集 | Q29: ○
F30: ・ 違反行為への対応と報告 | Q30: ○
F31: ・ 実践計画の実施と進捗状況の把握及び報告 | Q31: ○
E32: （３）役割に沿った対応をしているか※２ | Q32: ○
A33: ※２ | B33: 例示したものであり、事業者の組織形態、規模等により、法令遵守の取組の態勢、手法が異なることから、「無」にチェックがついても必ずしも不適切とするものではありません。
A35: 3 業務管理体制の具体的な運用状況 | E35: 貴事業者（法人）における業務管理体制（法令等遵守）についての考え（方針）について記入してください。
A40: ４ 法令遵守責任者の氏名、役割及び業務内容について、法人内部に周知していますか。 | E40: ①全役職員に周知 ②一部の役職員に周知 ③周知していない
E42: （①と回答した場合）：周知方法を具体的に記入してください。 （②と回答した場合）：周知した役職員の範囲と周知方法を具体的に記入してください。また、今後の改善方針について記入してください。 （③と回答した場合）：周知していない理由を具体的に記入してください。また、今後の改善方針について記入してください。
A49: ５ 研修計画に、法令等遵守のための研修を含めていますか。 | E49: ①含めている ②含めていない
E51: （①と回答した場合）：研修の具体的な内容を記入してください。 （②と回答した場合）：その理由及び今後の方針について記入してください。
A58: ６ 各事業所が人員・運営基準に適合しているか把握していますか。 | E58: ①把握している ②把握していない
E60: （①と回答した場合）：具体的にどのように把握しているか記入してください。 （②と回答した場合）：いつまでに、どのように対応するか記入してください。
A67: ７ 訓練等給付費及び介護給付費の請求が、関係法令等に基づき適正に行われていることを把握していますか。 | E67: ①把握している ②把握していない
E69: （①と回答した場合）：具体的にどのように把握しているか記入してください。 （②と回答した場合）：いつまでに、どのように対応するか記入してください。

Sheet 【札幌市で使用します】集計作業用
A1: 集計作業用【法人担当者のみなさまへ⇒本市作業用シートですので、データの変更はしないで下さい】
C2: 業務管理体制の整備に関する届出事項 | W2: 自主点検の内容
W3: 提出の有無 | X3: 選任・届出 | AE3: 役割に沿った対応 | AF3: 規程を整備しているか
A4: 事業者(法人）名 | B4: 主たる 事務所の 所在地 | C4: 事業者 （法人）番号 | T4: 法令順守責任者 | U4: 事業所数 | V4: 規 模 | Y4: 役割の明示 | Z4: 状況の把握 | AA4: 職員への研修 | AB4: 法令情報の収集 | AC4: 違反行為への対応 | AD4: 実践計画の実施等 | AG4: 備考 | AH4: メールアドレス | AI4: ３ 業務管理体制の具体的な運用状況 | AJ4: 法令遵守責任者の氏名、役割及び業務内容について、法人内部に周知していますか。 | AL4: 研修計画に、法令等遵守のための研修を含めていますか。
A5: =IF(小規模事業者用!D3="","",小規模事業者用!D3) | B5: =IF(小規模事業者用!E6="","",小規模事業者用!E6) | C5: =IF(小規模事業者用!D4="","",小規模事業者用!D4) | D5: =IF(小規模事業者用!E4="","",小規模事業者用!E4) -> 0 | E5: =IF(小規模事業者用!F4="","",小規模事業者用!F4) -> 1 | F5: =IF(小規模事業者用!G4="","",小規模事業者用!G4) | G5: =IF(小規模事業者用!H4="","",小規模事業者用!H4) -> 0 | H5: =IF(小規模事業者用!I4="","",小規模事業者用!I4) -> 0 | I5: =IF(小規模事業者用!J4="","",小規模事業者用!J4) -> 0 | J5: =IF(小規模事業者用!K4="","",小規模事業者用!K4) | ... S5: =IF(小規模事業者用!T4="","",小規模事業者用!T4) -> 0 | T5: =VLOOKUP(S8,$R$11:$T$15,3) -> #N/A | U5: =VLOOKUP(S8,$R$11:$U$15,4) -> #N/A | V5: 小 | W5: =IF(小規模事業者用!Q25="","×",小規模事業者用!Q25) -> × | X5: =IF(小規模事業者用!$Q$25="","×",小規模事業者用!$Q$25) -> × | Y5: =IF(小規模事業者用!$Q$26="","×",小規模事業者用!$Q$26) -> × | Z5: =IF(小規模事業者用!$Q$27="","×",小規模事業者用!$Q$27) -> × | AA5: =IF(小規模事業者用!$Q$28="","×",小規模事業者用!$Q$28) -> × | AB5: =IF(小規模事業者用!$Q$29="","×",小規模事業者用!$Q$29) -> × | AC5: =IF(小規模事業者用!$Q$30="","×",小規模事業者用!$Q$30) -> × | AD5: =IF(小規模事業者用!$Q$31="","×",小規模事業者用!$Q$31) -> × | AE5: =IF(小規模事業者用!$Q$32="","×",小規模事業者用!$Q$32) -> × | AF5: － | AH5: =IF(小規模事業者用!M8="","",小規模事業者用!M8) | AI5: =IF(小規模事業者用!E37="","",小規模事業者用!E37) | AJ5: =IF(小規模事業者用!Q40="","",小規模事業者用!Q40) | AK5: =IF(小規模事業者用!E45="","",小規模事業者用!E45) | AL5: =IF(小規模事業者用!Q49="","",小規模事業者用!Q49) | AM5: =IF(小規模事業者用!E54="","",小規模事業者用!E54)
AF7: 小規模は該当無し
S8: =IF(小規模事業者用!D4=S11,R11,IF(小規模事業者用!D4=S12,R12,IF(小規模事業者用!D4=S13,R13,IF(小規模事業者用!D4=S14,R14,IF(小規模事業者用!D4=S15,R15))))) -> FALSE
R9: VLOOKUP設定欄
R10: 番号 | S10: 区分 | T10: 氏名 | U10: 事業所数 | W10: 事業所数 | X10: 規模
R11: 1 | S11: Ｂ | T11: =小規模事業者用!L13 -> 0 | U11: =小規模事業者用!I13 -> 0 | W11: 1 | X11: 小
R12: 2 | S12: Ｃ | T12: =小規模事業者用!L15 -> 0 | U12: =小規模事業者用!I15 -> 0 | W12: 20 | X12: 中
R13: 3 | S13: Ｄ | T13: =小規模事業者用!L17 -> 0 | U13: =小規模事業者用!I17 -> 0 | W13: 100 | X13: 大
R14: 4 | S14: Ｅ | T14: =小規模事業者用!L19 -> 0 | U14: =小規模事業者用!I19 -> 0
R15: 5 | S15: Ｆ | T15: =小規模事業者用!L21 -> 0 | U15: =小規模事業者用!I21 -> 0
